BEGIN:VCALENDAR
VERSION:2.0
PRODID:-//My Key West Portal is the Social Calendar for the Florida Keys and Key West - ECPv6.15.11//NONSGML v1.0//EN
CALSCALE:GREGORIAN
METHOD:PUBLISH
X-ORIGINAL-URL:https://mykeywestportal.com
X-WR-CALDESC:Events for My Key West Portal is the Social Calendar for the Florida Keys and Key West
REFRESH-INTERVAL;VALUE=DURATION:PT1H
X-Robots-Tag:noindex
X-PUBLISHED-TTL:PT1H
BEGIN:VTIMEZONE
TZID:UTC
BEGIN:STANDARD
TZOFFSETFROM:+0000
TZOFFSETTO:+0000
TZNAME:UTC
DTSTART:20170101T000000
END:STANDARD
END:VTIMEZONE
BEGIN:VEVENT
DTSTART;TZID=UTC:20180203T160000
DTEND;TZID=UTC:20180203T210000
DTSTAMP:20260423T204446
CREATED:20180115T014941Z
LAST-MODIFIED:20180115T014941Z
UID:1736-1517673600-1517691600@mykeywestportal.com
SUMMARY:11th Annual Rock N’ Roast
DESCRIPTION:Over the last eleven years\, the Rock N’ Roast has become one of Key West’s most loved events. \nThe mix of live music\, the island’s largest Silent Auction\, and a fabulous Cuban pork dinner and dessert buffet makes it fun for the whole family. \nhttp://basilicaschoolkeywest.com/2018/01/11th-annual-rock-n-roast/ \n 
URL:https://mykeywestportal.com/event/11th-annual-rock-n-roast/
ATTACH;FMTTYPE=image/jpeg:https://mykeywestportal.com/wp-content/uploads/2018/01/rockandroast_2018_keywest_basillicaschool.jpg
END:VEVENT
BEGIN:VEVENT
DTSTART;VALUE=DATE:20180204
DTEND;VALUE=DATE:20180205
DTSTAMP:20260423T204446
CREATED:20180115T011810Z
LAST-MODIFIED:20180115T013630Z
UID:1301-1517716800-1517788799@mykeywestportal.com
SUMMARY:Local's Day at the Botanical Gardens
DESCRIPTION:Free admission for Florida Keys residents and students. \nMonroe County Florida ID Required. \nYou can still bring a visitor or out of town guest for free! \n\n\n\n\n\n\n\n\n\n\n\n\n\n\n\n https://keywest.garden/event/locals-day/all/\nFor more info contact: info@keywest.garden
URL:https://mykeywestportal.com/event/locals-day-at-the-botanical-gardens/
LOCATION:Key West Botanical Garden\, 5210 College Rd\, Key West\, FL\, 33040\, United States
ATTACH;FMTTYPE=image/jpeg:https://mykeywestportal.com/wp-content/uploads/2018/01/KWBTG_logo_botanicalgardens.jpg
END:VEVENT
BEGIN:VEVENT
DTSTART;TZID=UTC:20180216T190000
DTEND;TZID=UTC:20180216T210000
DTSTAMP:20260423T204446
CREATED:20180103T201520Z
LAST-MODIFIED:20180117T200719Z
UID:698-1518807600-1518814800@mykeywestportal.com
SUMMARY:Bayview Park Movie Series: Beauty and the Beast
DESCRIPTION:  \n  \n  \nWhen Disney's live-action "Beauty and the Beast" came to theaters it has a lot of expectations to live up to\, and rightfully so.\nThe story of Belle\, an outsider from a small French town who becomes prisoner to an arrogant prince-turned-Beast in an enchanted castle\, is one of the most beloved Disney classics.\nCheck out this All-Star Lineup and how the "Live" Characters compare to the "Animated Characters"\nhttp://www.businessinsider.com/beauty-and-the-beast-cast-compared-original-animated-movie-2017-3/#emma-watson-stars-as-belle-while-her-outfits-differ-slightly-from-the-original-designs-we-think-disney-nailed-belles-overall-look-and-especially-her-hairstyles-1 \n  \n\n  \n \n  \nPopcorn provided by SOS Foundation\,  food\, and drinks available for purchase. Low-lying chairs and blankets welcomed and this is a no smoking event. Friendly pets are invited\, too!
URL:https://mykeywestportal.com/event/bayview-park-movie-series-beauty-and-the-beast/
LOCATION:Bayview Park\, Truman Ave\, and Eisenhower Dr\, Key West\, FL\, 33040\, United States
ATTACH;FMTTYPE=image/jpeg:https://mykeywestportal.com/wp-content/uploads/2017/12/bayviewpark_outdoormovie_beautyandthebeast.jpg
END:VEVENT
BEGIN:VEVENT
DTSTART;TZID=UTC:20180120T133000
DTEND;TZID=UTC:20180120T143000
DTSTAMP:20260423T204446
CREATED:20180115T013323Z
LAST-MODIFIED:20180115T013323Z
UID:1328-1516455000-1516458600@mykeywestportal.com
SUMMARY:2017-2018 Speaker Series
DESCRIPTION:Interested in learning more about the complex and fascinating environmental world of Key West and the Florida Keys? \nThen join us each month for our Speaker Series in The Nature Chapel. \n\n\n\n\n\n\n\n\n\n\n\n\nAdmission is $5 for non-members. Free for garden members! \nBe sure to come early for the Native Plant Sale! From 9 a.m.-noon\, we offer more than 150 species of butterfly- and bird-attracting native\, rare and endangered plants propagated and available in the Botanical Garden Nursery. A great way to create your customized Key West garden — and support the Key West Tropical Forest and Botanical Garden\, too. \n  \nHere’s the complete 2017-18 Speakers Series line-up: \n\n12-16-17: Keys Gardens: Before and After Irma — Robin Robinson\, Key West master gardener\, author and columnist\n1-20-18: Birding in Key West for Amateurs — Robyn Mayer\, Florida park ranger\, Fort Taylor State Park\n2-17-18: Greening the Keys — Alison Higgins\, Key West sustainability coordinator\n3-17-18: Trees of Key West and the city ordinances — Karen DiMaria\, Key West municipal arborist\n4-21-18: Understanding the Florida Keys and how that affects gardening — Susan Reutling\, master gardener and manager of the Tropical Garden Nursery\n5-19-18: Soil creation and remediation for the Florida Keys — Harry Crissy\, Monroe County extension agent\n6-16-18: To Be Announced\n\nhttps://keywest.garden/event/2017-2018-speaker-series/2018-01-20/ \nFor more info contact: info@keywest.garden
URL:https://mykeywestportal.com/event/2017-2018-speaker-series/
ATTACH;FMTTYPE=image/jpeg:https://mykeywestportal.com/wp-content/uploads/2018/01/KWBTG_logo_botanicalgardens.jpg
END:VEVENT
BEGIN:VEVENT
DTSTART;TZID=UTC:20180228T180000
DTEND;TZID=UTC:20180228T210000
DTSTAMP:20260423T204446
CREATED:20180117T200303Z
LAST-MODIFIED:20180117T200529Z
UID:1773-1519840800-1519851600@mykeywestportal.com
SUMMARY:Summer of Love Celebration
DESCRIPTION:The 1960s ushered in a social revolution that helped make Key West what it is today. \nCelebrate the summer that started it all! A time when love bloomed with psychedelic flowers\, and hippies communed with music. \nEnjoy drinks and fun food\, and reconnect with the spirit of the movement with the sights\, sounds and fashions of the era. \nhttps://tskw.org/arts-eats/
URL:https://mykeywestportal.com/event/summer-of-love-celebration/
ATTACH;FMTTYPE=image/jpeg:https://mykeywestportal.com/wp-content/uploads/2018/01/summeroflove_keywestevents_artsandeats.jpg
END:VEVENT
END:VCALENDAR