BEGIN:VCALENDAR
VERSION:2.0
PRODID:-//My Key West Portal is the Social Calendar for the Florida Keys and Key West - ECPv6.15.11//NONSGML v1.0//EN
CALSCALE:GREGORIAN
METHOD:PUBLISH
X-ORIGINAL-URL:https://mykeywestportal.com
X-WR-CALDESC:Events for My Key West Portal is the Social Calendar for the Florida Keys and Key West
REFRESH-INTERVAL;VALUE=DURATION:PT1H
X-Robots-Tag:noindex
X-PUBLISHED-TTL:PT1H
BEGIN:VTIMEZONE
TZID:UTC
BEGIN:STANDARD
TZOFFSETFROM:+0000
TZOFFSETTO:+0000
TZNAME:UTC
DTSTART:20170101T000000
END:STANDARD
END:VTIMEZONE
BEGIN:VEVENT
DTSTART;TZID=UTC:20180120T133000
DTEND;TZID=UTC:20180120T143000
DTSTAMP:20260423T190536
CREATED:20180115T013323Z
LAST-MODIFIED:20180115T013323Z
UID:1328-1516455000-1516458600@mykeywestportal.com
SUMMARY:2017-2018 Speaker Series
DESCRIPTION:Interested in learning more about the complex and fascinating environmental world of Key West and the Florida Keys? \nThen join us each month for our Speaker Series in The Nature Chapel. \n\n\n\n\n\n\n\n\n\n\n\n\nAdmission is $5 for non-members. Free for garden members! \nBe sure to come early for the Native Plant Sale! From 9 a.m.-noon\, we offer more than 150 species of butterfly- and bird-attracting native\, rare and endangered plants propagated and available in the Botanical Garden Nursery. A great way to create your customized Key West garden — and support the Key West Tropical Forest and Botanical Garden\, too. \n  \nHere’s the complete 2017-18 Speakers Series line-up: \n\n12-16-17: Keys Gardens: Before and After Irma — Robin Robinson\, Key West master gardener\, author and columnist\n1-20-18: Birding in Key West for Amateurs — Robyn Mayer\, Florida park ranger\, Fort Taylor State Park\n2-17-18: Greening the Keys — Alison Higgins\, Key West sustainability coordinator\n3-17-18: Trees of Key West and the city ordinances — Karen DiMaria\, Key West municipal arborist\n4-21-18: Understanding the Florida Keys and how that affects gardening — Susan Reutling\, master gardener and manager of the Tropical Garden Nursery\n5-19-18: Soil creation and remediation for the Florida Keys — Harry Crissy\, Monroe County extension agent\n6-16-18: To Be Announced\n\nhttps://keywest.garden/event/2017-2018-speaker-series/2018-01-20/ \nFor more info contact: info@keywest.garden
URL:https://mykeywestportal.com/event/2017-2018-speaker-series/
ATTACH;FMTTYPE=image/jpeg:https://mykeywestportal.com/wp-content/uploads/2018/01/KWBTG_logo_botanicalgardens.jpg
END:VEVENT
BEGIN:VEVENT
DTSTART;TZID=UTC:20180129T180000
DTEND;TZID=UTC:20180129T210000
DTSTAMP:20260423T190536
CREATED:20180117T194942Z
LAST-MODIFIED:20180117T194942Z
UID:1765-1517248800-1517259600@mykeywestportal.com
SUMMARY:Mystery on the Orient Express
DESCRIPTION:The treasures and traditions of Asia set the tone for this sumptuous evening of art\, mystery and intrigue. \nDelight in Asian-inflected food and drink as you peruse our hosts’ collection of Japanese woodblock prints\, Chinese cloisonné objets d’art\, Ikebana and other treasures\, transporting you to the Far East from the shores of Cayo Hueso. \nBe the first to discover the secrets hidden in the woodblock prints\, and walk away with a fabulous door prize! \nhttps://tskw.org/arts-eats/
URL:https://mykeywestportal.com/event/mystery-on-the-orient-express/
ATTACH;FMTTYPE=image/png:https://mykeywestportal.com/wp-content/uploads/2018/01/artsandeats_murder_ontheorientexpress.png
END:VEVENT
END:VCALENDAR