BEGIN:VCALENDAR
VERSION:2.0
PRODID:-//My Key West Portal is the Social Calendar for the Florida Keys and Key West - ECPv6.15.11//NONSGML v1.0//EN
CALSCALE:GREGORIAN
METHOD:PUBLISH
X-ORIGINAL-URL:https://mykeywestportal.com
X-WR-CALDESC:Events for My Key West Portal is the Social Calendar for the Florida Keys and Key West
REFRESH-INTERVAL;VALUE=DURATION:PT1H
X-Robots-Tag:noindex
X-PUBLISHED-TTL:PT1H
BEGIN:VTIMEZONE
TZID:UTC
BEGIN:STANDARD
TZOFFSETFROM:+0000
TZOFFSETTO:+0000
TZNAME:UTC
DTSTART:20170101T000000
END:STANDARD
END:VTIMEZONE
BEGIN:VEVENT
DTSTART;TZID=UTC:20180120T130000
DTEND;TZID=UTC:20180120T150000
DTSTAMP:20260423T190129
CREATED:20180117T192912Z
LAST-MODIFIED:20180117T192912Z
UID:1748-1516453200-1516460400@mykeywestportal.com
SUMMARY:Arts & Eats
DESCRIPTION:Haven’t you always wondered what secrets are hidden within Old Town’s meandering side streets? \nHere’s your private invitation to enjoy libations and a plentiful luncheon personally prepared by home-chef David Genest and served at his charming conch cottage and garden art studio nestled on a secluded lane. \nDiscover David’s unique portraits & abstracts prior his spring group show at The Studios. \nVisit http://www.davidgenest.com \n 
URL:https://mykeywestportal.com/event/arts-eats/
LOCATION:Vernissage\, Cornish Lane\, Key West\, FL\, 33040\, United States
ATTACH;FMTTYPE=image/jpeg:https://mykeywestportal.com/wp-content/uploads/2018/01/artsandeats_keywest_events1.jpg
END:VEVENT
END:VCALENDAR