BEGIN:VCALENDAR
VERSION:2.0
PRODID:-//My Key West Portal is the Social Calendar for the Florida Keys and Key West - ECPv6.15.11//NONSGML v1.0//EN
CALSCALE:GREGORIAN
METHOD:PUBLISH
X-WR-CALNAME:My Key West Portal is the Social Calendar for the Florida Keys and Key West
X-ORIGINAL-URL:https://mykeywestportal.com
X-WR-CALDESC:Events for My Key West Portal is the Social Calendar for the Florida Keys and Key West
REFRESH-INTERVAL;VALUE=DURATION:PT1H
X-Robots-Tag:noindex
X-PUBLISHED-TTL:PT1H
BEGIN:VTIMEZONE
TZID:UTC
BEGIN:STANDARD
TZOFFSETFROM:+0000
TZOFFSETTO:+0000
TZNAME:UTC
DTSTART:20170101T000000
END:STANDARD
END:VTIMEZONE
BEGIN:VEVENT
DTSTART;TZID=UTC:20180411T173000
DTEND;TZID=UTC:20180411T193000
DTSTAMP:20260424T071539
CREATED:20180117T195754Z
LAST-MODIFIED:20180117T195754Z
UID:1768-1523467800-1523475000@mykeywestportal.com
SUMMARY:Both Hands on the Wheel
DESCRIPTION:Functional craft and ceramic fine art take center stage at Pat Timyan’s Truman Annex home\, with one of the island’s showcase collections of folk\, outsider and local art plus a decade’s worth of Pat’s own creations from the potter’s wheel. \nhttps://tskw.org/arts-eats/
URL:https://mykeywestportal.com/event/both-hands-on-the-wheel/
ATTACH;FMTTYPE=image/jpeg:https://mykeywestportal.com/wp-content/uploads/2018/01/artsandeats_handsonwheel_keywestevents.jpg
END:VEVENT
END:VCALENDAR