BEGIN:VCALENDAR
VERSION:2.0
PRODID:-//My Key West Portal is the Social Calendar for the Florida Keys and Key West - ECPv6.15.11//NONSGML v1.0//EN
CALSCALE:GREGORIAN
METHOD:PUBLISH
X-ORIGINAL-URL:https://mykeywestportal.com
X-WR-CALDESC:Events for My Key West Portal is the Social Calendar for the Florida Keys and Key West
REFRESH-INTERVAL;VALUE=DURATION:PT1H
X-Robots-Tag:noindex
X-PUBLISHED-TTL:PT1H
BEGIN:VTIMEZONE
TZID:America/Halifax
BEGIN:DAYLIGHT
TZOFFSETFROM:-0400
TZOFFSETTO:-0300
TZNAME:ADT
DTSTART:20170312T060000
END:DAYLIGHT
BEGIN:STANDARD
TZOFFSETFROM:-0300
TZOFFSETTO:-0400
TZNAME:AST
DTSTART:20171105T050000
END:STANDARD
BEGIN:DAYLIGHT
TZOFFSETFROM:-0400
TZOFFSETTO:-0300
TZNAME:ADT
DTSTART:20180311T060000
END:DAYLIGHT
BEGIN:STANDARD
TZOFFSETFROM:-0300
TZOFFSETTO:-0400
TZNAME:AST
DTSTART:20181104T050000
END:STANDARD
BEGIN:DAYLIGHT
TZOFFSETFROM:-0400
TZOFFSETTO:-0300
TZNAME:ADT
DTSTART:20190310T060000
END:DAYLIGHT
BEGIN:STANDARD
TZOFFSETFROM:-0300
TZOFFSETTO:-0400
TZNAME:AST
DTSTART:20191103T050000
END:STANDARD
END:VTIMEZONE
BEGIN:VTIMEZONE
TZID:UTC
BEGIN:STANDARD
TZOFFSETFROM:+0000
TZOFFSETTO:+0000
TZNAME:UTC
DTSTART:20170101T000000
END:STANDARD
END:VTIMEZONE
BEGIN:VEVENT
DTSTART;TZID=America/Halifax:20180817T090000
DTEND;TZID=America/Halifax:20180817T200000
DTSTAMP:20260425T082842
CREATED:20180625T183018Z
LAST-MODIFIED:20180625T183018Z
UID:3997-1534496400-1534536000@mykeywestportal.com
SUMMARY:Fill and Chill
DESCRIPTION:Come CHILL while we FILL your tank! \nEnjoy snacks\, share diving stories\, and chat with team members about anything on your mind \n*Tanks will be filled for FREE \n\nlimit of 4 per guest\n\nProof of SCUBA Certification required
URL:https://mykeywestportal.com/event/fill-and-chill/
LOCATION:Diver's Direct\, 535 Greene St\, Key West\, FL\, 33040\, United States
ATTACH;FMTTYPE=image/jpeg:https://mykeywestportal.com/wp-content/uploads/2018/06/DiversDirect_ChillAndFill_ScubaTanks_KeyWest.jpg
END:VEVENT
BEGIN:VEVENT
DTSTART;TZID=America/Halifax:20181019T100000
DTEND;TZID=America/Halifax:20181019T235900
DTSTAMP:20260425T082842
CREATED:20180920T162117Z
LAST-MODIFIED:20180920T162117Z
UID:5466-1539943200-1539993540@mykeywestportal.com
SUMMARY:Body Painting at Paradise Tattoo
DESCRIPTION:Fantasy Fest 2018\nOh\, The Games We Play\nBody Painting with Wiser Oner\nCome get painted by celebrity body painter\, WiserOner from Naked Vegas and his Body artist crew. \n\nStencils\nFull body art\nProfessional photo shoot\nCostumes\nPaint accessories\n$3 Bud Light and Bud roadies\n\nFor appointment\, call 305-292-9110 to make an appointment \n**Walk in's may be available
URL:https://mykeywestportal.com/event/body-painting-at-paradise-tattoo/
LOCATION:Paradise Tattoo\, 627 Duval St\, Key West\, FL\, 33040\, United States
ATTACH;FMTTYPE=image/jpeg:https://mykeywestportal.com/wp-content/uploads/2018/09/ParadiseTattoo_BodyPainting_FantasyFest.jpg
END:VEVENT
BEGIN:VEVENT
DTSTART;TZID=America/Halifax:20181019T120000
DTEND;TZID=America/Halifax:20181019T170000
DTSTAMP:20260425T082842
CREATED:20180920T163808Z
LAST-MODIFIED:20180920T163832Z
UID:5496-1539950400-1539968400@mykeywestportal.com
SUMMARY:Havana Cabana Pool Party
DESCRIPTION:Fantasy Fest 2018\nOh\, The Games We Play\nHavana Cabana Pool Party\nCome party at the LARGEST POOL IN KEY WEST! \n\nDJ Top Jimmy\n\n1pm - 5pm\n\n\nFloridita food truck with authentic cuban food\nDrink specials\nGames\n\nJenga\nPing pong\nCornhole
URL:https://mykeywestportal.com/event/5496/
LOCATION:Havana Cabana\, 3420 N. Roosevelt Blvd\, Key West\, FL\, 33040\, United States
ATTACH;FMTTYPE=image/jpeg:https://mykeywestportal.com/wp-content/uploads/2018/09/HavanaCabana_PoolParty_FantasyFest.jpg
END:VEVENT
BEGIN:VEVENT
DTSTART;TZID=America/Halifax:20181019T120000
DTEND;TZID=America/Halifax:20181019T235900
DTSTAMP:20260425T082842
CREATED:20180723T162242Z
LAST-MODIFIED:20180723T162242Z
UID:4767-1539950400-1539993540@mykeywestportal.com
SUMMARY:Goombay Festival
DESCRIPTION:Fantasy Fest 2018\nOh\, The Games We Play\nGoombay Festival \n  \nThis exuberant street party is FAMILY FRIENDLY \nCome join us for island arts & crafts\, food\, and music ranging from gospel to reggae.
URL:https://mykeywestportal.com/event/goombay-festival/
LOCATION:Bahama Village\, Corner of Petronia St. & Whitehead St.\, Key West\, FL\, 33040\, United States
ATTACH;FMTTYPE=image/jpeg:https://mykeywestportal.com/wp-content/uploads/2018/07/Goombay_FantastFestival_BahamaVillage_KeyWest.jpg
END:VEVENT
BEGIN:VEVENT
DTSTART;TZID=America/Halifax:20181019T130000
DTEND;TZID=America/Halifax:20181019T130000
DTSTAMP:20260425T082842
CREATED:20180920T155107Z
LAST-MODIFIED:20180920T155107Z
UID:5432-1539954000-1539954000@mykeywestportal.com
SUMMARY:Body Painting and Sunsets
DESCRIPTION:Fantasy Fest 2018\nOh\, The Games We Play\nFemme Fatale Quatre Body Art\nBecome a Canvas and join the premier all girl team of body artists daily! \n\nSmall body art pieces\nFull body art pieces\nWaterproof and sweat proof options\nBling bar\nSunset viewing\nFood and drink available for purchase\n\nBook appointments NOW by calling or texting 850-596-4065 \n**Walk up may be available\, but not gaurantee** \nCheck out the FB page "Femme Fatale Quatre Body Art" to check out some work
URL:https://mykeywestportal.com/event/body-painting-and-sunsets/
LOCATION:Sunset Pier\, 0 Duval st\, Key West\, FL\, 33040\, United States
ATTACH;FMTTYPE=image/jpeg:https://mykeywestportal.com/wp-content/uploads/2018/09/FemmeFatale_BodyArt_SunsetPier_FantasyFest.jpg
END:VEVENT
BEGIN:VEVENT
DTSTART;TZID=America/Halifax:20180713T153000
DTEND;TZID=America/Halifax:20180713T163000
DTSTAMP:20260425T082842
CREATED:20180713T152220Z
LAST-MODIFIED:20180713T153051Z
UID:4354-1531495800-1531499400@mykeywestportal.com
SUMMARY:Lego Club
DESCRIPTION:LEGO CLUB\n**NO registration required \nIf you love Legos and being creative\, then join us every Friday to build some adventures! \n\nLegos are provided by the library\n\nLego donations are appreciated\n\n\n\n 
URL:https://mykeywestportal.com/event/lego-club/
ATTACH;FMTTYPE=image/jpeg:https://mykeywestportal.com/wp-content/uploads/2018/07/ReShot_LegoClub_KeyWest_Library.jpg
END:VEVENT
BEGIN:VEVENT
DTSTART;TZID=America/Halifax:20181019T180000
DTEND;TZID=America/Halifax:20181019T220000
DTSTAMP:20260425T082842
CREATED:20180723T162921Z
LAST-MODIFIED:20180723T162921Z
UID:4773-1539972000-1539986400@mykeywestportal.com
SUMMARY:Royal Coronation
DESCRIPTION:Fantasy Fest 2018\nOh\, The Games We Play\nRoyal Coronation\n  \nThe final caucus with the candidates for King & Queen of Fantasy Fest. \nThis is a 2 hour event that will include entertainment by local celebrities and the candidates themselves. \nGeneral admission and VIP seating is available here. \nThis is a benefit for AIDS Help\, Inc.
URL:https://mykeywestportal.com/event/royal-coronation/
LOCATION:Key West Amphitheater\, 35 E Quay Rd\, Key West\, FL\, 33040\, United States
ATTACH;FMTTYPE=image/jpeg:https://mykeywestportal.com/wp-content/uploads/2018/07/RoyalCoronation_KeyWest_Fantasyfest2018.jpg
END:VEVENT
BEGIN:VEVENT
DTSTART;TZID=America/Halifax:20180720T181500
DTEND;TZID=America/Halifax:20180720T191500
DTSTAMP:20260425T082842
CREATED:20180630T154230Z
LAST-MODIFIED:20180630T154230Z
UID:4241-1532110500-1532114100@mykeywestportal.com
SUMMARY:Younger Kids Capoeira Gymnastics
DESCRIPTION:Weekly Tumbling Classes \nWhat’s included: \n\nPhysical activity\, creative and dramatic play\, and music are key to lifelong and personal success.\nA rich combination of dance\, acrobatics\, self-defense techniques and music\, capoeira is a uniquely effective tool for activating the minds and bodies of children of all ages.\n\nPromotes physical fitness and health by increasing strength\, flexibility\, and endurance.\n\n\n\n  \nFriday: 4 yrs - 8 yrs \n"Capoeira Tumbling – An Afro- Brazilian Martial Art that cultivates self- transformation through physical\, mental\, and spiritual Reiki.Combining dance\, and self-defense\, it builds gymnastic skills and flexibility\, strength and a heightened awareness of one’s body. Practiced to the rhythm of ancient African instruments\, Capoeira encourages self-expression and resourcefulness--- it is an intense fitness program that can be adapted to any body or physical ability." \nhttps://www.facebook.com/events/240225256560108/?event_time_id=240229263226374
URL:https://mykeywestportal.com/event/younger-kids-capoeira-gymnastics-2/
LOCATION:Spirit Play Gymnasium\, 5800 Overseas Hwy\, Ste 40\, Marathon\, FL\, 33050\, United States
ATTACH;FMTTYPE=image/jpeg:https://mykeywestportal.com/wp-content/uploads/2018/06/SpiritPlayGymnasium_MarathonFlorida.jpg
END:VEVENT
BEGIN:VEVENT
DTSTART;TZID=America/Halifax:20180907T190000
DTEND;TZID=America/Halifax:20180907T203000
DTSTAMP:20260425T082842
CREATED:20180907T172617Z
LAST-MODIFIED:20180907T172617Z
UID:5226-1536346800-1536352200@mykeywestportal.com
SUMMARY:Flip Out Fridays
DESCRIPTION:Open Gym\n\nTumble track\nBars\nBeams\nVault\n\n*Supervised time to work on existing skills...non-instructional \nPricing: \n\n$15 members\n$20 non-members\n$50 punch card available for members (5 visits)
URL:https://mykeywestportal.com/event/flip-out-fridays/
LOCATION:Key West Sports Academy\, 700 Truman Ave\, Key West\, FL\, 33040\, United States
ATTACH;FMTTYPE=image/jpeg:https://mykeywestportal.com/wp-content/uploads/2018/09/FlipOutFridays_KWSA.jpg
END:VEVENT
BEGIN:VEVENT
DTSTART;TZID=America/Halifax:20181019T193000
DTEND;TZID=America/Halifax:20181019T193000
DTSTAMP:20260425T082842
CREATED:20180920T162950Z
LAST-MODIFIED:20180920T163240Z
UID:5477-1539977400-1539977400@mykeywestportal.com
SUMMARY:Madame Dujours Magical Game Show and Burlesque Experience
DESCRIPTION:Fantasy Fest 2018\nOh\, The Games We Play\nMadame Dujours Magical Game Show and Burlesque Experience\nAn astonishing and interactive event awaits as Key West Burlesque and world renowned magician\, Nick Locapo\, take the stage. \n\nOne part live game show\nTwo parts theatrical burlesque\nAll parts fun\n\nEvery night\, audience members have a chance to win cash and prizes as the performers compete in the ultimate episode of miraculous amusement on the stage. \nFor tickets\, visit:  https://www.waterfrontplayhouse.org/shows/key-west-burlesque/ \nOr call 305-294-5015
URL:https://mykeywestportal.com/event/madame-dujours-magical-game-show-and-burlesque-experience/
LOCATION:The Waterfront Playhouse\, 310 Wall St\, Key West\, FL\, 33040\, United States
ATTACH;FMTTYPE=image/jpeg:https://mykeywestportal.com/wp-content/uploads/2018/09/MadameDujours_KeyWest_BurlesqueShow.jpg
END:VEVENT
BEGIN:VEVENT
DTSTART;TZID=America/Halifax:20181019T210000
DTEND;TZID=America/Halifax:20181019T210000
DTSTAMP:20260425T082842
CREATED:20180723T163701Z
LAST-MODIFIED:20180723T163701Z
UID:4776-1539982800-1539982800@mykeywestportal.com
SUMMARY:Freaky Tiki Party
DESCRIPTION:Fantasy Fest 2018\nOh\, The Games We Play\nFreaky Tiki Party\n  \nKick-off 2018 Fantasy Fest in the best way! \nJoin all sorts of Retro Freaks & Tiki Geeks with Sideshow Monsters\, Oddities\, and more. \nDJ Gyver will be there all night to help you get your FREAK on!
URL:https://mykeywestportal.com/event/freaky-tiki-party/
LOCATION:Tiki House Key West\, 430 Greene St\, Key West\, FL\, 33040\, United States
ATTACH;FMTTYPE=image/jpeg:https://mykeywestportal.com/wp-content/uploads/2018/07/FreakyTiki_FantasyFest_TikiHouse.jpg
END:VEVENT
BEGIN:VEVENT
DTSTART;VALUE=DATE:20181018
DTEND;VALUE=DATE:20181019
DTSTAMP:20260425T082842
CREATED:20180716T141730Z
LAST-MODIFIED:20180716T141730Z
UID:4494-1539835200-1539907199@mykeywestportal.com
SUMMARY:Bay Life Men's Advance 2018
DESCRIPTION:Annual men's trip to Key Largo! FORWARD 2.0 is the theme and it will feature sessions with Pastor Mark\, Scott Ranck\, Danny Agosto\, and another two men who will be sharing their personal stories. Activities on Friday\, mission event on Saturday\, sessions throughout the weekend\, great food\, t-shirt\, and a wonderful couple days away with good company.
URL:https://mykeywestportal.com/event/bay-life-mens-advance-2018/
LOCATION:Amoray Dive Resort\, 104250 Overseas Hwy\, Key Largo\, FL\, 33037\, United States
ATTACH;FMTTYPE=image/jpeg:https://mykeywestportal.com/wp-content/uploads/2018/07/Forward2.0_BayLife_MensRetreat.jpg
END:VEVENT
BEGIN:VEVENT
DTSTART;VALUE=DATE:20181019
DTEND;VALUE=DATE:20181020
DTSTAMP:20260425T082842
CREATED:20180920T155709Z
LAST-MODIFIED:20180920T155709Z
UID:5443-1539921600-1539993599@mykeywestportal.com
SUMMARY:Dress Like Elvis Discount
DESCRIPTION:Fantasy Fest 2018\nOh\, The Games We Play\nDress Like Elvis\n15% off for everyone who dresses like elvis
URL:https://mykeywestportal.com/event/dress-like-elvis-discount/
LOCATION:Two Friends Patio Restaurant\, 512 Front St
ATTACH;FMTTYPE=image/jpeg:https://mykeywestportal.com/wp-content/uploads/2018/09/DressLikeElvis_TwoFriends_FantasyFest.jpg
END:VEVENT
BEGIN:VEVENT
DTSTART;VALUE=DATE:20181019
DTEND;VALUE=DATE:20181020
DTSTAMP:20260425T082842
CREATED:20180920T161321Z
LAST-MODIFIED:20180920T161321Z
UID:5455-1539921600-1539993599@mykeywestportal.com
SUMMARY:BART
DESCRIPTION:Fantasy Fest 2018\nOh\, The Games We Play\nBART = Bar + Art Stroll\nSelf guided wander along the docks: \n\nDante's\nConch Republic\nHalf Shell Raw Bar\nTurtle Kraals\nWaterfront Brewery\nSchooner Wharf Bar\nThe Marker\n\nCheck in to the bars using #FantasyFestBarAndArtStroll and posting a picture of the figures and sculptures \n\nYou will have a chance to win a vintage Fantasy Fest t-shirts and swag\n\n 
URL:https://mykeywestportal.com/event/bart/
LOCATION:The Schooner Warf Bar\, 202 William St\, Key West\, FL\, 33040\, United States
ATTACH;FMTTYPE=image/jpeg:https://mykeywestportal.com/wp-content/uploads/2018/09/FantasyFest2018_KeyWest_OhTheGamesWePlay.jpg
END:VEVENT
BEGIN:VEVENT
DTSTART;TZID=America/Halifax:20181020T080000
DTEND;TZID=America/Halifax:20181020T170000
DTSTAMP:20260425T082842
CREATED:20180920T172133Z
LAST-MODIFIED:20180920T193140Z
UID:5509-1540022400-1540054800@mykeywestportal.com
SUMMARY:The Beatles\, All You Need is Love - Tribute Show
DESCRIPTION:Fantasy Fest 2018\nOh\, The Games We Play\nTHE BEATLES\, All You Need is Love \nShows are at 5:30pm\, 9pm\, AND 11pm \nCome as your favorite Beatles Look-a-like or come dressed in theme to help The Green Parrot turn into the 1967 summer of love. \nHits played will include: \n\nAll My Loving\nThe Ballard of John and Yoko\nMORE
URL:https://mykeywestportal.com/event/the-beatles-all-you-need-is-love-tribute-show/
ATTACH;FMTTYPE=image/jpeg:https://mykeywestportal.com/wp-content/uploads/2018/09/TheBeatlesTribute_KeyWest_GreenParrot.jpg
END:VEVENT
BEGIN:VEVENT
DTSTART;TZID=America/Halifax:20181020T090000
DTEND;TZID=America/Halifax:20181020T170000
DTSTAMP:20260425T082842
CREATED:20180629T143840Z
LAST-MODIFIED:20180629T143840Z
UID:4113-1540026000-1540054800@mykeywestportal.com
SUMMARY:Marathon Airport 75th Anniversary
DESCRIPTION:Historic aircraft displays\nDiscovery flights\nMusic\nFood\nLocal vendors\nFun activities that are family friendly\n\nincluding MCSO Animal Farm
URL:https://mykeywestportal.com/event/marathon-airport-75th-anniversary/
LOCATION:Marathon Airport\, 9400 Overseas Hwy\, Ste 200\, Marathon\, FL\, 33040\, United States
ATTACH;FMTTYPE=image/jpeg:https://mykeywestportal.com/wp-content/uploads/2018/06/Marathon_Airport_75thAnniversary.jpg
END:VEVENT
BEGIN:VEVENT
DTSTART;TZID=UTC:20180128T100000
DTEND;TZID=UTC:20180128T140000
DTSTAMP:20260425T082842
CREATED:20180117T203734Z
LAST-MODIFIED:20180117T203734Z
UID:1788-1517133600-1517148000@mykeywestportal.com
SUMMARY:Key West Artisan Market
DESCRIPTION:An open-air bazaar filled with artists\, authors\, chef-made cuisine\, craftspeople\, performers and fresh produce representing the diversity of creativity\, ingenuity and locally made products of Key West. \nhttps://www.facebook.com/KeyWestArtisanMarket/
URL:https://mykeywestportal.com/event/key-west-artisan-market/
ATTACH;FMTTYPE=image/jpeg:https://mykeywestportal.com/wp-content/uploads/2018/01/keywest_artisanmarket.jpg
END:VEVENT
BEGIN:VEVENT
DTSTART;TZID=America/Halifax:20181019T100000
DTEND;TZID=America/Halifax:20181019T235900
DTSTAMP:20260425T082842
CREATED:20180920T162117Z
LAST-MODIFIED:20180920T162117Z
UID:5466-1539943200-1539993540@mykeywestportal.com
SUMMARY:Body Painting at Paradise Tattoo
DESCRIPTION:Fantasy Fest 2018\nOh\, The Games We Play\nBody Painting with Wiser Oner\nCome get painted by celebrity body painter\, WiserOner from Naked Vegas and his Body artist crew. \n\nStencils\nFull body art\nProfessional photo shoot\nCostumes\nPaint accessories\n$3 Bud Light and Bud roadies\n\nFor appointment\, call 305-292-9110 to make an appointment \n**Walk in's may be available
URL:https://mykeywestportal.com/event/body-painting-at-paradise-tattoo/
LOCATION:Paradise Tattoo\, 627 Duval St\, Key West\, FL\, 33040\, United States
ATTACH;FMTTYPE=image/jpeg:https://mykeywestportal.com/wp-content/uploads/2018/09/ParadiseTattoo_BodyPainting_FantasyFest.jpg
END:VEVENT
BEGIN:VEVENT
DTSTART;TZID=America/Halifax:20181019T120000
DTEND;TZID=America/Halifax:20181019T235900
DTSTAMP:20260425T082842
CREATED:20180723T162242Z
LAST-MODIFIED:20180723T162242Z
UID:4767-1539950400-1539993540@mykeywestportal.com
SUMMARY:Goombay Festival
DESCRIPTION:Fantasy Fest 2018\nOh\, The Games We Play\nGoombay Festival \n  \nThis exuberant street party is FAMILY FRIENDLY \nCome join us for island arts & crafts\, food\, and music ranging from gospel to reggae.
URL:https://mykeywestportal.com/event/goombay-festival/
LOCATION:Bahama Village\, Corner of Petronia St. & Whitehead St.\, Key West\, FL\, 33040\, United States
ATTACH;FMTTYPE=image/jpeg:https://mykeywestportal.com/wp-content/uploads/2018/07/Goombay_FantastFestival_BahamaVillage_KeyWest.jpg
END:VEVENT
BEGIN:VEVENT
DTSTART;TZID=America/Halifax:20181019T130000
DTEND;TZID=America/Halifax:20181019T130000
DTSTAMP:20260425T082842
CREATED:20180920T155107Z
LAST-MODIFIED:20180920T155107Z
UID:5432-1539954000-1539954000@mykeywestportal.com
SUMMARY:Body Painting and Sunsets
DESCRIPTION:Fantasy Fest 2018\nOh\, The Games We Play\nFemme Fatale Quatre Body Art\nBecome a Canvas and join the premier all girl team of body artists daily! \n\nSmall body art pieces\nFull body art pieces\nWaterproof and sweat proof options\nBling bar\nSunset viewing\nFood and drink available for purchase\n\nBook appointments NOW by calling or texting 850-596-4065 \n**Walk up may be available\, but not gaurantee** \nCheck out the FB page "Femme Fatale Quatre Body Art" to check out some work
URL:https://mykeywestportal.com/event/body-painting-and-sunsets/
LOCATION:Sunset Pier\, 0 Duval st\, Key West\, FL\, 33040\, United States
ATTACH;FMTTYPE=image/jpeg:https://mykeywestportal.com/wp-content/uploads/2018/09/FemmeFatale_BodyArt_SunsetPier_FantasyFest.jpg
END:VEVENT
BEGIN:VEVENT
DTSTART;TZID=America/Halifax:20181020T160000
DTEND;TZID=America/Halifax:20181020T220000
DTSTAMP:20260425T082842
CREATED:20180917T165448Z
LAST-MODIFIED:20180917T165448Z
UID:5426-1540051200-1540072800@mykeywestportal.com
SUMMARY:Shrine Club Annual Fundraiser
DESCRIPTION:Annual fundraiser for The Shrine Club! \nGift cards from local businesses will be available with all proceeds benefiting the Mahi Shrine Transportation Fund. \n\nThe transportation fund is used to transport sick\, disabled\, and injured children from the Keys to Shriner's Hospitals throughout the US\n\nCant make it\, but still want to donate? Contact Matt Gibson at 850-549-6442
URL:https://mykeywestportal.com/event/shrine-club-annual-fundraiser/
LOCATION:Paradise Tattoo\, 627 Duval St\, Key West\, FL\, 33040\, United States
ATTACH;FMTTYPE=image/jpeg:https://mykeywestportal.com/wp-content/uploads/2018/09/ShrineClub_KeyWest_Fundraiser.jpg
END:VEVENT
BEGIN:VEVENT
DTSTART;TZID=America/Halifax:20181019T193000
DTEND;TZID=America/Halifax:20181019T193000
DTSTAMP:20260425T082842
CREATED:20180920T162950Z
LAST-MODIFIED:20180920T163240Z
UID:5477-1539977400-1539977400@mykeywestportal.com
SUMMARY:Madame Dujours Magical Game Show and Burlesque Experience
DESCRIPTION:Fantasy Fest 2018\nOh\, The Games We Play\nMadame Dujours Magical Game Show and Burlesque Experience\nAn astonishing and interactive event awaits as Key West Burlesque and world renowned magician\, Nick Locapo\, take the stage. \n\nOne part live game show\nTwo parts theatrical burlesque\nAll parts fun\n\nEvery night\, audience members have a chance to win cash and prizes as the performers compete in the ultimate episode of miraculous amusement on the stage. \nFor tickets\, visit:  https://www.waterfrontplayhouse.org/shows/key-west-burlesque/ \nOr call 305-294-5015
URL:https://mykeywestportal.com/event/madame-dujours-magical-game-show-and-burlesque-experience/
LOCATION:The Waterfront Playhouse\, 310 Wall St\, Key West\, FL\, 33040\, United States
ATTACH;FMTTYPE=image/jpeg:https://mykeywestportal.com/wp-content/uploads/2018/09/MadameDujours_KeyWest_BurlesqueShow.jpg
END:VEVENT
BEGIN:VEVENT
DTSTART;VALUE=DATE:20181018
DTEND;VALUE=DATE:20181019
DTSTAMP:20260425T082842
CREATED:20180716T141730Z
LAST-MODIFIED:20180716T141730Z
UID:4494-1539835200-1539907199@mykeywestportal.com
SUMMARY:Bay Life Men's Advance 2018
DESCRIPTION:Annual men's trip to Key Largo! FORWARD 2.0 is the theme and it will feature sessions with Pastor Mark\, Scott Ranck\, Danny Agosto\, and another two men who will be sharing their personal stories. Activities on Friday\, mission event on Saturday\, sessions throughout the weekend\, great food\, t-shirt\, and a wonderful couple days away with good company.
URL:https://mykeywestportal.com/event/bay-life-mens-advance-2018/
LOCATION:Amoray Dive Resort\, 104250 Overseas Hwy\, Key Largo\, FL\, 33037\, United States
ATTACH;FMTTYPE=image/jpeg:https://mykeywestportal.com/wp-content/uploads/2018/07/Forward2.0_BayLife_MensRetreat.jpg
END:VEVENT
BEGIN:VEVENT
DTSTART;VALUE=DATE:20181019
DTEND;VALUE=DATE:20181020
DTSTAMP:20260425T082842
CREATED:20180920T155709Z
LAST-MODIFIED:20180920T155709Z
UID:5443-1539921600-1539993599@mykeywestportal.com
SUMMARY:Dress Like Elvis Discount
DESCRIPTION:Fantasy Fest 2018\nOh\, The Games We Play\nDress Like Elvis\n15% off for everyone who dresses like elvis
URL:https://mykeywestportal.com/event/dress-like-elvis-discount/
LOCATION:Two Friends Patio Restaurant\, 512 Front St
ATTACH;FMTTYPE=image/jpeg:https://mykeywestportal.com/wp-content/uploads/2018/09/DressLikeElvis_TwoFriends_FantasyFest.jpg
END:VEVENT
BEGIN:VEVENT
DTSTART;VALUE=DATE:20181019
DTEND;VALUE=DATE:20181020
DTSTAMP:20260425T082842
CREATED:20180920T161321Z
LAST-MODIFIED:20180920T161321Z
UID:5455-1539921600-1539993599@mykeywestportal.com
SUMMARY:BART
DESCRIPTION:Fantasy Fest 2018\nOh\, The Games We Play\nBART = Bar + Art Stroll\nSelf guided wander along the docks: \n\nDante's\nConch Republic\nHalf Shell Raw Bar\nTurtle Kraals\nWaterfront Brewery\nSchooner Wharf Bar\nThe Marker\n\nCheck in to the bars using #FantasyFestBarAndArtStroll and posting a picture of the figures and sculptures \n\nYou will have a chance to win a vintage Fantasy Fest t-shirts and swag\n\n 
URL:https://mykeywestportal.com/event/bart/
LOCATION:The Schooner Warf Bar\, 202 William St\, Key West\, FL\, 33040\, United States
ATTACH;FMTTYPE=image/jpeg:https://mykeywestportal.com/wp-content/uploads/2018/09/FantasyFest2018_KeyWest_OhTheGamesWePlay.jpg
END:VEVENT
BEGIN:VEVENT
DTSTART;TZID=America/Halifax:20181019T100000
DTEND;TZID=America/Halifax:20181019T235900
DTSTAMP:20260425T082842
CREATED:20180920T162117Z
LAST-MODIFIED:20180920T162117Z
UID:5466-1539943200-1539993540@mykeywestportal.com
SUMMARY:Body Painting at Paradise Tattoo
DESCRIPTION:Fantasy Fest 2018\nOh\, The Games We Play\nBody Painting with Wiser Oner\nCome get painted by celebrity body painter\, WiserOner from Naked Vegas and his Body artist crew. \n\nStencils\nFull body art\nProfessional photo shoot\nCostumes\nPaint accessories\n$3 Bud Light and Bud roadies\n\nFor appointment\, call 305-292-9110 to make an appointment \n**Walk in's may be available
URL:https://mykeywestportal.com/event/body-painting-at-paradise-tattoo/
LOCATION:Paradise Tattoo\, 627 Duval St\, Key West\, FL\, 33040\, United States
ATTACH;FMTTYPE=image/jpeg:https://mykeywestportal.com/wp-content/uploads/2018/09/ParadiseTattoo_BodyPainting_FantasyFest.jpg
END:VEVENT
BEGIN:VEVENT
DTSTART;TZID=America/Halifax:20180909T103000
DTEND;TZID=America/Halifax:20180909T113000
DTSTAMP:20260425T082842
CREATED:20180907T182813Z
LAST-MODIFIED:20180910T150438Z
UID:5273-1536489000-1536492600@mykeywestportal.com
SUMMARY:Preschool Playdate: Indoor Playground  (1-2 yrs)
DESCRIPTION:Indoor Playground Open Gym!! \nAges: 1-2 yrs \n\nTrampolines\, bars\, ropes\, and more\nA fun environment for children and parents\n\n 
URL:https://mykeywestportal.com/event/preschool-playdate-indoor-playground-1-2-yrs/
LOCATION:Key West Sports Academy\, 700 Truman Ave\, Key West\, FL\, 33040\, United States
ATTACH;FMTTYPE=image/jpeg:https://mykeywestportal.com/wp-content/uploads/2018/09/Sunday_PreschoolPlaydate_KWSA.jpg
ORGANIZER;CN="Key West Sports Academy":MAILTO:parties@keywestsportsacademy.com
END:VEVENT
BEGIN:VEVENT
DTSTART;TZID=America/Halifax:20180909T113000
DTEND;TZID=America/Halifax:20180909T123000
DTSTAMP:20260425T082842
CREATED:20180907T185210Z
LAST-MODIFIED:20180907T185210Z
UID:5292-1536492600-1536496200@mykeywestportal.com
SUMMARY:Preschool Playdate
DESCRIPTION:Sunday Preschool Playdate!\nAges: 2-6 yrs \nOpen with trampolines\, bars\, ropes\, and more... \nA fun play date for both kids and parents! \n 
URL:https://mykeywestportal.com/event/preschool-playdate-2/
LOCATION:Key West Sports Academy\, 700 Truman Ave\, Key West\, FL\, 33040\, United States
ATTACH;FMTTYPE=image/jpeg:https://mykeywestportal.com/wp-content/uploads/2018/09/PreschoolPlaydate_Sunday_KWSA.jpg
ORGANIZER;CN="Key West Sports Academy":MAILTO:parties@keywestsportsacademy.com
END:VEVENT
BEGIN:VEVENT
DTSTART;TZID=America/Halifax:20181019T120000
DTEND;TZID=America/Halifax:20181019T235900
DTSTAMP:20260425T082842
CREATED:20180723T162242Z
LAST-MODIFIED:20180723T162242Z
UID:4767-1539950400-1539993540@mykeywestportal.com
SUMMARY:Goombay Festival
DESCRIPTION:Fantasy Fest 2018\nOh\, The Games We Play\nGoombay Festival \n  \nThis exuberant street party is FAMILY FRIENDLY \nCome join us for island arts & crafts\, food\, and music ranging from gospel to reggae.
URL:https://mykeywestportal.com/event/goombay-festival/
LOCATION:Bahama Village\, Corner of Petronia St. & Whitehead St.\, Key West\, FL\, 33040\, United States
ATTACH;FMTTYPE=image/jpeg:https://mykeywestportal.com/wp-content/uploads/2018/07/Goombay_FantastFestival_BahamaVillage_KeyWest.jpg
END:VEVENT
BEGIN:VEVENT
DTSTART;TZID=America/Halifax:20181019T130000
DTEND;TZID=America/Halifax:20181019T130000
DTSTAMP:20260425T082842
CREATED:20180920T155107Z
LAST-MODIFIED:20180920T155107Z
UID:5432-1539954000-1539954000@mykeywestportal.com
SUMMARY:Body Painting and Sunsets
DESCRIPTION:Fantasy Fest 2018\nOh\, The Games We Play\nFemme Fatale Quatre Body Art\nBecome a Canvas and join the premier all girl team of body artists daily! \n\nSmall body art pieces\nFull body art pieces\nWaterproof and sweat proof options\nBling bar\nSunset viewing\nFood and drink available for purchase\n\nBook appointments NOW by calling or texting 850-596-4065 \n**Walk up may be available\, but not gaurantee** \nCheck out the FB page "Femme Fatale Quatre Body Art" to check out some work
URL:https://mykeywestportal.com/event/body-painting-and-sunsets/
LOCATION:Sunset Pier\, 0 Duval st\, Key West\, FL\, 33040\, United States
ATTACH;FMTTYPE=image/jpeg:https://mykeywestportal.com/wp-content/uploads/2018/09/FemmeFatale_BodyArt_SunsetPier_FantasyFest.jpg
END:VEVENT
END:VCALENDAR