BEGIN:VCALENDAR
VERSION:2.0
PRODID:-//My Key West Portal is the Social Calendar for the Florida Keys and Key West - ECPv6.15.11//NONSGML v1.0//EN
CALSCALE:GREGORIAN
METHOD:PUBLISH
X-WR-CALNAME:My Key West Portal is the Social Calendar for the Florida Keys and Key West
X-ORIGINAL-URL:https://mykeywestportal.com
X-WR-CALDESC:Events for My Key West Portal is the Social Calendar for the Florida Keys and Key West
REFRESH-INTERVAL;VALUE=DURATION:PT1H
X-Robots-Tag:noindex
X-PUBLISHED-TTL:PT1H
BEGIN:VTIMEZONE
TZID:America/Halifax
BEGIN:DAYLIGHT
TZOFFSETFROM:-0400
TZOFFSETTO:-0300
TZNAME:ADT
DTSTART:20170312T060000
END:DAYLIGHT
BEGIN:STANDARD
TZOFFSETFROM:-0300
TZOFFSETTO:-0400
TZNAME:AST
DTSTART:20171105T050000
END:STANDARD
BEGIN:DAYLIGHT
TZOFFSETFROM:-0400
TZOFFSETTO:-0300
TZNAME:ADT
DTSTART:20180311T060000
END:DAYLIGHT
BEGIN:STANDARD
TZOFFSETFROM:-0300
TZOFFSETTO:-0400
TZNAME:AST
DTSTART:20181104T050000
END:STANDARD
BEGIN:DAYLIGHT
TZOFFSETFROM:-0400
TZOFFSETTO:-0300
TZNAME:ADT
DTSTART:20190310T060000
END:DAYLIGHT
BEGIN:STANDARD
TZOFFSETFROM:-0300
TZOFFSETTO:-0400
TZNAME:AST
DTSTART:20191103T050000
END:STANDARD
END:VTIMEZONE
BEGIN:VTIMEZONE
TZID:UTC
BEGIN:STANDARD
TZOFFSETFROM:+0000
TZOFFSETTO:+0000
TZNAME:UTC
DTSTART:20170101T000000
END:STANDARD
END:VTIMEZONE
BEGIN:VEVENT
DTSTART;TZID=America/Halifax:20181019T130000
DTEND;TZID=America/Halifax:20181019T130000
DTSTAMP:20260425T095947
CREATED:20180920T155107Z
LAST-MODIFIED:20180920T155107Z
UID:5432-1539954000-1539954000@mykeywestportal.com
SUMMARY:Body Painting and Sunsets
DESCRIPTION:Fantasy Fest 2018\nOh\, The Games We Play\nFemme Fatale Quatre Body Art\nBecome a Canvas and join the premier all girl team of body artists daily! \n\nSmall body art pieces\nFull body art pieces\nWaterproof and sweat proof options\nBling bar\nSunset viewing\nFood and drink available for purchase\n\nBook appointments NOW by calling or texting 850-596-4065 \n**Walk up may be available\, but not gaurantee** \nCheck out the FB page "Femme Fatale Quatre Body Art" to check out some work
URL:https://mykeywestportal.com/event/body-painting-and-sunsets/
LOCATION:Sunset Pier\, 0 Duval st\, Key West\, FL\, 33040\, United States
ATTACH;FMTTYPE=image/jpeg:https://mykeywestportal.com/wp-content/uploads/2018/09/FemmeFatale_BodyArt_SunsetPier_FantasyFest.jpg
END:VEVENT
BEGIN:VEVENT
DTSTART;TZID=America/Halifax:20181029T110000
DTEND;TZID=America/Halifax:20181029T210000
DTSTAMP:20260425T095947
CREATED:20180729T200817Z
LAST-MODIFIED:20180729T200817Z
UID:4863-1540810800-1540846800@mykeywestportal.com
SUMMARY:MOTM Pit Stop Party Tour
DESCRIPTION:Phollow The Phlock 2018\n**MOTM: Meeting of the Minds \n"The ‘Phollow The Phlock’ Pit Stop Party Tour provides our premium sponsors with the ability to focus the considerable 'Parrot Head' purchasing potential on their products\, services\, and locations. The 'Tour' kicks off above Tampa and rolls down the 'Tamiami Trail' through Cape Coral\, Naples\, Fort Myers down US 1/Florida Highway A1A to Key Largo and Islamorada and all the way to Key West.\nThe Parrot Heads\, 'Trop Rock' Music Fans and Musicians following the 'Phlock' with us will be introduced to and continually exposed to our sponsoring brands to encourage the consumption and purchase of the products\, services\, and activities mentioned\, displayed and broadcast at each event site. For nine full days of 'Phlocking'\, Radio A1A will be incorporating Tropical Music\, Radio Streamcasts\, Event Updates\, Product Display/Demonstrations and the Charitable efforts of the 'Phlock' into our programming… as the Parrot Heads visit every 'Pit Stop' and ‘Party With A Purpose”’ along the way and during their annual convention\, ‘Meeting Of The Minds’ ( M.O.T.M.) in Key West."
URL:https://mykeywestportal.com/event/motm-pit-stop-party-tour/
LOCATION:Caribbean Club\, 104080 Overseas Hwy\, Key Largo\, FL\, 33037\, United States
END:VEVENT
BEGIN:VEVENT
DTSTART;TZID=America/Halifax:20181019T100000
DTEND;TZID=America/Halifax:20181019T235900
DTSTAMP:20260425T095947
CREATED:20180920T162117Z
LAST-MODIFIED:20180920T162117Z
UID:5466-1539943200-1539993540@mykeywestportal.com
SUMMARY:Body Painting at Paradise Tattoo
DESCRIPTION:Fantasy Fest 2018\nOh\, The Games We Play\nBody Painting with Wiser Oner\nCome get painted by celebrity body painter\, WiserOner from Naked Vegas and his Body artist crew. \n\nStencils\nFull body art\nProfessional photo shoot\nCostumes\nPaint accessories\n$3 Bud Light and Bud roadies\n\nFor appointment\, call 305-292-9110 to make an appointment \n**Walk in's may be available
URL:https://mykeywestportal.com/event/body-painting-at-paradise-tattoo/
LOCATION:Paradise Tattoo\, 627 Duval St\, Key West\, FL\, 33040\, United States
ATTACH;FMTTYPE=image/jpeg:https://mykeywestportal.com/wp-content/uploads/2018/09/ParadiseTattoo_BodyPainting_FantasyFest.jpg
END:VEVENT
BEGIN:VEVENT
DTSTART;VALUE=DATE:20181019
DTEND;VALUE=DATE:20181020
DTSTAMP:20260425T095947
CREATED:20180920T161321Z
LAST-MODIFIED:20180920T161321Z
UID:5455-1539921600-1539993599@mykeywestportal.com
SUMMARY:BART
DESCRIPTION:Fantasy Fest 2018\nOh\, The Games We Play\nBART = Bar + Art Stroll\nSelf guided wander along the docks: \n\nDante's\nConch Republic\nHalf Shell Raw Bar\nTurtle Kraals\nWaterfront Brewery\nSchooner Wharf Bar\nThe Marker\n\nCheck in to the bars using #FantasyFestBarAndArtStroll and posting a picture of the figures and sculptures \n\nYou will have a chance to win a vintage Fantasy Fest t-shirts and swag\n\n 
URL:https://mykeywestportal.com/event/bart/
LOCATION:The Schooner Warf Bar\, 202 William St\, Key West\, FL\, 33040\, United States
ATTACH;FMTTYPE=image/jpeg:https://mykeywestportal.com/wp-content/uploads/2018/09/FantasyFest2018_KeyWest_OhTheGamesWePlay.jpg
END:VEVENT
BEGIN:VEVENT
DTSTART;VALUE=DATE:20181019
DTEND;VALUE=DATE:20181020
DTSTAMP:20260425T095947
CREATED:20180920T155709Z
LAST-MODIFIED:20180920T155709Z
UID:5443-1539921600-1539993599@mykeywestportal.com
SUMMARY:Dress Like Elvis Discount
DESCRIPTION:Fantasy Fest 2018\nOh\, The Games We Play\nDress Like Elvis\n15% off for everyone who dresses like elvis
URL:https://mykeywestportal.com/event/dress-like-elvis-discount/
LOCATION:Two Friends Patio Restaurant\, 512 Front St
ATTACH;FMTTYPE=image/jpeg:https://mykeywestportal.com/wp-content/uploads/2018/09/DressLikeElvis_TwoFriends_FantasyFest.jpg
END:VEVENT
BEGIN:VEVENT
DTSTART;TZID=America/Halifax:20181019T193000
DTEND;TZID=America/Halifax:20181019T193000
DTSTAMP:20260425T095947
CREATED:20180920T162950Z
LAST-MODIFIED:20180920T163240Z
UID:5477-1539977400-1539977400@mykeywestportal.com
SUMMARY:Madame Dujours Magical Game Show and Burlesque Experience
DESCRIPTION:Fantasy Fest 2018\nOh\, The Games We Play\nMadame Dujours Magical Game Show and Burlesque Experience\nAn astonishing and interactive event awaits as Key West Burlesque and world renowned magician\, Nick Locapo\, take the stage. \n\nOne part live game show\nTwo parts theatrical burlesque\nAll parts fun\n\nEvery night\, audience members have a chance to win cash and prizes as the performers compete in the ultimate episode of miraculous amusement on the stage. \nFor tickets\, visit:  https://www.waterfrontplayhouse.org/shows/key-west-burlesque/ \nOr call 305-294-5015
URL:https://mykeywestportal.com/event/madame-dujours-magical-game-show-and-burlesque-experience/
LOCATION:The Waterfront Playhouse\, 310 Wall St\, Key West\, FL\, 33040\, United States
ATTACH;FMTTYPE=image/jpeg:https://mykeywestportal.com/wp-content/uploads/2018/09/MadameDujours_KeyWest_BurlesqueShow.jpg
END:VEVENT
BEGIN:VEVENT
DTSTART;TZID=America/Halifax:20181025T170000
DTEND;TZID=America/Halifax:20181025T190000
DTSTAMP:20260425T095947
CREATED:20181001T134926Z
LAST-MODIFIED:20181001T162649Z
UID:5622-1540486800-1540494000@mykeywestportal.com
SUMMARY:Custom House Performance Art
DESCRIPTION:Fantasy Fest 2018\nOh\, The Games We Play\nCustom House Performance Art\nJoin local street performers as they showcase their skills and talents in live performances! \n 
URL:https://mykeywestportal.com/event/custom-house-performance-art/
LOCATION:The Custom House\, 281 Front Street\, Key West\, FL\, 33040\, United States
ATTACH;FMTTYPE=image/jpeg:https://mykeywestportal.com/wp-content/uploads/2018/10/CustomHouse_PerformaceArt.jpg
END:VEVENT
BEGIN:VEVENT
DTSTART;TZID=America/Halifax:20181019T130000
DTEND;TZID=America/Halifax:20181019T130000
DTSTAMP:20260425T095947
CREATED:20180920T155107Z
LAST-MODIFIED:20180920T155107Z
UID:5432-1539954000-1539954000@mykeywestportal.com
SUMMARY:Body Painting and Sunsets
DESCRIPTION:Fantasy Fest 2018\nOh\, The Games We Play\nFemme Fatale Quatre Body Art\nBecome a Canvas and join the premier all girl team of body artists daily! \n\nSmall body art pieces\nFull body art pieces\nWaterproof and sweat proof options\nBling bar\nSunset viewing\nFood and drink available for purchase\n\nBook appointments NOW by calling or texting 850-596-4065 \n**Walk up may be available\, but not gaurantee** \nCheck out the FB page "Femme Fatale Quatre Body Art" to check out some work
URL:https://mykeywestportal.com/event/body-painting-and-sunsets/
LOCATION:Sunset Pier\, 0 Duval st\, Key West\, FL\, 33040\, United States
ATTACH;FMTTYPE=image/jpeg:https://mykeywestportal.com/wp-content/uploads/2018/09/FemmeFatale_BodyArt_SunsetPier_FantasyFest.jpg
END:VEVENT
BEGIN:VEVENT
DTSTART;TZID=America/Halifax:20181029T110000
DTEND;TZID=America/Halifax:20181029T210000
DTSTAMP:20260425T095947
CREATED:20180729T200817Z
LAST-MODIFIED:20180729T200817Z
UID:4863-1540810800-1540846800@mykeywestportal.com
SUMMARY:MOTM Pit Stop Party Tour
DESCRIPTION:Phollow The Phlock 2018\n**MOTM: Meeting of the Minds \n"The ‘Phollow The Phlock’ Pit Stop Party Tour provides our premium sponsors with the ability to focus the considerable 'Parrot Head' purchasing potential on their products\, services\, and locations. The 'Tour' kicks off above Tampa and rolls down the 'Tamiami Trail' through Cape Coral\, Naples\, Fort Myers down US 1/Florida Highway A1A to Key Largo and Islamorada and all the way to Key West.\nThe Parrot Heads\, 'Trop Rock' Music Fans and Musicians following the 'Phlock' with us will be introduced to and continually exposed to our sponsoring brands to encourage the consumption and purchase of the products\, services\, and activities mentioned\, displayed and broadcast at each event site. For nine full days of 'Phlocking'\, Radio A1A will be incorporating Tropical Music\, Radio Streamcasts\, Event Updates\, Product Display/Demonstrations and the Charitable efforts of the 'Phlock' into our programming… as the Parrot Heads visit every 'Pit Stop' and ‘Party With A Purpose”’ along the way and during their annual convention\, ‘Meeting Of The Minds’ ( M.O.T.M.) in Key West."
URL:https://mykeywestportal.com/event/motm-pit-stop-party-tour/
LOCATION:Caribbean Club\, 104080 Overseas Hwy\, Key Largo\, FL\, 33037\, United States
END:VEVENT
BEGIN:VEVENT
DTSTART;TZID=America/Halifax:20181019T100000
DTEND;TZID=America/Halifax:20181019T235900
DTSTAMP:20260425T095947
CREATED:20180920T162117Z
LAST-MODIFIED:20180920T162117Z
UID:5466-1539943200-1539993540@mykeywestportal.com
SUMMARY:Body Painting at Paradise Tattoo
DESCRIPTION:Fantasy Fest 2018\nOh\, The Games We Play\nBody Painting with Wiser Oner\nCome get painted by celebrity body painter\, WiserOner from Naked Vegas and his Body artist crew. \n\nStencils\nFull body art\nProfessional photo shoot\nCostumes\nPaint accessories\n$3 Bud Light and Bud roadies\n\nFor appointment\, call 305-292-9110 to make an appointment \n**Walk in's may be available
URL:https://mykeywestportal.com/event/body-painting-at-paradise-tattoo/
LOCATION:Paradise Tattoo\, 627 Duval St\, Key West\, FL\, 33040\, United States
ATTACH;FMTTYPE=image/jpeg:https://mykeywestportal.com/wp-content/uploads/2018/09/ParadiseTattoo_BodyPainting_FantasyFest.jpg
END:VEVENT
BEGIN:VEVENT
DTSTART;TZID=America/Halifax:20180910T100000
DTEND;TZID=America/Halifax:20180910T113000
DTSTAMP:20260425T095947
CREATED:20180910T150502Z
LAST-MODIFIED:20180910T150752Z
UID:5303-1536573600-1536579000@mykeywestportal.com
SUMMARY:Preschool Playdate
DESCRIPTION:Monday Preschool Playdate!\nAges: 2-6yrs \n\nTrampolines\, bars\, ropes\, and more\nA fun environment for children and parents\n\n 
URL:https://mykeywestportal.com/event/preschool-playdate-3/
LOCATION:Key West Sports Academy\, 700 Truman Ave\, Key West\, FL\, 33040\, United States
ATTACH;FMTTYPE=image/jpeg:https://mykeywestportal.com/wp-content/uploads/2018/09/PreschoolPlaydate_Monday_KWSA.jpg
ORGANIZER;CN="Key West Sports Academy":MAILTO:parties@keywestsportsacademy.com
END:VEVENT
BEGIN:VEVENT
DTSTART;VALUE=DATE:20181019
DTEND;VALUE=DATE:20181020
DTSTAMP:20260425T095947
CREATED:20180920T161321Z
LAST-MODIFIED:20180920T161321Z
UID:5455-1539921600-1539993599@mykeywestportal.com
SUMMARY:BART
DESCRIPTION:Fantasy Fest 2018\nOh\, The Games We Play\nBART = Bar + Art Stroll\nSelf guided wander along the docks: \n\nDante's\nConch Republic\nHalf Shell Raw Bar\nTurtle Kraals\nWaterfront Brewery\nSchooner Wharf Bar\nThe Marker\n\nCheck in to the bars using #FantasyFestBarAndArtStroll and posting a picture of the figures and sculptures \n\nYou will have a chance to win a vintage Fantasy Fest t-shirts and swag\n\n 
URL:https://mykeywestportal.com/event/bart/
LOCATION:The Schooner Warf Bar\, 202 William St\, Key West\, FL\, 33040\, United States
ATTACH;FMTTYPE=image/jpeg:https://mykeywestportal.com/wp-content/uploads/2018/09/FantasyFest2018_KeyWest_OhTheGamesWePlay.jpg
END:VEVENT
BEGIN:VEVENT
DTSTART;VALUE=DATE:20181019
DTEND;VALUE=DATE:20181020
DTSTAMP:20260425T095947
CREATED:20180920T155709Z
LAST-MODIFIED:20180920T155709Z
UID:5443-1539921600-1539993599@mykeywestportal.com
SUMMARY:Dress Like Elvis Discount
DESCRIPTION:Fantasy Fest 2018\nOh\, The Games We Play\nDress Like Elvis\n15% off for everyone who dresses like elvis
URL:https://mykeywestportal.com/event/dress-like-elvis-discount/
LOCATION:Two Friends Patio Restaurant\, 512 Front St
ATTACH;FMTTYPE=image/jpeg:https://mykeywestportal.com/wp-content/uploads/2018/09/DressLikeElvis_TwoFriends_FantasyFest.jpg
END:VEVENT
BEGIN:VEVENT
DTSTART;TZID=America/Halifax:20181019T193000
DTEND;TZID=America/Halifax:20181019T193000
DTSTAMP:20260425T095947
CREATED:20180920T162950Z
LAST-MODIFIED:20180920T163240Z
UID:5477-1539977400-1539977400@mykeywestportal.com
SUMMARY:Madame Dujours Magical Game Show and Burlesque Experience
DESCRIPTION:Fantasy Fest 2018\nOh\, The Games We Play\nMadame Dujours Magical Game Show and Burlesque Experience\nAn astonishing and interactive event awaits as Key West Burlesque and world renowned magician\, Nick Locapo\, take the stage. \n\nOne part live game show\nTwo parts theatrical burlesque\nAll parts fun\n\nEvery night\, audience members have a chance to win cash and prizes as the performers compete in the ultimate episode of miraculous amusement on the stage. \nFor tickets\, visit:  https://www.waterfrontplayhouse.org/shows/key-west-burlesque/ \nOr call 305-294-5015
URL:https://mykeywestportal.com/event/madame-dujours-magical-game-show-and-burlesque-experience/
LOCATION:The Waterfront Playhouse\, 310 Wall St\, Key West\, FL\, 33040\, United States
ATTACH;FMTTYPE=image/jpeg:https://mykeywestportal.com/wp-content/uploads/2018/09/MadameDujours_KeyWest_BurlesqueShow.jpg
END:VEVENT
BEGIN:VEVENT
DTSTART;TZID=America/Halifax:20180624T190000
DTEND;TZID=America/Halifax:20180624T230000
DTSTAMP:20260425T095947
CREATED:20180619T154050Z
LAST-MODIFIED:20180619T154050Z
UID:3644-1529866800-1529881200@mykeywestportal.com
SUMMARY:The Tea Dance After-Party
DESCRIPTION:Mangoes Presents:\nThe Tea Dance After-Party!\nDance the night away in our Ricky Ricardo Room (located upstairs) \n\nLive DJ\nSpiked Tea Special\nWell drinks & Beer\nFREE Admission
URL:https://mykeywestportal.com/event/the-tea-dance-after-party/
LOCATION:Mangoes\, 700 Duval St\, Key West\, FL\, 33040\, United States
ATTACH;FMTTYPE=image/jpeg:https://mykeywestportal.com/wp-content/uploads/2018/06/the_tea_dance_after_party_mangoes_key_West.jpg
END:VEVENT
BEGIN:VEVENT
DTSTART;TZID=America/Halifax:20181025T170000
DTEND;TZID=America/Halifax:20181025T190000
DTSTAMP:20260425T095947
CREATED:20181001T134926Z
LAST-MODIFIED:20181001T162649Z
UID:5622-1540486800-1540494000@mykeywestportal.com
SUMMARY:Custom House Performance Art
DESCRIPTION:Fantasy Fest 2018\nOh\, The Games We Play\nCustom House Performance Art\nJoin local street performers as they showcase their skills and talents in live performances! \n 
URL:https://mykeywestportal.com/event/custom-house-performance-art/
LOCATION:The Custom House\, 281 Front Street\, Key West\, FL\, 33040\, United States
ATTACH;FMTTYPE=image/jpeg:https://mykeywestportal.com/wp-content/uploads/2018/10/CustomHouse_PerformaceArt.jpg
END:VEVENT
BEGIN:VEVENT
DTSTART;TZID=UTC:20180128T130000
DTEND;TZID=UTC:20180128T150000
DTSTAMP:20260425T095947
CREATED:20240904T135536Z
LAST-MODIFIED:20240904T135536Z
UID:8087-1517144400-1517151600@mykeywestportal.com
SUMMARY:Sheriff's Animal Farm
DESCRIPTION:A great place to visit\, observe animals\, and in some cases - touch them. \nHere is a list of some of the animals: \n\nLarge aviary\nReptile exhibit\nRabbit warren\nFarm animals\nMo the Sloth\nMiniature horses\nAngus the steer\nChickens\nPigs\nGoats\nRabbits\nKinkajous\nKelsey the Lemur\nAlpacas\nAlbino python\nPeacocks and many tropical birds\n85 pound African Spurred Tortoise\n\nResources: \nMonroe County Sheriff's Animal Farm \nContact:  Jeanne Selander \nEmail:  jselander@keysso.net \n  \n 
URL:https://mykeywestportal.com/event/sheriffs-animal-farm/
ATTACH;FMTTYPE=image/jpeg:https://mykeywestportal.com/wp-content/uploads/2018/01/monroecounty_animalfarm_sloth.jpg
END:VEVENT
BEGIN:VEVENT
DTSTART;TZID=UTC:20180527T130000
DTEND;TZID=UTC:20180527T150000
DTSTAMP:20260425T095947
CREATED:20180518T200132Z
LAST-MODIFIED:20180518T200132Z
UID:2583-1527426000-1527433200@mykeywestportal.com
SUMMARY:Animal Farm Open House
DESCRIPTION:Come hang out with the animals!!\nThe animal farm is open to the public ever 2nd and 4th Sunday of each month!
URL:https://mykeywestportal.com/event/animal-farm-open-house/
LOCATION:Monroe County Sheriff's Office Animal Club\, 5501\, College Road\, FL\, 33040\, United States
ATTACH;FMTTYPE=image/jpeg:https://mykeywestportal.com/wp-content/uploads/2018/05/Monroe_Country_Sheriffs_Office_Open_House.jpg
END:VEVENT
BEGIN:VEVENT
DTSTART;TZID=America/Halifax:20181019T130000
DTEND;TZID=America/Halifax:20181019T130000
DTSTAMP:20260425T095947
CREATED:20180920T155107Z
LAST-MODIFIED:20180920T155107Z
UID:5432-1539954000-1539954000@mykeywestportal.com
SUMMARY:Body Painting and Sunsets
DESCRIPTION:Fantasy Fest 2018\nOh\, The Games We Play\nFemme Fatale Quatre Body Art\nBecome a Canvas and join the premier all girl team of body artists daily! \n\nSmall body art pieces\nFull body art pieces\nWaterproof and sweat proof options\nBling bar\nSunset viewing\nFood and drink available for purchase\n\nBook appointments NOW by calling or texting 850-596-4065 \n**Walk up may be available\, but not gaurantee** \nCheck out the FB page "Femme Fatale Quatre Body Art" to check out some work
URL:https://mykeywestportal.com/event/body-painting-and-sunsets/
LOCATION:Sunset Pier\, 0 Duval st\, Key West\, FL\, 33040\, United States
ATTACH;FMTTYPE=image/jpeg:https://mykeywestportal.com/wp-content/uploads/2018/09/FemmeFatale_BodyArt_SunsetPier_FantasyFest.jpg
END:VEVENT
BEGIN:VEVENT
DTSTART;TZID=America/Halifax:20181019T100000
DTEND;TZID=America/Halifax:20181019T235900
DTSTAMP:20260425T095947
CREATED:20180920T162117Z
LAST-MODIFIED:20180920T162117Z
UID:5466-1539943200-1539993540@mykeywestportal.com
SUMMARY:Body Painting at Paradise Tattoo
DESCRIPTION:Fantasy Fest 2018\nOh\, The Games We Play\nBody Painting with Wiser Oner\nCome get painted by celebrity body painter\, WiserOner from Naked Vegas and his Body artist crew. \n\nStencils\nFull body art\nProfessional photo shoot\nCostumes\nPaint accessories\n$3 Bud Light and Bud roadies\n\nFor appointment\, call 305-292-9110 to make an appointment \n**Walk in's may be available
URL:https://mykeywestportal.com/event/body-painting-at-paradise-tattoo/
LOCATION:Paradise Tattoo\, 627 Duval St\, Key West\, FL\, 33040\, United States
ATTACH;FMTTYPE=image/jpeg:https://mykeywestportal.com/wp-content/uploads/2018/09/ParadiseTattoo_BodyPainting_FantasyFest.jpg
END:VEVENT
BEGIN:VEVENT
DTSTART;VALUE=DATE:20181019
DTEND;VALUE=DATE:20181020
DTSTAMP:20260425T095947
CREATED:20180920T161321Z
LAST-MODIFIED:20180920T161321Z
UID:5455-1539921600-1539993599@mykeywestportal.com
SUMMARY:BART
DESCRIPTION:Fantasy Fest 2018\nOh\, The Games We Play\nBART = Bar + Art Stroll\nSelf guided wander along the docks: \n\nDante's\nConch Republic\nHalf Shell Raw Bar\nTurtle Kraals\nWaterfront Brewery\nSchooner Wharf Bar\nThe Marker\n\nCheck in to the bars using #FantasyFestBarAndArtStroll and posting a picture of the figures and sculptures \n\nYou will have a chance to win a vintage Fantasy Fest t-shirts and swag\n\n 
URL:https://mykeywestportal.com/event/bart/
LOCATION:The Schooner Warf Bar\, 202 William St\, Key West\, FL\, 33040\, United States
ATTACH;FMTTYPE=image/jpeg:https://mykeywestportal.com/wp-content/uploads/2018/09/FantasyFest2018_KeyWest_OhTheGamesWePlay.jpg
END:VEVENT
BEGIN:VEVENT
DTSTART;VALUE=DATE:20181019
DTEND;VALUE=DATE:20181020
DTSTAMP:20260425T095947
CREATED:20180920T155709Z
LAST-MODIFIED:20180920T155709Z
UID:5443-1539921600-1539993599@mykeywestportal.com
SUMMARY:Dress Like Elvis Discount
DESCRIPTION:Fantasy Fest 2018\nOh\, The Games We Play\nDress Like Elvis\n15% off for everyone who dresses like elvis
URL:https://mykeywestportal.com/event/dress-like-elvis-discount/
LOCATION:Two Friends Patio Restaurant\, 512 Front St
ATTACH;FMTTYPE=image/jpeg:https://mykeywestportal.com/wp-content/uploads/2018/09/DressLikeElvis_TwoFriends_FantasyFest.jpg
END:VEVENT
BEGIN:VEVENT
DTSTART;TZID=America/Halifax:20181027T200000
DTEND;TZID=America/Halifax:20181027T200000
DTSTAMP:20260425T095947
CREATED:20181005T182823Z
LAST-MODIFIED:20181005T182823Z
UID:5692-1540670400-1540670400@mykeywestportal.com
SUMMARY:Polka Dot After Parade Party
DESCRIPTION:Fantasy Fest 2018\nOh\, The Games We Play\nPolka Dot After Parade Party\nDJs Levne\, Harvey\, Herb Javier\, and more!! \nAll costumes welcome\, but polka dots encouraged. \nNO COSTUME. NO ENTRY \n\n$5 entry/ Free with Local ID
URL:https://mykeywestportal.com/event/polka-dot-after-parade-party/
LOCATION:Mary Ellen's\, Applerouth Lane\, Key West\, FL\, 33040\, United States
ATTACH;FMTTYPE=image/jpeg:https://mykeywestportal.com/wp-content/uploads/2018/10/PolkaDotParty_MaryEllens.jpg
END:VEVENT
BEGIN:VEVENT
DTSTART;TZID=America/Halifax:20181019T193000
DTEND;TZID=America/Halifax:20181019T193000
DTSTAMP:20260425T095947
CREATED:20180920T162950Z
LAST-MODIFIED:20180920T163240Z
UID:5477-1539977400-1539977400@mykeywestportal.com
SUMMARY:Madame Dujours Magical Game Show and Burlesque Experience
DESCRIPTION:Fantasy Fest 2018\nOh\, The Games We Play\nMadame Dujours Magical Game Show and Burlesque Experience\nAn astonishing and interactive event awaits as Key West Burlesque and world renowned magician\, Nick Locapo\, take the stage. \n\nOne part live game show\nTwo parts theatrical burlesque\nAll parts fun\n\nEvery night\, audience members have a chance to win cash and prizes as the performers compete in the ultimate episode of miraculous amusement on the stage. \nFor tickets\, visit:  https://www.waterfrontplayhouse.org/shows/key-west-burlesque/ \nOr call 305-294-5015
URL:https://mykeywestportal.com/event/madame-dujours-magical-game-show-and-burlesque-experience/
LOCATION:The Waterfront Playhouse\, 310 Wall St\, Key West\, FL\, 33040\, United States
ATTACH;FMTTYPE=image/jpeg:https://mykeywestportal.com/wp-content/uploads/2018/09/MadameDujours_KeyWest_BurlesqueShow.jpg
END:VEVENT
BEGIN:VEVENT
DTSTART;TZID=America/Halifax:20181027T180000
DTEND;TZID=America/Halifax:20181027T213000
DTSTAMP:20260425T095947
CREATED:20180817T182601Z
LAST-MODIFIED:20180817T182629Z
UID:5006-1540663200-1540675800@mykeywestportal.com
SUMMARY:Mangoes Patio Fantasy Fest Parade Party
DESCRIPTION:Fantasy Fest 2018\nOh\, The Games We Play\nMangoes Patio Parade Party\n\nElevated seating\nDrink specials\nCovered bar and patio\nSpecially priced dinner menu\nPrivate party opportunities - email Events@MangoesKeyWest.com\n\n  \n$30 in advance \n$40 at the door
URL:https://mykeywestportal.com/event/5006/
LOCATION:Mangoes\, 700 Duval St\, Key West\, FL\, 33040\, United States
ATTACH;FMTTYPE=image/jpeg:https://mykeywestportal.com/wp-content/uploads/2018/08/Mangoes_FantasyFestParadeParty.jpg
END:VEVENT
BEGIN:VEVENT
DTSTART;TZID=America/Halifax:20181025T170000
DTEND;TZID=America/Halifax:20181025T190000
DTSTAMP:20260425T095947
CREATED:20181001T134926Z
LAST-MODIFIED:20181001T162649Z
UID:5622-1540486800-1540494000@mykeywestportal.com
SUMMARY:Custom House Performance Art
DESCRIPTION:Fantasy Fest 2018\nOh\, The Games We Play\nCustom House Performance Art\nJoin local street performers as they showcase their skills and talents in live performances! \n 
URL:https://mykeywestportal.com/event/custom-house-performance-art/
LOCATION:The Custom House\, 281 Front Street\, Key West\, FL\, 33040\, United States
ATTACH;FMTTYPE=image/jpeg:https://mykeywestportal.com/wp-content/uploads/2018/10/CustomHouse_PerformaceArt.jpg
END:VEVENT
BEGIN:VEVENT
DTSTART;TZID=America/Halifax:20181021T150000
DTEND;TZID=America/Halifax:20181021T180000
DTSTAMP:20260425T095947
CREATED:20180716T135606Z
LAST-MODIFIED:20180716T135606Z
UID:4488-1540134000-1540144800@mykeywestportal.com
SUMMARY:CFMS Key West Hook and Slice Fundraiser
DESCRIPTION:This event includes a 4 day and 3 night stay at the Casa Marina\, meals\, golfing on the Rees Jones Golf Course\, and sport fishing off the coast.
URL:https://mykeywestportal.com/event/cfms-key-west-hook-and-slice-fundraiser/
LOCATION:Casa Marina\, 1500 Reynolds St\, Key West\, FL\, 33040\, United States
ATTACH;FMTTYPE=image/jpeg:https://mykeywestportal.com/wp-content/uploads/2018/07/CFMs_HookAndSlice_Fundraiser_CasaMarina_KeyWest.jpg
END:VEVENT
BEGIN:VEVENT
DTSTART;TZID=America/Halifax:20181027T150000
DTEND;TZID=America/Halifax:20181027T150000
DTSTAMP:20260425T095947
CREATED:20181005T181853Z
LAST-MODIFIED:20181005T181853Z
UID:5690-1540652400-1540652400@mykeywestportal.com
SUMMARY:Fantasy Street Party
DESCRIPTION:Fantasy Fest 2018\nOh\, The Games We Play\nFantasy Street Party\nBlock Party!! \n\nDJ\nCorn hole\nFair games\n16' martini glass ready for your poses and pictures
URL:https://mykeywestportal.com/event/fantasy-street-party/
LOCATION:Mary Ellen's\, Applerouth Lane\, Key West\, FL\, 33040\, United States
END:VEVENT
BEGIN:VEVENT
DTSTART;TZID=America/Halifax:20181027T130000
DTEND;TZID=America/Halifax:20181027T160000
DTSTAMP:20260425T095947
CREATED:20181005T162228Z
LAST-MODIFIED:20181005T162228Z
UID:5687-1540645200-1540656000@mykeywestportal.com
SUMMARY:Pre-Parade Pong Party
DESCRIPTION:Fantasy Fest 2018\nOh\, The Games We Play\nPong Party\nParty at the pool with official ping pong and beer pong tables! \n\n$5 beer specials\nFood available for purchase\nDJ KYD\nPrizes available for top teams\n\ntop prize is a $50 bar tab
URL:https://mykeywestportal.com/event/pre-parade-pong-party/
LOCATION:24 North Hotel\, 3820 N Roosevelt\, Key West\, FL\, 33040\, United States
ATTACH;FMTTYPE=image/jpeg:https://mykeywestportal.com/wp-content/uploads/2018/10/PreParade_PongParty_BeerPong_PingPong.jpg
END:VEVENT
BEGIN:VEVENT
DTSTART;TZID=America/Halifax:20181019T130000
DTEND;TZID=America/Halifax:20181019T130000
DTSTAMP:20260425T095947
CREATED:20180920T155107Z
LAST-MODIFIED:20180920T155107Z
UID:5432-1539954000-1539954000@mykeywestportal.com
SUMMARY:Body Painting and Sunsets
DESCRIPTION:Fantasy Fest 2018\nOh\, The Games We Play\nFemme Fatale Quatre Body Art\nBecome a Canvas and join the premier all girl team of body artists daily! \n\nSmall body art pieces\nFull body art pieces\nWaterproof and sweat proof options\nBling bar\nSunset viewing\nFood and drink available for purchase\n\nBook appointments NOW by calling or texting 850-596-4065 \n**Walk up may be available\, but not gaurantee** \nCheck out the FB page "Femme Fatale Quatre Body Art" to check out some work
URL:https://mykeywestportal.com/event/body-painting-and-sunsets/
LOCATION:Sunset Pier\, 0 Duval st\, Key West\, FL\, 33040\, United States
ATTACH;FMTTYPE=image/jpeg:https://mykeywestportal.com/wp-content/uploads/2018/09/FemmeFatale_BodyArt_SunsetPier_FantasyFest.jpg
END:VEVENT
END:VCALENDAR