BEGIN:VCALENDAR
VERSION:2.0
PRODID:-//My Key West Portal is the Social Calendar for the Florida Keys and Key West - ECPv6.15.11//NONSGML v1.0//EN
CALSCALE:GREGORIAN
METHOD:PUBLISH
X-WR-CALNAME:My Key West Portal is the Social Calendar for the Florida Keys and Key West
X-ORIGINAL-URL:https://mykeywestportal.com
X-WR-CALDESC:Events for My Key West Portal is the Social Calendar for the Florida Keys and Key West
REFRESH-INTERVAL;VALUE=DURATION:PT1H
X-Robots-Tag:noindex
X-PUBLISHED-TTL:PT1H
BEGIN:VTIMEZONE
TZID:America/Halifax
BEGIN:DAYLIGHT
TZOFFSETFROM:-0400
TZOFFSETTO:-0300
TZNAME:ADT
DTSTART:20170312T060000
END:DAYLIGHT
BEGIN:STANDARD
TZOFFSETFROM:-0300
TZOFFSETTO:-0400
TZNAME:AST
DTSTART:20171105T050000
END:STANDARD
BEGIN:DAYLIGHT
TZOFFSETFROM:-0400
TZOFFSETTO:-0300
TZNAME:ADT
DTSTART:20180311T060000
END:DAYLIGHT
BEGIN:STANDARD
TZOFFSETFROM:-0300
TZOFFSETTO:-0400
TZNAME:AST
DTSTART:20181104T050000
END:STANDARD
BEGIN:DAYLIGHT
TZOFFSETFROM:-0400
TZOFFSETTO:-0300
TZNAME:ADT
DTSTART:20190310T060000
END:DAYLIGHT
BEGIN:STANDARD
TZOFFSETFROM:-0300
TZOFFSETTO:-0400
TZNAME:AST
DTSTART:20191103T050000
END:STANDARD
END:VTIMEZONE
BEGIN:VEVENT
DTSTART;TZID=America/Halifax:20181027T150000
DTEND;TZID=America/Halifax:20181027T150000
DTSTAMP:20260425T064527
CREATED:20181005T181853Z
LAST-MODIFIED:20181005T181853Z
UID:5690-1540652400-1540652400@mykeywestportal.com
SUMMARY:Fantasy Street Party
DESCRIPTION:Fantasy Fest 2018\nOh\, The Games We Play\nFantasy Street Party\nBlock Party!! \n\nDJ\nCorn hole\nFair games\n16' martini glass ready for your poses and pictures
URL:https://mykeywestportal.com/event/fantasy-street-party/
LOCATION:Mary Ellen's\, Applerouth Lane\, Key West\, FL\, 33040\, United States
END:VEVENT
BEGIN:VEVENT
DTSTART;TZID=America/Halifax:20181027T130000
DTEND;TZID=America/Halifax:20181027T160000
DTSTAMP:20260425T064527
CREATED:20181005T162228Z
LAST-MODIFIED:20181005T162228Z
UID:5687-1540645200-1540656000@mykeywestportal.com
SUMMARY:Pre-Parade Pong Party
DESCRIPTION:Fantasy Fest 2018\nOh\, The Games We Play\nPong Party\nParty at the pool with official ping pong and beer pong tables! \n\n$5 beer specials\nFood available for purchase\nDJ KYD\nPrizes available for top teams\n\ntop prize is a $50 bar tab
URL:https://mykeywestportal.com/event/pre-parade-pong-party/
LOCATION:24 North Hotel\, 3820 N Roosevelt\, Key West\, FL\, 33040\, United States
ATTACH;FMTTYPE=image/jpeg:https://mykeywestportal.com/wp-content/uploads/2018/10/PreParade_PongParty_BeerPong_PingPong.jpg
END:VEVENT
BEGIN:VEVENT
DTSTART;TZID=America/Halifax:20181019T130000
DTEND;TZID=America/Halifax:20181019T130000
DTSTAMP:20260425T064527
CREATED:20180920T155107Z
LAST-MODIFIED:20180920T155107Z
UID:5432-1539954000-1539954000@mykeywestportal.com
SUMMARY:Body Painting and Sunsets
DESCRIPTION:Fantasy Fest 2018\nOh\, The Games We Play\nFemme Fatale Quatre Body Art\nBecome a Canvas and join the premier all girl team of body artists daily! \n\nSmall body art pieces\nFull body art pieces\nWaterproof and sweat proof options\nBling bar\nSunset viewing\nFood and drink available for purchase\n\nBook appointments NOW by calling or texting 850-596-4065 \n**Walk up may be available\, but not gaurantee** \nCheck out the FB page "Femme Fatale Quatre Body Art" to check out some work
URL:https://mykeywestportal.com/event/body-painting-and-sunsets/
LOCATION:Sunset Pier\, 0 Duval st\, Key West\, FL\, 33040\, United States
ATTACH;FMTTYPE=image/jpeg:https://mykeywestportal.com/wp-content/uploads/2018/09/FemmeFatale_BodyArt_SunsetPier_FantasyFest.jpg
END:VEVENT
BEGIN:VEVENT
DTSTART;TZID=America/Halifax:20181019T100000
DTEND;TZID=America/Halifax:20181019T235900
DTSTAMP:20260425T064527
CREATED:20180920T162117Z
LAST-MODIFIED:20180920T162117Z
UID:5466-1539943200-1539993540@mykeywestportal.com
SUMMARY:Body Painting at Paradise Tattoo
DESCRIPTION:Fantasy Fest 2018\nOh\, The Games We Play\nBody Painting with Wiser Oner\nCome get painted by celebrity body painter\, WiserOner from Naked Vegas and his Body artist crew. \n\nStencils\nFull body art\nProfessional photo shoot\nCostumes\nPaint accessories\n$3 Bud Light and Bud roadies\n\nFor appointment\, call 305-292-9110 to make an appointment \n**Walk in's may be available
URL:https://mykeywestportal.com/event/body-painting-at-paradise-tattoo/
LOCATION:Paradise Tattoo\, 627 Duval St\, Key West\, FL\, 33040\, United States
ATTACH;FMTTYPE=image/jpeg:https://mykeywestportal.com/wp-content/uploads/2018/09/ParadiseTattoo_BodyPainting_FantasyFest.jpg
END:VEVENT
BEGIN:VEVENT
DTSTART;VALUE=DATE:20181019
DTEND;VALUE=DATE:20181020
DTSTAMP:20260425T064527
CREATED:20180920T161321Z
LAST-MODIFIED:20180920T161321Z
UID:5455-1539921600-1539993599@mykeywestportal.com
SUMMARY:BART
DESCRIPTION:Fantasy Fest 2018\nOh\, The Games We Play\nBART = Bar + Art Stroll\nSelf guided wander along the docks: \n\nDante's\nConch Republic\nHalf Shell Raw Bar\nTurtle Kraals\nWaterfront Brewery\nSchooner Wharf Bar\nThe Marker\n\nCheck in to the bars using #FantasyFestBarAndArtStroll and posting a picture of the figures and sculptures \n\nYou will have a chance to win a vintage Fantasy Fest t-shirts and swag\n\n 
URL:https://mykeywestportal.com/event/bart/
LOCATION:The Schooner Warf Bar\, 202 William St\, Key West\, FL\, 33040\, United States
ATTACH;FMTTYPE=image/jpeg:https://mykeywestportal.com/wp-content/uploads/2018/09/FantasyFest2018_KeyWest_OhTheGamesWePlay.jpg
END:VEVENT
BEGIN:VEVENT
DTSTART;VALUE=DATE:20181019
DTEND;VALUE=DATE:20181020
DTSTAMP:20260425T064527
CREATED:20180920T155709Z
LAST-MODIFIED:20180920T155709Z
UID:5443-1539921600-1539993599@mykeywestportal.com
SUMMARY:Dress Like Elvis Discount
DESCRIPTION:Fantasy Fest 2018\nOh\, The Games We Play\nDress Like Elvis\n15% off for everyone who dresses like elvis
URL:https://mykeywestportal.com/event/dress-like-elvis-discount/
LOCATION:Two Friends Patio Restaurant\, 512 Front St
ATTACH;FMTTYPE=image/jpeg:https://mykeywestportal.com/wp-content/uploads/2018/09/DressLikeElvis_TwoFriends_FantasyFest.jpg
END:VEVENT
BEGIN:VEVENT
DTSTART;TZID=America/Halifax:20181026T220000
DTEND;TZID=America/Halifax:20181026T220000
DTSTAMP:20260425T064527
CREATED:20181005T142211Z
LAST-MODIFIED:20181005T142211Z
UID:5683-1540591200-1540591200@mykeywestportal.com
SUMMARY:Pimpin' Ain't Easy
DESCRIPTION:Fantasy Fest 2018\nOh\, The Games We Play\nPimpin' Ain't Easy\nJoin the King Pimp\, Ron Jeremy\, and so many Sexy Adult Movie Stars for the wildest party of your life! \nEnter the $700 Mr. Pimp and Ms. Ho costume contest. \nCelebrity DJ's will be mixing live on stage all night. \nGET YOUR TICKETS EARLY!! \nVIP tickets available online at KeysTix.com
URL:https://mykeywestportal.com/event/pimpin-aint-easy-2/
LOCATION:Sandbar\, 511 Greene St\, Key West\, FL\, 33040\, United States
ATTACH;FMTTYPE=image/jpeg:https://mykeywestportal.com/wp-content/uploads/2018/10/PimpinAintEasy_Sandbar_FantasyFest.jpg
END:VEVENT
BEGIN:VEVENT
DTSTART;TZID=America/Halifax:20181026T210000
DTEND;TZID=America/Halifax:20181026T210000
DTSTAMP:20260425T064527
CREATED:20180913T171731Z
LAST-MODIFIED:20180913T171800Z
UID:5360-1540587600-1540587600@mykeywestportal.com
SUMMARY:Glitter and Glow Party
DESCRIPTION:Fantasy Fest 2018\nOh\, The Games We Play\nGlitter and Glow Party\nGlitter AND black light...need I say more? \n\nDJ Kyd starts playing at 9pm\nDrink specials all night\nParty ends at 4am\n\nNo glitter or glow = NO ENTRY
URL:https://mykeywestportal.com/event/5360/
LOCATION:Side Bar Key West\, 504 Angela St\, Key West\, FL\, 33040\, United States
ATTACH;FMTTYPE=image/jpeg:https://mykeywestportal.com/wp-content/uploads/2018/09/GlitterAndGlow_SideBar_KeyWest.jpg
END:VEVENT
BEGIN:VEVENT
DTSTART;TZID=America/Halifax:20181026T200000
DTEND;TZID=America/Halifax:20181026T200000
DTSTAMP:20260425T064527
CREATED:20181005T141033Z
LAST-MODIFIED:20181005T141033Z
UID:5680-1540584000-1540584000@mykeywestportal.com
SUMMARY:18th Annual Living Art Expo
DESCRIPTION:Fantasy Fest 2018\nOh\, The Games We Play\n18th Annual Living Art Expo\nThis is a showcase of the human form as a living canvas. \nContestant entries are open to male\, female\, and groups. \n\nCompeting for Best Overall Living Art of Fantasy Fest 2018 and $3000 in cash and prizes\nBest overall wins $1000 in cash\n\nVIP backstage and stage-front tickets available at KeysTix.com \n 
URL:https://mykeywestportal.com/event/18th-annual-living-art-expo/
LOCATION:Sunset Pier\, 0 Duval st\, Key West\, FL\, 33040\, United States
ATTACH;FMTTYPE=image/jpeg:https://mykeywestportal.com/wp-content/uploads/2018/10/LivingArtExpo_FantasyFest.jpg
END:VEVENT
BEGIN:VEVENT
DTSTART;TZID=America/Halifax:20181026T193000
DTEND;TZID=America/Halifax:20181026T193000
DTSTAMP:20260425T064527
CREATED:20181005T140215Z
LAST-MODIFIED:20181005T140215Z
UID:5677-1540582200-1540582200@mykeywestportal.com
SUMMARY:Masquerade March After-Party
DESCRIPTION:Fantasy Fest 2018\nOh\, The Games We Play\nMasquerade March After-Party\nParty with the The Green Parrot Ukulele Orchestra Band!! \nThe Green Parrot Ukulele Association Band marches down Southard St. all the way to The Green Parrot stage. \nContinue your costumed march through the streets and end the night with The Green Parrot!
URL:https://mykeywestportal.com/event/masquerade-march-after-party-2/
LOCATION:Green Parrot\, 601 Whitehead Street\, Key West\, FL\, 33040\, United States
ATTACH;FMTTYPE=image/jpeg:https://mykeywestportal.com/wp-content/uploads/2018/10/MasqueradeMarch_AfterParty_TheGreenParrot.jpg
END:VEVENT
BEGIN:VEVENT
DTSTART;TZID=America/Halifax:20181026T193000
DTEND;TZID=America/Halifax:20181026T193000
DTSTAMP:20260425T064527
CREATED:20181005T134845Z
LAST-MODIFIED:20181005T134845Z
UID:5674-1540582200-1540582200@mykeywestportal.com
SUMMARY:Playing Games with Lady Lethe
DESCRIPTION:Fantasy Fest 2018\nOh\, The Games We Play\nPlaying Game with Lady Lethe\nLady Lethe is here to get you ready for a Kinky weekend! She will stun you with her titillating and jaw dropping performances. \nPurchase your tickets in advance at KeysTix.com \n 
URL:https://mykeywestportal.com/event/playing-games-with-lady-lethe/
LOCATION:801 Bourbon Bar\, 801 Duval St.\, Key West\, FL\, 33040\, United States
ATTACH;FMTTYPE=image/jpeg:https://mykeywestportal.com/wp-content/uploads/2018/10/PlayingGamesWithLadyLethe_FantasyFest.jpg
END:VEVENT
BEGIN:VEVENT
DTSTART;TZID=America/Halifax:20181019T193000
DTEND;TZID=America/Halifax:20181019T193000
DTSTAMP:20260425T064527
CREATED:20180920T162950Z
LAST-MODIFIED:20180920T163240Z
UID:5477-1539977400-1539977400@mykeywestportal.com
SUMMARY:Madame Dujours Magical Game Show and Burlesque Experience
DESCRIPTION:Fantasy Fest 2018\nOh\, The Games We Play\nMadame Dujours Magical Game Show and Burlesque Experience\nAn astonishing and interactive event awaits as Key West Burlesque and world renowned magician\, Nick Locapo\, take the stage. \n\nOne part live game show\nTwo parts theatrical burlesque\nAll parts fun\n\nEvery night\, audience members have a chance to win cash and prizes as the performers compete in the ultimate episode of miraculous amusement on the stage. \nFor tickets\, visit:  https://www.waterfrontplayhouse.org/shows/key-west-burlesque/ \nOr call 305-294-5015
URL:https://mykeywestportal.com/event/madame-dujours-magical-game-show-and-burlesque-experience/
LOCATION:The Waterfront Playhouse\, 310 Wall St\, Key West\, FL\, 33040\, United States
ATTACH;FMTTYPE=image/jpeg:https://mykeywestportal.com/wp-content/uploads/2018/09/MadameDujours_KeyWest_BurlesqueShow.jpg
END:VEVENT
BEGIN:VEVENT
DTSTART;TZID=America/Halifax:20180907T190000
DTEND;TZID=America/Halifax:20180907T203000
DTSTAMP:20260425T064527
CREATED:20180907T172617Z
LAST-MODIFIED:20180907T172617Z
UID:5226-1536346800-1536352200@mykeywestportal.com
SUMMARY:Flip Out Fridays
DESCRIPTION:Open Gym\n\nTumble track\nBars\nBeams\nVault\n\n*Supervised time to work on existing skills...non-instructional \nPricing: \n\n$15 members\n$20 non-members\n$50 punch card available for members (5 visits)
URL:https://mykeywestportal.com/event/flip-out-fridays/
LOCATION:Key West Sports Academy\, 700 Truman Ave\, Key West\, FL\, 33040\, United States
ATTACH;FMTTYPE=image/jpeg:https://mykeywestportal.com/wp-content/uploads/2018/09/FlipOutFridays_KWSA.jpg
END:VEVENT
BEGIN:VEVENT
DTSTART;TZID=America/Halifax:20181026T190000
DTEND;TZID=America/Halifax:20181026T190000
DTSTAMP:20260425T064527
CREATED:20181001T164146Z
LAST-MODIFIED:20181001T164146Z
UID:5666-1540580400-1540580400@mykeywestportal.com
SUMMARY:Pirate Bash
DESCRIPTION:Fantasy Fest 2018\nOh\, The Games We Play\n12th Annual Pirate Bash \nCalling all Pirates!! \nContests for best pirate and wench costumes - starts at 9pm \n\n$1500 in cash prizes\n\nDJ Cory will be providing the music and RUM SPECIALS will be available all night
URL:https://mykeywestportal.com/event/pirate-bash/
LOCATION:Turtle Kraals\, 231 Margaret St\, Key West\, FL\, 3040\, United States
ATTACH;FMTTYPE=image/jpeg:https://mykeywestportal.com/wp-content/uploads/2018/10/12thAnnualPirateBash_TurtleKraals.jpg
END:VEVENT
BEGIN:VEVENT
DTSTART;TZID=America/Halifax:20180720T181500
DTEND;TZID=America/Halifax:20180720T191500
DTSTAMP:20260425T064527
CREATED:20180630T154230Z
LAST-MODIFIED:20180630T154230Z
UID:4241-1532110500-1532114100@mykeywestportal.com
SUMMARY:Younger Kids Capoeira Gymnastics
DESCRIPTION:Weekly Tumbling Classes \nWhat’s included: \n\nPhysical activity\, creative and dramatic play\, and music are key to lifelong and personal success.\nA rich combination of dance\, acrobatics\, self-defense techniques and music\, capoeira is a uniquely effective tool for activating the minds and bodies of children of all ages.\n\nPromotes physical fitness and health by increasing strength\, flexibility\, and endurance.\n\n\n\n  \nFriday: 4 yrs - 8 yrs \n"Capoeira Tumbling – An Afro- Brazilian Martial Art that cultivates self- transformation through physical\, mental\, and spiritual Reiki.Combining dance\, and self-defense\, it builds gymnastic skills and flexibility\, strength and a heightened awareness of one’s body. Practiced to the rhythm of ancient African instruments\, Capoeira encourages self-expression and resourcefulness--- it is an intense fitness program that can be adapted to any body or physical ability." \nhttps://www.facebook.com/events/240225256560108/?event_time_id=240229263226374
URL:https://mykeywestportal.com/event/younger-kids-capoeira-gymnastics-2/
LOCATION:Spirit Play Gymnasium\, 5800 Overseas Hwy\, Ste 40\, Marathon\, FL\, 33050\, United States
ATTACH;FMTTYPE=image/jpeg:https://mykeywestportal.com/wp-content/uploads/2018/06/SpiritPlayGymnasium_MarathonFlorida.jpg
END:VEVENT
BEGIN:VEVENT
DTSTART;TZID=America/Halifax:20181026T173000
DTEND;TZID=America/Halifax:20181026T203000
DTSTAMP:20260425T064527
CREATED:20181001T163441Z
LAST-MODIFIED:20181001T163441Z
UID:5661-1540575000-1540585800@mykeywestportal.com
SUMMARY:Masquerade March
DESCRIPTION:Fantasy Fest 2018\nOh\, The Games We Play\nMasquerade March\nParade through Old Town with music and noisemakers! \nDrinks provided at select guesthouses... \nThe parade begins at the Key West Cemetery (Frances St. entrance) \nALL WELCOME
URL:https://mykeywestportal.com/event/masquerade-march-2/
LOCATION:Key West Cemetery\, 701 Pauline St\, Key West\, FL\, 33040\, United States
ATTACH;FMTTYPE=image/jpeg:https://mykeywestportal.com/wp-content/uploads/2018/10/MaqueradeMarch_KeyWest.jpg
END:VEVENT
BEGIN:VEVENT
DTSTART;TZID=America/Halifax:20181025T170000
DTEND;TZID=America/Halifax:20181025T190000
DTSTAMP:20260425T064527
CREATED:20181001T134926Z
LAST-MODIFIED:20181001T162649Z
UID:5622-1540486800-1540494000@mykeywestportal.com
SUMMARY:Custom House Performance Art
DESCRIPTION:Fantasy Fest 2018\nOh\, The Games We Play\nCustom House Performance Art\nJoin local street performers as they showcase their skills and talents in live performances! \n 
URL:https://mykeywestportal.com/event/custom-house-performance-art/
LOCATION:The Custom House\, 281 Front Street\, Key West\, FL\, 33040\, United States
ATTACH;FMTTYPE=image/jpeg:https://mykeywestportal.com/wp-content/uploads/2018/10/CustomHouse_PerformaceArt.jpg
END:VEVENT
BEGIN:VEVENT
DTSTART;TZID=America/Halifax:20180713T153000
DTEND;TZID=America/Halifax:20180713T163000
DTSTAMP:20260425T064527
CREATED:20180713T152220Z
LAST-MODIFIED:20180713T153051Z
UID:4354-1531495800-1531499400@mykeywestportal.com
SUMMARY:Lego Club
DESCRIPTION:LEGO CLUB\n**NO registration required \nIf you love Legos and being creative\, then join us every Friday to build some adventures! \n\nLegos are provided by the library\n\nLego donations are appreciated\n\n\n\n 
URL:https://mykeywestportal.com/event/lego-club/
LOCATION:FL
ATTACH;FMTTYPE=image/jpeg:https://mykeywestportal.com/wp-content/uploads/2018/07/ReShot_LegoClub_KeyWest_Library.jpg
END:VEVENT
BEGIN:VEVENT
DTSTART;TZID=America/Halifax:20181021T150000
DTEND;TZID=America/Halifax:20181021T180000
DTSTAMP:20260425T064527
CREATED:20180716T135606Z
LAST-MODIFIED:20180716T135606Z
UID:4488-1540134000-1540144800@mykeywestportal.com
SUMMARY:CFMS Key West Hook and Slice Fundraiser
DESCRIPTION:This event includes a 4 day and 3 night stay at the Casa Marina\, meals\, golfing on the Rees Jones Golf Course\, and sport fishing off the coast.
URL:https://mykeywestportal.com/event/cfms-key-west-hook-and-slice-fundraiser/
LOCATION:Casa Marina\, 1500 Reynolds St\, Key West\, FL\, 33040\, United States
ATTACH;FMTTYPE=image/jpeg:https://mykeywestportal.com/wp-content/uploads/2018/07/CFMs_HookAndSlice_Fundraiser_CasaMarina_KeyWest.jpg
END:VEVENT
BEGIN:VEVENT
DTSTART;TZID=America/Halifax:20181026T130000
DTEND;TZID=America/Halifax:20181026T160000
DTSTAMP:20260425T064527
CREATED:20181001T162350Z
LAST-MODIFIED:20181001T162350Z
UID:5657-1540558800-1540569600@mykeywestportal.com
SUMMARY:Tea in the Street and Pool Party
DESCRIPTION:Fantasy Fest 2018\nOh\, The Games We Play\nTea in the Street and Pool Party\nThe Biggest dance party in the street! \nDance and drink on Duval with LIVE DJ's\, boys\, beads\, booze\, drag queens\, celebrities\, and more!
URL:https://mykeywestportal.com/event/tea-in-the-street-and-pool-party/
LOCATION:Bourbon St Pub\, 724 Duval st\, Key West\, FL\, 33040\, United States
ATTACH;FMTTYPE=image/jpeg:https://mykeywestportal.com/wp-content/uploads/2018/10/TeaInTheStreet_Bourbob.jpg
END:VEVENT
BEGIN:VEVENT
DTSTART;TZID=America/Halifax:20181019T130000
DTEND;TZID=America/Halifax:20181019T130000
DTSTAMP:20260425T064527
CREATED:20180920T155107Z
LAST-MODIFIED:20180920T155107Z
UID:5432-1539954000-1539954000@mykeywestportal.com
SUMMARY:Body Painting and Sunsets
DESCRIPTION:Fantasy Fest 2018\nOh\, The Games We Play\nFemme Fatale Quatre Body Art\nBecome a Canvas and join the premier all girl team of body artists daily! \n\nSmall body art pieces\nFull body art pieces\nWaterproof and sweat proof options\nBling bar\nSunset viewing\nFood and drink available for purchase\n\nBook appointments NOW by calling or texting 850-596-4065 \n**Walk up may be available\, but not gaurantee** \nCheck out the FB page "Femme Fatale Quatre Body Art" to check out some work
URL:https://mykeywestportal.com/event/body-painting-and-sunsets/
LOCATION:Sunset Pier\, 0 Duval st\, Key West\, FL\, 33040\, United States
ATTACH;FMTTYPE=image/jpeg:https://mykeywestportal.com/wp-content/uploads/2018/09/FemmeFatale_BodyArt_SunsetPier_FantasyFest.jpg
END:VEVENT
BEGIN:VEVENT
DTSTART;TZID=America/Halifax:20181026T120000
DTEND;TZID=America/Halifax:20181026T170000
DTSTAMP:20260425T064527
CREATED:20181001T161545Z
LAST-MODIFIED:20181001T161545Z
UID:5654-1540555200-1540573200@mykeywestportal.com
SUMMARY:Street Fair
DESCRIPTION:Fantasy Fest 2018\nOh\, The Games We Play\nStreet Fair\nExperience the Mile-long street fair down Duval St. \nFeatures extravagant arts and crafts\, food vendors\, lively libations\, and amazing costumes!
URL:https://mykeywestportal.com/event/street-fair/
LOCATION:Duval Street\, Key West\, FL\, 33040\, United States
ATTACH;FMTTYPE=image/jpeg:https://mykeywestportal.com/wp-content/uploads/2018/10/StreetFair_FantasyFest_DuvalStreet.jpg
END:VEVENT
BEGIN:VEVENT
DTSTART;TZID=America/Halifax:20181026T120000
DTEND;TZID=America/Halifax:20181026T170000
DTSTAMP:20260425T064527
CREATED:20181001T160904Z
LAST-MODIFIED:20181001T160904Z
UID:5651-1540555200-1540573200@mykeywestportal.com
SUMMARY:Bowties & Birthday Suits
DESCRIPTION:Fantasy Fest 2018\nOh\, The Games We Play\nBowties & Birthday Suits\nALL  MALE\, CLOTHING OPTIONAL POOL PARTY!! \n*All body types welcome and no costumes necessary* \nAdmissions includes a bowtie\, 1st cocktail\, and free resort privileges until 8am Saturday. \n\nDJ KYD\nGo-go boys pole dancing\nFree shots\nPoolside Cafe and bar open 24 hrs\nLocks and lockers provided\nFree clothes check\n\nPHOTO ID REQUIRED FOR EVERYONE
URL:https://mykeywestportal.com/event/bowties-birthday-suits-2/
LOCATION:Island House Resort\, 1129 Fleming St\, Key West\, FL\, 33040\, United States
ATTACH;FMTTYPE=image/jpeg:https://mykeywestportal.com/wp-content/uploads/2018/10/BowtiesAndBirthdaySuits_IslandHouse.jpg
END:VEVENT
BEGIN:VEVENT
DTSTART;TZID=America/Halifax:20181026T120000
DTEND;TZID=America/Halifax:20181026T170000
DTSTAMP:20260425T064527
CREATED:20180913T173624Z
LAST-MODIFIED:20180913T173624Z
UID:5366-1540555200-1540573200@mykeywestportal.com
SUMMARY:Noche Libre
DESCRIPTION:Fantasy Fest 2018\nOh\, The Games We Play\nNoche Libre\nGet ready to experience Cuba's glory days at Havana Cabana. \n\nDance\nWin prizes\nFloridita salsa band performing LIVE\n15 different types of mojitos\nPool party\nFood specials\nFree give aways\nSpecialty cocktails\nGames\n\nJenga\nPing pong\nCorn hole\n\n\n\n**Great for all ages
URL:https://mykeywestportal.com/event/noche-libre/
LOCATION:Havana Cabana\, 3420 N. Roosevelt Blvd\, Key West\, FL\, 33040\, United States
ATTACH;FMTTYPE=image/jpeg:https://mykeywestportal.com/wp-content/uploads/2018/09/NocheLibre_HavanaCabana_KeyWest_FantasyFest.jpg
END:VEVENT
BEGIN:VEVENT
DTSTART;TZID=America/Halifax:20181019T100000
DTEND;TZID=America/Halifax:20181019T235900
DTSTAMP:20260425T064527
CREATED:20180920T162117Z
LAST-MODIFIED:20180920T162117Z
UID:5466-1539943200-1539993540@mykeywestportal.com
SUMMARY:Body Painting at Paradise Tattoo
DESCRIPTION:Fantasy Fest 2018\nOh\, The Games We Play\nBody Painting with Wiser Oner\nCome get painted by celebrity body painter\, WiserOner from Naked Vegas and his Body artist crew. \n\nStencils\nFull body art\nProfessional photo shoot\nCostumes\nPaint accessories\n$3 Bud Light and Bud roadies\n\nFor appointment\, call 305-292-9110 to make an appointment \n**Walk in's may be available
URL:https://mykeywestportal.com/event/body-painting-at-paradise-tattoo/
LOCATION:Paradise Tattoo\, 627 Duval St\, Key West\, FL\, 33040\, United States
ATTACH;FMTTYPE=image/jpeg:https://mykeywestportal.com/wp-content/uploads/2018/09/ParadiseTattoo_BodyPainting_FantasyFest.jpg
END:VEVENT
BEGIN:VEVENT
DTSTART;VALUE=DATE:20181019
DTEND;VALUE=DATE:20181020
DTSTAMP:20260425T064527
CREATED:20180920T161321Z
LAST-MODIFIED:20180920T161321Z
UID:5455-1539921600-1539993599@mykeywestportal.com
SUMMARY:BART
DESCRIPTION:Fantasy Fest 2018\nOh\, The Games We Play\nBART = Bar + Art Stroll\nSelf guided wander along the docks: \n\nDante's\nConch Republic\nHalf Shell Raw Bar\nTurtle Kraals\nWaterfront Brewery\nSchooner Wharf Bar\nThe Marker\n\nCheck in to the bars using #FantasyFestBarAndArtStroll and posting a picture of the figures and sculptures \n\nYou will have a chance to win a vintage Fantasy Fest t-shirts and swag\n\n 
URL:https://mykeywestportal.com/event/bart/
LOCATION:The Schooner Warf Bar\, 202 William St\, Key West\, FL\, 33040\, United States
ATTACH;FMTTYPE=image/jpeg:https://mykeywestportal.com/wp-content/uploads/2018/09/FantasyFest2018_KeyWest_OhTheGamesWePlay.jpg
END:VEVENT
BEGIN:VEVENT
DTSTART;VALUE=DATE:20181019
DTEND;VALUE=DATE:20181020
DTSTAMP:20260425T064527
CREATED:20180920T155709Z
LAST-MODIFIED:20180920T155709Z
UID:5443-1539921600-1539993599@mykeywestportal.com
SUMMARY:Dress Like Elvis Discount
DESCRIPTION:Fantasy Fest 2018\nOh\, The Games We Play\nDress Like Elvis\n15% off for everyone who dresses like elvis
URL:https://mykeywestportal.com/event/dress-like-elvis-discount/
LOCATION:Two Friends Patio Restaurant\, 512 Front St
ATTACH;FMTTYPE=image/jpeg:https://mykeywestportal.com/wp-content/uploads/2018/09/DressLikeElvis_TwoFriends_FantasyFest.jpg
END:VEVENT
BEGIN:VEVENT
DTSTART;TZID=America/Halifax:20181025T223000
DTEND;TZID=America/Halifax:20181025T223000
DTSTAMP:20260425T064527
CREATED:20181001T154935Z
LAST-MODIFIED:20181001T154935Z
UID:5648-1540506600-1540506600@mykeywestportal.com
SUMMARY:80's Party
DESCRIPTION:Fantasy Fest 2018\nOh\, The Games We Play\n80's Party\nGet out your leg warmers and your best 80's costumes for this annual event! \nAwards will be given out throughout the day. \nA Live band will be performing the best of the 80's!
URL:https://mykeywestportal.com/event/80s-party-2/
LOCATION:Irish Kevin's\, 211 Duval St\, Key West\, FL\, 33040\, United States
ATTACH;FMTTYPE=image/jpeg:https://mykeywestportal.com/wp-content/uploads/2018/10/80sParty_IrishKevins_FantasyFest.jpg
END:VEVENT
BEGIN:VEVENT
DTSTART;TZID=America/Halifax:20181025T220000
DTEND;TZID=America/Halifax:20181025T220000
DTSTAMP:20260425T064527
CREATED:20181001T153111Z
LAST-MODIFIED:20181001T153111Z
UID:5645-1540504800-1540504800@mykeywestportal.com
SUMMARY:Pajama and Lingerie Party
DESCRIPTION:Fantasy Fest 2018\nOh\, The Games We Play\nPajama and Lingerie Party\nPay tribute to Mr. Playboy and party with other playmates\, bunnies\, and models. This event will make you feel like you are at the Mansion! \n\nMarilyn Monroe and Hugh Hefner Look-a-Like Contest\n\n$700 prize\n\n\n\nDress in your sexiest nightwear and prepare to party
URL:https://mykeywestportal.com/event/pajama-and-lingerie-party-2/
LOCATION:The Bottle Cap\, 1128 Simonton St\, Key West\, FL\, 33040\, United States
ATTACH;FMTTYPE=image/jpeg:https://mykeywestportal.com/wp-content/uploads/2018/10/PajamaAndLingerie_BottleCap.jpg
END:VEVENT
BEGIN:VEVENT
DTSTART;TZID=America/Halifax:20181025T210000
DTEND;TZID=America/Halifax:20181025T210000
DTSTAMP:20260425T064527
CREATED:20181001T151537Z
LAST-MODIFIED:20181001T151537Z
UID:5639-1540501200-1540501200@mykeywestportal.com
SUMMARY:Pink Party
DESCRIPTION:Fantasy Fest 2018\nOh\, The Games We Play\nPink Party\n"SAVE THE TATA'S" \nA portion of all proceeds will go to the American Cancer Society - Making Strides Against Breast Cancer of the Florida Keys! \nWear your sexiest pink costume or pink body painting. \nCostume Contest!! \n\n1st prize: $500 bar tab\n2nd prize: $250 bar tab\n3rd prize: $100 bar tab\n\nLive entertainment by DJ Buggy \nParty favors while supplies last.
URL:https://mykeywestportal.com/event/pink-party/
LOCATION:Fat Tuesday\, 305 Duval St\, Key Wesy\, FL\, 33040\, United States
ATTACH;FMTTYPE=image/jpeg:https://mykeywestportal.com/wp-content/uploads/2018/10/PinkParty_FatTuesday_FantasyFest.jpg
END:VEVENT
END:VCALENDAR