BEGIN:VCALENDAR
VERSION:2.0
PRODID:-//My Key West Portal is the Social Calendar for the Florida Keys and Key West - ECPv6.15.11//NONSGML v1.0//EN
CALSCALE:GREGORIAN
METHOD:PUBLISH
X-WR-CALNAME:My Key West Portal is the Social Calendar for the Florida Keys and Key West
X-ORIGINAL-URL:https://mykeywestportal.com
X-WR-CALDESC:Events for My Key West Portal is the Social Calendar for the Florida Keys and Key West
REFRESH-INTERVAL;VALUE=DURATION:PT1H
X-Robots-Tag:noindex
X-PUBLISHED-TTL:PT1H
BEGIN:VTIMEZONE
TZID:UTC
BEGIN:STANDARD
TZOFFSETFROM:+0000
TZOFFSETTO:+0000
TZNAME:UTC
DTSTART:20160101T000000
END:STANDARD
END:VTIMEZONE
BEGIN:VEVENT
DTSTART;TZID=UTC:20170808T120000
DTEND;TZID=UTC:20170808T130000
DTSTAMP:20260424T092428
CREATED:20170731T185016Z
LAST-MODIFIED:20170731T185916Z
UID:130-1502193600-1502197200@mykeywestportal.com
SUMMARY:Key West Toastmasters Club Meeting
DESCRIPTION:Toastmasters is an internationally recognized organization\, specializing in communication and leadership developement. \nMeetings are the second and fourth Tuesday of each month and start on time at 12pm. Meetings are open for anyone who wishes to improve their leadership and communications skills. \nToastmasters Mission statement: \n"We empower individuals to become more effective communicators and leaders."
URL:https://mykeywestportal.com/event/key-west-toastmasters-club-meeting/
LOCATION:Keys Federal Credit Union\, 3022 N. Roosevelt (Key Plaza)\, Key West\, 33040\, United States
END:VEVENT
BEGIN:VEVENT
DTSTART;TZID=UTC:20180104T100000
DTEND;TZID=UTC:20180104T113000
DTSTAMP:20260424T092428
CREATED:20180104T224754Z
LAST-MODIFIED:20180104T225036Z
UID:923-1515060000-1515065400@mykeywestportal.com
SUMMARY:Fort Adventures Parent and Me Class
DESCRIPTION:Every Tuesday and Thursday morning this fun and educational class will focus on a specific theme that includes art\, science\, math\, and building. After a playful group circle time that promotes creativity\, sensory exploration and problem solving\, Ms. Elizabeth will fill your morning with engaging activities. Enjoy the Imagination Playground\, water play and story time in the spectacular setting of the Martello tower\, one of six in the country. \nClasses are Free to Key West Art and Historical Society Members.
URL:https://mykeywestportal.com/event/fort-adventures-parent-and-me-class/
LOCATION:East Martello Tower\, 3501 S Roosevelt Blvd\, Key West\, FL\, 33040\, United States
ATTACH;FMTTYPE=image/jpeg:https://mykeywestportal.com/wp-content/uploads/2018/01/KWAHS_fort_martello_kids.jpg
ORGANIZER;CN="Key West Art and Historical Society":MAILTO:awilliams@kwahs.org
END:VEVENT
BEGIN:VEVENT
DTSTART;TZID=UTC:20180106T080000
DTEND;TZID=UTC:20180106T120000
DTSTAMP:20260424T092428
CREATED:20180104T213958Z
LAST-MODIFIED:20220621T013558Z
UID:870-1515225600-1515240000@mykeywestportal.com
SUMMARY:1st Saturday of the Month Hazardous Waste Drop Off
DESCRIPTION:This Household Hazardous Waste and Electronics Drop-off Day provides a safe and environmentally sound way to get rid of hard-to-dispose-of items. \nImportant Musts: \n  \n1. City of Key West Residents Only \n2. No Businesses \n  \n  \n  \n\nAccepting: Household Chemicals and Electronics\nGasoline (up to 5 gallons in a leakproof container)\nPaints\nStains\nPreservatives\nPesticides\nFertilizers\nRoofing Compounds\nWaste oil and Cooking oil\nResins and Solvents\nAdhesives and Caulks\nCorrosives and Acids\nCleaning Products\nAutomotive Fluids\nElectronics are also be accepted: microwaves\, TVs\, computers\, game systems\, speakers\, telephones\, circuit boards\, etc.\n\nFor more information contact the City of Key West: at 305-809-3776\, or Waste Management: at 305-296-8297. \n \n  \n  \n 
URL:https://mykeywestportal.com/event/1st-saturday-of-the-month-hazardous-waste-drop-off/
LOCATION:Indigenous Park\, 1801 White Street\, Key West\, FL\, 33040\, United States
CATEGORIES:Community
ATTACH;FMTTYPE=image/jpeg:https://mykeywestportal.com/wp-content/uploads/2018/01/MyKeyWestPortal-Hazardous-Waste-Drop-Off-Waste-Management-Key-West.jpg
END:VEVENT
BEGIN:VEVENT
DTSTART;TZID=UTC:20180105T190000
DTEND;TZID=UTC:20180105T213000
DTSTAMP:20260424T092428
CREATED:20180103T200924Z
LAST-MODIFIED:20180104T035252Z
UID:657-1515178800-1515187800@mykeywestportal.com
SUMMARY:Bayview Park Movie Series: Despicable Me 3
DESCRIPTION:  \nThe mischievous Minions hope that Gru will return to a life of crime after the new boss of the Anti-Villain League fires him. The Minions soon find themselves in an uneasy alliance to take down the elusive Balthazar Bratt\, a former 1980s child star who seeks revenge against the world; and Gru decides to remain retired and travel to meet his long-lost twin brother for the first time. Cast includes an all star lineup!\n\n\nSteve Carell stars as Gru\n\n\nKristen Wig from Saturday Night Live as Lucy\n\n\nTrey Parker; Creator of Southpark as Balthazar\n\n\nJulie Andrews stars as Gru's mother\n The soundtrack is fantastic also!!! - Check out the trailer!\n\n\n \nPopcorn provided by SOS Foundation\, food\, and drinks available for purchase.\nLow-lying chairs and blankets welcomed.\nThis is a no smoking event. Friendly pets are invited\, too!
URL:https://mykeywestportal.com/event/bayview-park-movie-series-despicable-me-3/
LOCATION:Bayview Park\, Truman Ave\, and Eisenhower Dr\, Key West\, FL\, 33040\, United States
ATTACH;FMTTYPE=image/jpeg:https://mykeywestportal.com/wp-content/uploads/2017/12/bayviewpark_outdoormovie_despicableme3.2-1.jpg
END:VEVENT
BEGIN:VEVENT
DTSTART;TZID=UTC:20180104T100000
DTEND;TZID=UTC:20180104T113000
DTSTAMP:20260424T092428
CREATED:20180104T224754Z
LAST-MODIFIED:20180104T225036Z
UID:923-1515060000-1515065400@mykeywestportal.com
SUMMARY:Fort Adventures Parent and Me Class
DESCRIPTION:Every Tuesday and Thursday morning this fun and educational class will focus on a specific theme that includes art\, science\, math\, and building. After a playful group circle time that promotes creativity\, sensory exploration and problem solving\, Ms. Elizabeth will fill your morning with engaging activities. Enjoy the Imagination Playground\, water play and story time in the spectacular setting of the Martello tower\, one of six in the country. \nClasses are Free to Key West Art and Historical Society Members.
URL:https://mykeywestportal.com/event/fort-adventures-parent-and-me-class/
LOCATION:East Martello Tower\, 3501 S Roosevelt Blvd\, Key West\, FL\, 33040\, United States
ATTACH;FMTTYPE=image/jpeg:https://mykeywestportal.com/wp-content/uploads/2018/01/KWAHS_fort_martello_kids.jpg
ORGANIZER;CN="Key West Art and Historical Society":MAILTO:awilliams@kwahs.org
END:VEVENT
BEGIN:VEVENT
DTSTART;TZID=UTC:20180104T090000
DTEND;TZID=UTC:20180104T140000
DTSTAMP:20260424T092428
CREATED:20180104T031906Z
LAST-MODIFIED:20180104T032755Z
UID:724-1515056400-1515074400@mykeywestportal.com
SUMMARY:Green Market
DESCRIPTION:Every Thursday  find an eclectic array of vendors at Key West Weekly Green Market at Bayview Park.\nLife can be very simple shopping for pre-made meals\, fresh produce\, delicious cheeses\, beautiful orchids\, some health and beauty needs at this small market. \nPlanning a party this season\, or while you’re in town with friends and family?  Why not have a Paella Party?  They’re serving Paella at the Green Market – they cater as well. \n        \n 
URL:https://mykeywestportal.com/event/green-market/
LOCATION:Bayview Park\, Truman Ave\, and Eisenhower Dr\, Key West\, FL\, 33040\, United States
ATTACH;FMTTYPE=image/jpeg:https://mykeywestportal.com/wp-content/uploads/2018/01/Mediterranean_Key_West_GreenMarket__MyKeyWestPortal.com_.jpg
END:VEVENT
BEGIN:VEVENT
DTSTART;TZID=UTC:20170808T120000
DTEND;TZID=UTC:20170808T130000
DTSTAMP:20260424T092428
CREATED:20170731T185016Z
LAST-MODIFIED:20170731T185916Z
UID:130-1502193600-1502197200@mykeywestportal.com
SUMMARY:Key West Toastmasters Club Meeting
DESCRIPTION:Toastmasters is an internationally recognized organization\, specializing in communication and leadership developement. \nMeetings are the second and fourth Tuesday of each month and start on time at 12pm. Meetings are open for anyone who wishes to improve their leadership and communications skills. \nToastmasters Mission statement: \n"We empower individuals to become more effective communicators and leaders."
URL:https://mykeywestportal.com/event/key-west-toastmasters-club-meeting/
LOCATION:Keys Federal Credit Union\, 3022 N. Roosevelt (Key Plaza)\, Key West\, 33040\, United States
END:VEVENT
BEGIN:VEVENT
DTSTART;TZID=UTC:20171221T170000
DTEND;TZID=UTC:20171221T210000
DTSTAMP:20260424T092428
CREATED:20171221T194844Z
LAST-MODIFIED:20171221T194844Z
UID:648-1513875600-1513890000@mykeywestportal.com
SUMMARY:Key West Art & Historical Society Holiday Concert & Bazaar
DESCRIPTION:THE CUSTOM HOUSE HOLIDAY CONCERT & BAZAAR\nGet into the holiday spirit with Key West Art & Historical Society’s Holiday Concert & Bazaar on Thursday\, December 21st from 5PM to 9PM\, located on the sweeping historic porch and promenade of the magnificent four-story 'architectural crown jewel' of Key West; The Custom House Museum.\n\n\nFeatures Key West’s Finest Artisans\, Musicians and Choirs\, along with a spectacular Holiday Light Show\n\n\nProceeds benefit the Bahama Village Music Program & Society educational programs.  \n\n\nBrowse hundreds of unique gift options at this signature holiday event\n\n\nEnjoy music\, food and libations with eggnog and a champagne bar to lift the frazzled ‘final shopping days’ spirits.\n\n\nSociety members can also enjoy a 30% discount (normally 20% for members) at the museum’s store from 6PM to 8PM\, and VIP membership table with champagne and treats.\nSANTA will be on hand for last minute requests and ‘selfie’ photos.\n  \n  \n 
URL:https://mykeywestportal.com/event/key-west-art-historical-society-holiday-concert-bazaar/
LOCATION:The Custom House\, 281 Front Street\, Key West\, FL\, 33040\, United States
END:VEVENT
BEGIN:VEVENT
DTSTART;TZID=UTC:20170808T120000
DTEND;TZID=UTC:20170808T130000
DTSTAMP:20260424T092428
CREATED:20170731T185016Z
LAST-MODIFIED:20170731T185916Z
UID:130-1502193600-1502197200@mykeywestportal.com
SUMMARY:Key West Toastmasters Club Meeting
DESCRIPTION:Toastmasters is an internationally recognized organization\, specializing in communication and leadership developement. \nMeetings are the second and fourth Tuesday of each month and start on time at 12pm. Meetings are open for anyone who wishes to improve their leadership and communications skills. \nToastmasters Mission statement: \n"We empower individuals to become more effective communicators and leaders."
URL:https://mykeywestportal.com/event/key-west-toastmasters-club-meeting/
LOCATION:Keys Federal Credit Union\, 3022 N. Roosevelt (Key Plaza)\, Key West\, 33040\, United States
END:VEVENT
BEGIN:VEVENT
DTSTART;TZID=UTC:20171209T200000
DTEND;TZID=UTC:20171209T220000
DTSTAMP:20260424T092428
CREATED:20170731T205736Z
LAST-MODIFIED:20170731T205736Z
UID:197-1512849600-1512856800@mykeywestportal.com
SUMMARY:Annual Lighted Boat Parade
DESCRIPTION:Schooner Wharf Lighted Boat Parade 2014 \nThe 27th annual Schooner Wharf Bar & Galley Lighted Boat Parade will festively illuminate the waters at Key West’s Historic Seaport.  The vessels will begin parading at 8 p.m. Early arrivers can stroll and enjoy the magical beauty of the Key West Harbor Walk of Lights\, then from 6-8 p.m.\, catch the children's House of Pan Steel Drum Band of Bahama Village as they perform on the Schooner Wharf stage\, followed by more live music by Raven Cooper and Friends.
URL:https://mykeywestportal.com/event/annual-lighted-boat-parade/
LOCATION:Historic Seaport and Waterfront\, Key West\, FL\, 33040\, United States
END:VEVENT
BEGIN:VEVENT
DTSTART;TZID=UTC:20171202T190000
DTEND;TZID=UTC:20171202T210000
DTSTAMP:20260424T092428
CREATED:20170731T204014Z
LAST-MODIFIED:20170731T204014Z
UID:193-1512241200-1512248400@mykeywestportal.com
SUMMARY:Key West Annual Holiday Parade
DESCRIPTION:Key West will be showing its holiday spirit with the annual hometown parade with marching bands\, groups and floats.  Route proceeds down Truman Ave to Duval\, where it takes a right and continues on to Eaton Street.  Some streets will be closed for this event.
URL:https://mykeywestportal.com/event/key-west-annual-holiday-parade/
LOCATION:Duval Street\, Key West\, FL\, 33040\, United States
END:VEVENT
BEGIN:VEVENT
DTSTART;TZID=UTC:20170808T120000
DTEND;TZID=UTC:20170808T130000
DTSTAMP:20260424T092428
CREATED:20170731T185016Z
LAST-MODIFIED:20170731T185916Z
UID:130-1502193600-1502197200@mykeywestportal.com
SUMMARY:Key West Toastmasters Club Meeting
DESCRIPTION:Toastmasters is an internationally recognized organization\, specializing in communication and leadership developement. \nMeetings are the second and fourth Tuesday of each month and start on time at 12pm. Meetings are open for anyone who wishes to improve their leadership and communications skills. \nToastmasters Mission statement: \n"We empower individuals to become more effective communicators and leaders."
URL:https://mykeywestportal.com/event/key-west-toastmasters-club-meeting/
LOCATION:Keys Federal Credit Union\, 3022 N. Roosevelt (Key Plaza)\, Key West\, 33040\, United States
END:VEVENT
BEGIN:VEVENT
DTSTART;TZID=UTC:20170808T120000
DTEND;TZID=UTC:20170808T130000
DTSTAMP:20260424T092428
CREATED:20170731T185016Z
LAST-MODIFIED:20170731T185916Z
UID:130-1502193600-1502197200@mykeywestportal.com
SUMMARY:Key West Toastmasters Club Meeting
DESCRIPTION:Toastmasters is an internationally recognized organization\, specializing in communication and leadership developement. \nMeetings are the second and fourth Tuesday of each month and start on time at 12pm. Meetings are open for anyone who wishes to improve their leadership and communications skills. \nToastmasters Mission statement: \n"We empower individuals to become more effective communicators and leaders."
URL:https://mykeywestportal.com/event/key-west-toastmasters-club-meeting/
LOCATION:Keys Federal Credit Union\, 3022 N. Roosevelt (Key Plaza)\, Key West\, 33040\, United States
END:VEVENT
BEGIN:VEVENT
DTSTART;TZID=UTC:20171031T210000
DTEND;TZID=UTC:20171101T040000
DTSTAMP:20260424T092428
CREATED:20171031T214528Z
LAST-MODIFIED:20171031T214528Z
UID:600-1509483600-1509508800@mykeywestportal.com
SUMMARY:Green Parrot's Famous Halloween Party
DESCRIPTION:Come out for this great local annual event at the Green Parrot. Come in costume and join in the festivities
URL:https://mykeywestportal.com/event/green-parrots-famous-halloween-party/
LOCATION:Green Parrot\, 601 Whitehead Street\, Key West\, FL\, 33040\, United States
END:VEVENT
BEGIN:VEVENT
DTSTART;TZID=UTC:20170808T120000
DTEND;TZID=UTC:20170808T130000
DTSTAMP:20260424T092428
CREATED:20170731T185016Z
LAST-MODIFIED:20170731T185916Z
UID:130-1502193600-1502197200@mykeywestportal.com
SUMMARY:Key West Toastmasters Club Meeting
DESCRIPTION:Toastmasters is an internationally recognized organization\, specializing in communication and leadership developement. \nMeetings are the second and fourth Tuesday of each month and start on time at 12pm. Meetings are open for anyone who wishes to improve their leadership and communications skills. \nToastmasters Mission statement: \n"We empower individuals to become more effective communicators and leaders."
URL:https://mykeywestportal.com/event/key-west-toastmasters-club-meeting/
LOCATION:Keys Federal Credit Union\, 3022 N. Roosevelt (Key Plaza)\, Key West\, 33040\, United States
END:VEVENT
BEGIN:VEVENT
DTSTART;TZID=UTC:20171029T120000
DTEND;TZID=UTC:20171029T170000
DTSTAMP:20260424T092428
CREATED:20170731T202449Z
LAST-MODIFIED:20170731T202449Z
UID:190-1509278400-1509296400@mykeywestportal.com
SUMMARY:Children's Day
DESCRIPTION:A family event featuring food\, rides\, games\, arts and crafts and a costume contest for children located at Bayview Park. Truman Ave. and Eisenhower Dr.; Noon to 5 PM;
URL:https://mykeywestportal.com/event/childrens-day/
LOCATION:Bayview Park\, Truman Ave\, and Eisenhower Dr\, Key West\, FL\, 33040\, United States
END:VEVENT
BEGIN:VEVENT
DTSTART;TZID=UTC:20171028T190000
DTEND;TZID=UTC:20171028T223000
DTSTAMP:20260424T092428
CREATED:20170731T201057Z
LAST-MODIFIED:20170731T201057Z
UID:184-1509217200-1509229800@mykeywestportal.com
SUMMARY:Bud Light FANTASY FEST Parade
DESCRIPTION:TIME TRAVEL UNRAVELS\nPast ..future…Present let your mind wander! This year’s Fantasy Fest theme\, Time Travel Unravels\, takes your imagination to anywhere on the time-space continuum. There are limitless possibilities!!! Let your inspiration guide you as you cultivate your costumed revelry into the past colonial era \, roman empire\, Italian renaissance …or catapult your creativity to a future era of living in the cosmos. You can set your time machine to go where your whim and imagination takes you. \n \nJoin 70\,000 exuberant partygoers as this year’s Bud Light Fantasy Fest parade rolls down Duval Street. Featuring glittering floats\, spectacular costumes\, and dazzling dancing groups\, it doesn’t get any wilder than this! Parade steps off at 7 PM; FREE.
URL:https://mykeywestportal.com/event/bud-light-fantasy-fest-parade/
LOCATION:Duval Street\, Key West\, FL\, 33040\, United States
END:VEVENT
BEGIN:VEVENT
DTSTART;TZID=UTC:20171027T220000
DTEND;TZID=UTC:20171027T233000
DTSTAMP:20260424T092428
CREATED:20170905T215811Z
LAST-MODIFIED:20170905T215811Z
UID:595-1509141600-1509147000@mykeywestportal.com
SUMMARY:PIMPIN AINT EASY
DESCRIPTION:This event is guaranteed to satisfy all your erotic dreams. Join the King Pimp himself\, Ron Jeremy\, for the wildest party of your life! Enter the $700 Mr. Pimp and Ms. Ho costume contest. Plus dance to the music of celebrity DJs mixing live on stage. This event sells out every year. Purchase Advance VIP Tickets online at keystix.com; or call 305 304 1188 Sandbar 511 Greene St.; 10 PM; $. keystix.com
URL:https://mykeywestportal.com/event/pimpin-aint-easy/
LOCATION:Sandbar\, 511 Greene St\, Key West\, FL\, 33040\, United States
END:VEVENT
BEGIN:VEVENT
DTSTART;TZID=UTC:20171027T210000
DTEND;TZID=UTC:20171027T233000
DTSTAMP:20260424T092428
CREATED:20170905T215413Z
LAST-MODIFIED:20170905T215413Z
UID:592-1509138000-1509147000@mykeywestportal.com
SUMMARY:GLITTER AND GLOW PARTY
DESCRIPTION:Glitter! Yep\, Glitter. And if that’s not enough\, a bit of black light to make everything sparkle AND glow! No glitter or glow\, no entry. Join us at Sidebar Key West at 504 Angela St (Corner of Duval and Angela). 305-294-0555. DJ Kyd gets things going at 9pm and the party goes until 4am. Drink specials start early and go all night. Prizes for the best glitter/glow get ups.
URL:https://mykeywestportal.com/event/glitter-and-glow-party/
LOCATION:Side Bar Key West\, 504 Angela St\, Key West\, FL\, 33040\, United States
END:VEVENT
BEGIN:VEVENT
DTSTART;TZID=UTC:20171027T210000
DTEND;TZID=UTC:20171027T233000
DTSTAMP:20260424T092428
CREATED:20170905T210504Z
LAST-MODIFIED:20170905T210612Z
UID:570-1509138000-1509147000@mykeywestportal.com
SUMMARY:THE DEN OF DESIRE!
DESCRIPTION:The Freaky Friday of Fantasy Fest\, join the hottest stars of Burlesque in "The Den of Desire!" hosted by Shelly Watson\, The Singing Siren. Allow our tantalizing house Madame\, Cheeky Derrierer\, to guide you to your VIP seats while Dark N Stormy will set the mood. Enjoy a one of a kind interactive Burlesque show. Our international stars will stun you with their titillating\, jaw dropping performances that will keep you yearning for more. Couples are encouraged to attend in sexy burlesque or S&M attire. For more information please contact Brad at 305-203-3461. Tickets will be available on keystix.com
URL:https://mykeywestportal.com/event/the-den-of-desire/
LOCATION:FL
END:VEVENT
BEGIN:VEVENT
DTSTART;TZID=UTC:20171027T200000
DTEND;TZID=UTC:20171027T233000
DTSTAMP:20260424T092428
CREATED:20170905T215018Z
LAST-MODIFIED:20170905T215018Z
UID:589-1509134400-1509147000@mykeywestportal.com
SUMMARY:17TH ANNUAL LIVING ART EXPO
DESCRIPTION:A showcase of the human form as a living canvas. Contestant entries are open to Female\, Male or Group models competing for the title of Best Overall Living Art of Fantasy Fest 2017 and $3000 in cash and prizes. Best Overall wins $1000 in cash. FREE General Admission event. Join the backstage VIP section with an open bar\, food and model meet & greet. VIP Ticket holders will each have a vote to help determine the winners! Doors open at 8 PM; Contest starts at 9:30 PM; VIP tickets available at keystix.com or at Sunset Pier Bar. All contestants are granted access to the VIP section. Single contestants are permitted 1 complimentary guest backstage. For entry information contact the Sunset Pier 305-295-7047 or rlevering@oceankey.com
URL:https://mykeywestportal.com/event/17th-annual-living-art-expo/
LOCATION:Sunset Pier\, 0 Duval st\, Key West\, FL\, 33040\, United States
END:VEVENT
BEGIN:VEVENT
DTSTART;TZID=UTC:20171027T193000
DTEND;TZID=UTC:20171027T233000
DTSTAMP:20260424T092428
CREATED:20170905T213922Z
LAST-MODIFIED:20170905T213922Z
UID:587-1509132600-1509147000@mykeywestportal.com
SUMMARY:MASQUERADE MARCH AFTER-PARTY
DESCRIPTION:Remember! The fun doesn’t end just because the marching does! The Old Town Masquerade March Madness continues at 7:30 p.m.on Friday\, October 27th as the Green Parrot Masquerade March After-Party keeps the ball rolling as The Green Parrot Ukulele Association Band marches down Southard Street and onto The Green Parrot stage.Join in as our fancifully-costumed local participants complete their free-spirited\, moving-cocktail party through the streets of historic Old Town. You are all invited to stay "in-costume" after you "second-line" your way to the corner of Southard and Whitehead led by The Green Parrot Ukulele Association. March right in for a rousing\, electrified concert by The Green Parrot Ukulele Orchestra Band with co-hosts Tim Mc Alpine\,Jeff Clark and Hal Howland. Follow these thousands of masked and costumed merry-makers after they promenade their way through Key West's Old Town to the Green Parrot for a Uke-powered after-party where you might even wind up as of the players and strum yourself into a four-string frenzy! Then\, stick around after the Ukulele Orchestra set as four-time Grammy Award winner Trae Pierce and his T-Stone Band take the stage to "funk-it-up" into the wee hours! 601 Whitehead Street 305-294-6133
URL:https://mykeywestportal.com/event/masquerade-march-after-party/
LOCATION:Green Parrot\, 601 Whitehead Street\, Key West\, FL\, 33040\, United States
END:VEVENT
BEGIN:VEVENT
DTSTART;TZID=UTC:20171027T190000
DTEND;TZID=UTC:20171027T233000
DTSTAMP:20260424T092428
CREATED:20170905T213311Z
LAST-MODIFIED:20170905T213311Z
UID:584-1509130800-1509147000@mykeywestportal.com
SUMMARY:11TH ANNUAL PIRATE BASH NEW LOCATION TURTLE KRAALS
DESCRIPTION:Ahoy landlubbers! The Rum Barrel pirate crew has sailed over to Turtle Kraals. Turtle Kraals\, another ship in the Rum Barrel fleet\, is ready to steer the 11th Annual Pirate Bash into its long lived traditions of drinking and dressing like a pirate. More than $1500 in cash prizes for the best pirate and wench costumes. Great music provided by DJ Cory from the Tower Bar to shake your booty all night with awesome rum specials. Doors open at 7 PM. Costume Contest starts at 9 PM. For more info call (305) 294-2640. 231 Margaret St.; 7PM\, $10. NEW LOCATION TURTLE KRAALS
URL:https://mykeywestportal.com/event/11th-annual-pirate-bash-new-location-turtle-kraals/
LOCATION:Turtle Kraals\, 231 Margaret St\, Key West\, FL\, 3040\, United States
END:VEVENT
BEGIN:VEVENT
DTSTART;TZID=UTC:20171027T173000
DTEND;TZID=UTC:20171027T233000
DTSTAMP:20260424T092428
CREATED:20170905T212944Z
LAST-MODIFIED:20170905T212944Z
UID:580-1509125400-1509147000@mykeywestportal.com
SUMMARY:MASQUERADE MARCH
DESCRIPTION:Join the crowd as they parade through Old Town with music and noisemakers! Thirst quenchers provided at selected guesthouses. Begins at the Key West Cemetery Frances Street entrance but revelers can join the mad march anywhere along the two routes! Start marching at 5:30PM; All welcome; FREE.
URL:https://mykeywestportal.com/event/masquerade-march/
LOCATION:FL
END:VEVENT
BEGIN:VEVENT
DTSTART;TZID=UTC:20171027T130000
DTEND;TZID=UTC:20171027T233000
DTSTAMP:20260424T092428
CREATED:20170905T212730Z
LAST-MODIFIED:20170905T212730Z
UID:578-1509109200-1509147000@mykeywestportal.com
SUMMARY:BOURBON ST. PUB'S TEA IN THE STREET AND POOL PARTY
DESCRIPTION:The BIGGEST dance party in the street during Fantasy Fest 2017. Get your groove on while dancing and drinking on Duval St. Live DJs\, Boys\, Beads and Booze\, Drag Queens\, celebrities and MORE; Join the party at 724 Duval St./801 Duval St. 305-294-9354; 1 PM; FREE.
URL:https://mykeywestportal.com/event/bourbon-st-pubs-tea-in-the-street-and-pool-party/
LOCATION:Bourbon St Pub\, 724 Duval st\, Key West\, FL\, 33040\, United States
END:VEVENT
BEGIN:VEVENT
DTSTART;TZID=UTC:20171027T120000
DTEND;TZID=UTC:20171027T233000
DTSTAMP:20260424T092428
CREATED:20170905T211638Z
LAST-MODIFIED:20170905T211638Z
UID:573-1509105600-1509147000@mykeywestportal.com
SUMMARY:BOWTIES & BIRTHDAY SUITS!
DESCRIPTION:The title says it all! Island House Resort for Men\, “The Best Gay Resort in the World"\, invites all of you boyz for an EPIC all-male\, clothing-optional pool party! All body types are embraced and absolutely NO costumes needed! Relive the parties of the infamous Playboy Mansion\, only this time it’s just for men! Each admission includes your very own bowtie\, complimentary cocktail and free resort privileges until 8AM Saturday morning. DJ KYD will be spinning your favorite pool party hits\, while go-go boys dance poolside with free shots for all. Island House Café will offer it’s fabulous culinary treats and killer signature cocktails. Locks and lockers provided while they last as well as a free clothes check. Entry includes use of the upstairs sundeck\, video lounge\, indoor & outdoor Jacuzzis\, steam room and dry sauna. Meet\, mingle and repeat! (Shenanigans guaranteed!) 12noon-? Avoid waiting in line with advance ticket purchase at keystix.com. \, or you may purchase tickets at the door with cash or credit card. 1129 Fleming Street. 305-294-6284. *PHOTO ID REQUIRED FOR ALL ENTRANTS*
URL:https://mykeywestportal.com/event/bowties-birthday-suits/
LOCATION:Island House Resort\, 1129 Fleming St\, Key West\, FL\, 33040\, United States
END:VEVENT
BEGIN:VEVENT
DTSTART;TZID=UTC:20171027T120000
DTEND;TZID=UTC:20171027T220000
DTSTAMP:20260424T092428
CREATED:20170905T212037Z
LAST-MODIFIED:20170905T212037Z
UID:576-1509105600-1509141600@mykeywestportal.com
SUMMARY:FANTASY FEST STREET FAIR
DESCRIPTION:Duval Street's mile-long eater-tainment extravaganza features arts and crafts\, food vendors\, lively libations and costumed frivolity; Noon to 10 PM.
URL:https://mykeywestportal.com/event/fantasy-fest-street-fair/
LOCATION:FL
END:VEVENT
BEGIN:VEVENT
DTSTART;TZID=UTC:20171026T230000
DTEND;TZID=UTC:20171026T233000
DTSTAMP:20260424T092428
CREATED:20170905T205819Z
LAST-MODIFIED:20170905T205819Z
UID:563-1509058800-1509060600@mykeywestportal.com
SUMMARY:DIA DE LOS MUERTOS
DESCRIPTION:Señores and señoritas conjure up the spirits with us at Senor Frogs for an epic Día de los Muertos celebration. Come in your best sugar skull mask or get painted on site. Dance and drink the night away with bone-shaking music and thirst quenching libations sure to satisfy any spirit. Senor Frogs 221 Duval St. 305-414-8094. 11PM. No cover.
URL:https://mykeywestportal.com/event/dia-de-los-muertos/
LOCATION:Senor Frogs\, 221 Duval st\, Key West\, FL\, 33040\, United States
END:VEVENT
BEGIN:VEVENT
DTSTART;TZID=UTC:20171026T223000
DTEND;TZID=UTC:20171026T233000
DTSTAMP:20260424T092428
CREATED:20170905T205643Z
LAST-MODIFIED:20170905T205643Z
UID:560-1509057000-1509060600@mykeywestportal.com
SUMMARY:80's Party
DESCRIPTION:If you love rock and roll as much as we do\, come bust a move at Irish Kevin's annual 80's party! Prepare your leg warmers and Members Only jackets. Dress head to toe in your best 80's costume with awards given throughout the day. We have live entertainment from open to close\, but at 10:30 PM our full 80's band will keep you fighting for your right to party into the wee hours of Friday morning. 211 Duval St; 305-292-1262; 10:30 PM; $$.
URL:https://mykeywestportal.com/event/80s-party/
LOCATION:Irish Kevin's\, 211 Duval St\, Key West\, FL\, 33040\, United States
END:VEVENT
BEGIN:VEVENT
DTSTART;TZID=UTC:20171026T220000
DTEND;TZID=UTC:20171026T233000
DTSTAMP:20260424T092428
CREATED:20170905T205320Z
LAST-MODIFIED:20170905T205320Z
UID:557-1509055200-1509060600@mykeywestportal.com
SUMMARY:PAJAMA AND LINGERIE PARTY
DESCRIPTION:Mr. Playboy himself\, La Hef\, invites everyone to dress in sexy nightwear. This party makes you feel like you are at the mansion. Enter the $700 Hugh Hefner and Marilyn Monroe look-a-like contest. Mingle with celebrities and enjoy guest DJs. Purchase Advance VIP tickets online now before they sell out at keystix.com or call (305)304-1188. BottleCap Lounge\, 1128 Simonton St.; 305-304-1188; 10 PM.
URL:https://mykeywestportal.com/event/pajama-and-lingerie-party/
LOCATION:The Bottle Cap\, 1128 Simonton St\, Key West\, FL\, 33040\, United States
END:VEVENT
END:VCALENDAR