BEGIN:VCALENDAR
VERSION:2.0
PRODID:-//My Key West Portal is the Social Calendar for the Florida Keys and Key West - ECPv6.15.11//NONSGML v1.0//EN
CALSCALE:GREGORIAN
METHOD:PUBLISH
X-WR-CALNAME:My Key West Portal is the Social Calendar for the Florida Keys and Key West
X-ORIGINAL-URL:https://mykeywestportal.com
X-WR-CALDESC:Events for My Key West Portal is the Social Calendar for the Florida Keys and Key West
REFRESH-INTERVAL;VALUE=DURATION:PT1H
X-Robots-Tag:noindex
X-PUBLISHED-TTL:PT1H
BEGIN:VTIMEZONE
TZID:UTC
BEGIN:STANDARD
TZOFFSETFROM:+0000
TZOFFSETTO:+0000
TZNAME:UTC
DTSTART:20160101T000000
END:STANDARD
END:VTIMEZONE
BEGIN:VEVENT
DTSTART;TZID=UTC:20170801T100000
DTEND;TZID=UTC:20170801T120000
DTSTAMP:20260425T115801
CREATED:20170718T211523Z
LAST-MODIFIED:20170718T211523Z
UID:102-1501581600-1501588800@mykeywestportal.com
SUMMARY:$1 Kids Movie: Happy Feet Two
DESCRIPTION:Runtime: 1hr 45m\n\n\nSynopsis\n"Happy Feet Two" returns audiences to the magnificent landscape of Antarctica. Mumble\, The Master of Tap\, has a problem because his tiny son\, Erik\, is choreo-phobic. Reluctant to dance\, Erik runs away and encounters The Mighty Sven-a penguin who can fly! Mumble has no hope of competing with this charismatic new role model. But things get worse when the world is shaken by powerful forces. Erik learns of his father's "guts and grit" as Mumble brings together the penguin nations and all manner of fabulous creatures-from tiny Krill to giant Elephant Seals-to put things right.\n\nhttps://youtu.be/gKWNUyTGqss
URL:https://mykeywestportal.com/event/1-kids-movie-happy-feet-two/
LOCATION:FL
END:VEVENT
BEGIN:VEVENT
DTSTART;TZID=UTC:20170725T100000
DTEND;TZID=UTC:20170725T120000
DTSTAMP:20260425T115801
CREATED:20170718T210100Z
LAST-MODIFIED:20170718T210100Z
UID:84-1500976800-1500984000@mykeywestportal.com
SUMMARY:$1 Kids Movie: The SpongeBob Movie: Sponge Out of Water
DESCRIPTION:Runtime: 1hr 33m\n\n\nSynopsis\nSpongeBob goes on a quest to discover a stolen recipe that takes him to our dimension\, our world\, where he tangles with a pirate.
URL:https://mykeywestportal.com/event/1-kids-movie-the-spongebob-movie-sponge-out-of-water/
LOCATION:FL
END:VEVENT
BEGIN:VEVENT
DTSTART;TZID=UTC:20170725T100000
DTEND;TZID=UTC:20170725T120000
DTSTAMP:20260425T115801
CREATED:20170718T210015Z
LAST-MODIFIED:20170718T210015Z
UID:92-1500976800-1500984000@mykeywestportal.com
SUMMARY:$1 Kids Movie: The Adventures of Tintin
DESCRIPTION:Runtime: 1hr 41m\n\n\nSynopsis\nTintin is on the trail of a big story which leads him into a world of high adventure. When he and his friends find the directions to a sunken ship\, they go off to find the treasure it contained and Tintin must face the notorious Red Rackham.\n\nhttps://youtu.be/9ua_4ajpP58
URL:https://mykeywestportal.com/event/1-kids-movie-the-adventures-of-tintin/
LOCATION:FL
END:VEVENT
BEGIN:VEVENT
DTSTART;TZID=UTC:20170725T100000
DTEND;TZID=UTC:20170725T120000
DTSTAMP:20260425T115801
CREATED:20170718T210100Z
LAST-MODIFIED:20170718T210100Z
UID:84-1500976800-1500984000@mykeywestportal.com
SUMMARY:$1 Kids Movie: The SpongeBob Movie: Sponge Out of Water
DESCRIPTION:Runtime: 1hr 33m\n\n\nSynopsis\nSpongeBob goes on a quest to discover a stolen recipe that takes him to our dimension\, our world\, where he tangles with a pirate.
URL:https://mykeywestportal.com/event/1-kids-movie-the-spongebob-movie-sponge-out-of-water/
LOCATION:FL
END:VEVENT
BEGIN:VEVENT
DTSTART;TZID=UTC:20170725T100000
DTEND;TZID=UTC:20170725T120000
DTSTAMP:20260425T115801
CREATED:20170718T210015Z
LAST-MODIFIED:20170718T210015Z
UID:92-1500976800-1500984000@mykeywestportal.com
SUMMARY:$1 Kids Movie: The Adventures of Tintin
DESCRIPTION:Runtime: 1hr 41m\n\n\nSynopsis\nTintin is on the trail of a big story which leads him into a world of high adventure. When he and his friends find the directions to a sunken ship\, they go off to find the treasure it contained and Tintin must face the notorious Red Rackham.\n\nhttps://youtu.be/9ua_4ajpP58
URL:https://mykeywestportal.com/event/1-kids-movie-the-adventures-of-tintin/
LOCATION:FL
END:VEVENT
BEGIN:VEVENT
DTSTART;TZID=UTC:20170725T100000
DTEND;TZID=UTC:20170725T120000
DTSTAMP:20260425T115801
CREATED:20170718T210100Z
LAST-MODIFIED:20170718T210100Z
UID:84-1500976800-1500984000@mykeywestportal.com
SUMMARY:$1 Kids Movie: The SpongeBob Movie: Sponge Out of Water
DESCRIPTION:Runtime: 1hr 33m\n\n\nSynopsis\nSpongeBob goes on a quest to discover a stolen recipe that takes him to our dimension\, our world\, where he tangles with a pirate.
URL:https://mykeywestportal.com/event/1-kids-movie-the-spongebob-movie-sponge-out-of-water/
LOCATION:FL
END:VEVENT
BEGIN:VEVENT
DTSTART;TZID=UTC:20170725T100000
DTEND;TZID=UTC:20170725T120000
DTSTAMP:20260425T115801
CREATED:20170718T210015Z
LAST-MODIFIED:20170718T210015Z
UID:92-1500976800-1500984000@mykeywestportal.com
SUMMARY:$1 Kids Movie: The Adventures of Tintin
DESCRIPTION:Runtime: 1hr 41m\n\n\nSynopsis\nTintin is on the trail of a big story which leads him into a world of high adventure. When he and his friends find the directions to a sunken ship\, they go off to find the treasure it contained and Tintin must face the notorious Red Rackham.\n\nhttps://youtu.be/9ua_4ajpP58
URL:https://mykeywestportal.com/event/1-kids-movie-the-adventures-of-tintin/
LOCATION:FL
END:VEVENT
BEGIN:VEVENT
DTSTART;TZID=UTC:20170725T100000
DTEND;TZID=UTC:20170725T120000
DTSTAMP:20260425T115801
CREATED:20170718T210100Z
LAST-MODIFIED:20170718T210100Z
UID:84-1500976800-1500984000@mykeywestportal.com
SUMMARY:$1 Kids Movie: The SpongeBob Movie: Sponge Out of Water
DESCRIPTION:Runtime: 1hr 33m\n\n\nSynopsis\nSpongeBob goes on a quest to discover a stolen recipe that takes him to our dimension\, our world\, where he tangles with a pirate.
URL:https://mykeywestportal.com/event/1-kids-movie-the-spongebob-movie-sponge-out-of-water/
LOCATION:FL
END:VEVENT
BEGIN:VEVENT
DTSTART;TZID=UTC:20170725T100000
DTEND;TZID=UTC:20170725T120000
DTSTAMP:20260425T115801
CREATED:20170718T210015Z
LAST-MODIFIED:20170718T210015Z
UID:92-1500976800-1500984000@mykeywestportal.com
SUMMARY:$1 Kids Movie: The Adventures of Tintin
DESCRIPTION:Runtime: 1hr 41m\n\n\nSynopsis\nTintin is on the trail of a big story which leads him into a world of high adventure. When he and his friends find the directions to a sunken ship\, they go off to find the treasure it contained and Tintin must face the notorious Red Rackham.\n\nhttps://youtu.be/9ua_4ajpP58
URL:https://mykeywestportal.com/event/1-kids-movie-the-adventures-of-tintin/
LOCATION:FL
END:VEVENT
BEGIN:VEVENT
DTSTART;TZID=UTC:20170725T100000
DTEND;TZID=UTC:20170725T120000
DTSTAMP:20260425T115801
CREATED:20170718T210100Z
LAST-MODIFIED:20170718T210100Z
UID:84-1500976800-1500984000@mykeywestportal.com
SUMMARY:$1 Kids Movie: The SpongeBob Movie: Sponge Out of Water
DESCRIPTION:Runtime: 1hr 33m\n\n\nSynopsis\nSpongeBob goes on a quest to discover a stolen recipe that takes him to our dimension\, our world\, where he tangles with a pirate.
URL:https://mykeywestportal.com/event/1-kids-movie-the-spongebob-movie-sponge-out-of-water/
LOCATION:FL
END:VEVENT
BEGIN:VEVENT
DTSTART;TZID=UTC:20170725T100000
DTEND;TZID=UTC:20170725T120000
DTSTAMP:20260425T115801
CREATED:20170718T210015Z
LAST-MODIFIED:20170718T210015Z
UID:92-1500976800-1500984000@mykeywestportal.com
SUMMARY:$1 Kids Movie: The Adventures of Tintin
DESCRIPTION:Runtime: 1hr 41m\n\n\nSynopsis\nTintin is on the trail of a big story which leads him into a world of high adventure. When he and his friends find the directions to a sunken ship\, they go off to find the treasure it contained and Tintin must face the notorious Red Rackham.\n\nhttps://youtu.be/9ua_4ajpP58
URL:https://mykeywestportal.com/event/1-kids-movie-the-adventures-of-tintin/
LOCATION:FL
END:VEVENT
BEGIN:VEVENT
DTSTART;TZID=UTC:20170725T100000
DTEND;TZID=UTC:20170725T120000
DTSTAMP:20260425T115801
CREATED:20170718T210100Z
LAST-MODIFIED:20170718T210100Z
UID:84-1500976800-1500984000@mykeywestportal.com
SUMMARY:$1 Kids Movie: The SpongeBob Movie: Sponge Out of Water
DESCRIPTION:Runtime: 1hr 33m\n\n\nSynopsis\nSpongeBob goes on a quest to discover a stolen recipe that takes him to our dimension\, our world\, where he tangles with a pirate.
URL:https://mykeywestportal.com/event/1-kids-movie-the-spongebob-movie-sponge-out-of-water/
LOCATION:FL
END:VEVENT
BEGIN:VEVENT
DTSTART;TZID=UTC:20170725T100000
DTEND;TZID=UTC:20170725T120000
DTSTAMP:20260425T115801
CREATED:20170718T210015Z
LAST-MODIFIED:20170718T210015Z
UID:92-1500976800-1500984000@mykeywestportal.com
SUMMARY:$1 Kids Movie: The Adventures of Tintin
DESCRIPTION:Runtime: 1hr 41m\n\n\nSynopsis\nTintin is on the trail of a big story which leads him into a world of high adventure. When he and his friends find the directions to a sunken ship\, they go off to find the treasure it contained and Tintin must face the notorious Red Rackham.\n\nhttps://youtu.be/9ua_4ajpP58
URL:https://mykeywestportal.com/event/1-kids-movie-the-adventures-of-tintin/
LOCATION:FL
END:VEVENT
END:VCALENDAR