BEGIN:VCALENDAR
VERSION:2.0
PRODID:-//My Key West Portal is the Social Calendar for the Florida Keys and Key West - ECPv6.15.11//NONSGML v1.0//EN
CALSCALE:GREGORIAN
METHOD:PUBLISH
X-ORIGINAL-URL:https://mykeywestportal.com
X-WR-CALDESC:Events for My Key West Portal is the Social Calendar for the Florida Keys and Key West
REFRESH-INTERVAL;VALUE=DURATION:PT1H
X-Robots-Tag:noindex
X-PUBLISHED-TTL:PT1H
BEGIN:VTIMEZONE
TZID:UTC
BEGIN:STANDARD
TZOFFSETFROM:+0000
TZOFFSETTO:+0000
TZNAME:UTC
DTSTART:20170101T000000
END:STANDARD
END:VTIMEZONE
BEGIN:VTIMEZONE
TZID:America/Halifax
BEGIN:DAYLIGHT
TZOFFSETFROM:-0400
TZOFFSETTO:-0300
TZNAME:ADT
DTSTART:20170312T060000
END:DAYLIGHT
BEGIN:STANDARD
TZOFFSETFROM:-0300
TZOFFSETTO:-0400
TZNAME:AST
DTSTART:20171105T050000
END:STANDARD
BEGIN:DAYLIGHT
TZOFFSETFROM:-0400
TZOFFSETTO:-0300
TZNAME:ADT
DTSTART:20180311T060000
END:DAYLIGHT
BEGIN:STANDARD
TZOFFSETFROM:-0300
TZOFFSETTO:-0400
TZNAME:AST
DTSTART:20181104T050000
END:STANDARD
BEGIN:DAYLIGHT
TZOFFSETFROM:-0400
TZOFFSETTO:-0300
TZNAME:ADT
DTSTART:20190310T060000
END:DAYLIGHT
BEGIN:STANDARD
TZOFFSETFROM:-0300
TZOFFSETTO:-0400
TZNAME:AST
DTSTART:20191103T050000
END:STANDARD
END:VTIMEZONE
BEGIN:VEVENT
DTSTART;TZID=UTC:20180524T180000
DTEND;TZID=UTC:20180524T230000
DTSTAMP:20260425T090559
CREATED:20180518T225214Z
LAST-MODIFIED:20180618T180725Z
UID:2605-1527184800-1527202800@mykeywestportal.com
SUMMARY:Bike Night
DESCRIPTION:Ride your bike to Mellow Cafe Key West and receive 50% food and a chance to win a FREE BIKE \n  \nEntertainment by Ike Kanakanui from 6-9pm \nRaffle:First Thursday of the month \n  \nPROMOTING SAFE BIKING IN KEY WEST!
URL:https://mykeywestportal.com/event/bike-night/
LOCATION:Mellow Cafe\, 1605 N Roosevelt Blvd\, Suite 1\, Key West\, FL\, 33040\, United States
ATTACH;FMTTYPE=image/jpeg:https://mykeywestportal.com/wp-content/uploads/2018/05/Mellow_Venture_Cafe_Gastropub_Bike_Night_Key_West.jpg
END:VEVENT
BEGIN:VEVENT
DTSTART;TZID=America/Halifax:20180607T190000
DTEND;TZID=America/Halifax:20180607T190000
DTSTAMP:20260425T090559
CREATED:20180523T151947Z
LAST-MODIFIED:20180523T152016Z
UID:2848-1528398000-1528398000@mykeywestportal.com
SUMMARY:Key West Pride Reading
DESCRIPTION:Come celebrate Pride in Key West!!\nPride reading is presented by Fringe Theatre \n*Doors open at 6:30pm \n______________________________________________ \nFull schedule can be found at http://mykeywestportal.com/blog/ \n  \n*For most up to date information\, please visit the event website: http://www.keywestpride.org/event-schedule/
URL:https://mykeywestportal.com/event/key-west-pride-reading-2/
LOCATION:Key West Theater\, 512 Eaton St\, Key West\, FL\, 33040\, United States
ATTACH;FMTTYPE=image/jpeg:https://mykeywestportal.com/wp-content/uploads/2018/05/Key_West_Pride_Celebration_June.jpg
END:VEVENT
BEGIN:VEVENT
DTSTART;TZID=America/Halifax:20180607T190000
DTEND;TZID=America/Halifax:20180607T190000
DTSTAMP:20260425T090559
CREATED:20180523T152405Z
LAST-MODIFIED:20180523T152405Z
UID:2851-1528398000-1528398000@mykeywestportal.com
SUMMARY:Ms. Key West Pride 2018
DESCRIPTION:Come celebrate Pride in Key West!!\nJoin in the Ms. Key West Pride event of 2018 \n______________________________________________ \nFull schedule can be found at http://mykeywestportal.com/blog/ \n  \n*For most up to date information\, please visit the event website: http://www.keywestpride.org/event-schedule/
URL:https://mykeywestportal.com/event/ms-key-west-pride-2018/
LOCATION:801 Bourbon Bar\, 801 Duval St.\, Key West\, FL\, 33040\, United States
ATTACH;FMTTYPE=image/jpeg:https://mykeywestportal.com/wp-content/uploads/2018/05/Key_West_Pride_Celebration_June.jpg
END:VEVENT
BEGIN:VEVENT
DTSTART;TZID=America/Halifax:20180607T200000
DTEND;TZID=America/Halifax:20180607T200000
DTSTAMP:20260425T090559
CREATED:20180521T174608Z
LAST-MODIFIED:20180521T174608Z
UID:2704-1528401600-1528401600@mykeywestportal.com
SUMMARY:FOW Rocks The Porch
DESCRIPTION:Join everyone in welcoming FOW (Fish Out of Water) at The Porch! \nFOW has a variety of Rock\, Funk\, Reggae\, and Hip-Hop originals. They have 3 albums released and are currently touring nationwide.
URL:https://mykeywestportal.com/event/fow-rocks-the-porch/
LOCATION:The Porch\, 429 Caroline St\, Key West\, FL\, 33040\, United States
ATTACH;FMTTYPE=image/jpeg:https://mykeywestportal.com/wp-content/uploads/2018/05/FOW_Fish_Out_Of_Water_The_Porch_Key_West.jpg
END:VEVENT
BEGIN:VEVENT
DTSTART;TZID=America/Halifax:20180607T203000
DTEND;TZID=America/Halifax:20180607T203000
DTSTAMP:20260425T090559
CREATED:20180523T153151Z
LAST-MODIFIED:20180523T153151Z
UID:2853-1528403400-1528403400@mykeywestportal.com
SUMMARY:The Stoli Key West Classic
DESCRIPTION:Come celebrate Pride in Key West!!\nJoin in the Stoli Key West Classic at Sidebar \n______________________________________________ \nFull schedule can be found at http://mykeywestportal.com/blog/ \n  \n*For most up to date information\, please visit the event website: http://www.keywestpride.org/event-schedule/
URL:https://mykeywestportal.com/event/the-stoli-key-west-classic-2/
LOCATION:Side Bar Key West\, 504 Angela St\, Key West\, FL\, 33040\, United States
ATTACH;FMTTYPE=image/jpeg:https://mykeywestportal.com/wp-content/uploads/2018/05/Key_West_Pride_Celebration_June.jpg
END:VEVENT
BEGIN:VEVENT
DTSTART;TZID=UTC:20180604T080000
DTEND;TZID=UTC:20180604T160000
DTSTAMP:20260425T090559
CREATED:20180514T205606Z
LAST-MODIFIED:20180523T135810Z
UID:2520-1528099200-1528128000@mykeywestportal.com
SUMMARY:Royal Princess Dance Camp
DESCRIPTION:Join BELLE\, CINDERELLA\, ELSA\, and ARIEL in this princess dance class!\nCamp includes: \n\nBallet\nJazz\nCrafts\nGames\nFinal performance for parents (3:30 on final day)\n\nCampers encouraged to bring: \n\n2-4 bottles of water\nLUNCH\nSnacks\n\n***Payment due in full at the time of registration
URL:https://mykeywestportal.com/event/royal-princess-dance-camp/
LOCATION:Key West Sports Academy\, 700 Truman Ave\, Key West\, FL\, 33040\, United States
ATTACH;FMTTYPE=image/jpeg:https://mykeywestportal.com/wp-content/uploads/2018/05/Royal_Princess_Dance_Camp_Key_West_Sports_Academy.jpg
ORGANIZER;CN="Key West Sports Academy":MAILTO:parties@keywestsportsacademy.com
END:VEVENT
BEGIN:VEVENT
DTSTART;TZID=America/Halifax:20180608T120000
DTEND;TZID=America/Halifax:20180608T120000
DTSTAMP:20260425T090559
CREATED:20180523T153623Z
LAST-MODIFIED:20180523T153623Z
UID:2855-1528459200-1528459200@mykeywestportal.com
SUMMARY:Single\, Couples\, and Thruples OH MY!
DESCRIPTION:Come celebrate Pride in Key West!!\nPOOL PARTY!! \n______________________________________________ \nFull schedule can be found at http://mykeywestportal.com/blog/ \n  \n*For most up to date information\, please visit the event website: http://www.keywestpride.org/event-schedule/
URL:https://mykeywestportal.com/event/single-couples-and-thruples-oh-my/
LOCATION:Island House Resort\, 1129 Fleming St\, Key West\, FL\, 33040\, United States
ATTACH;FMTTYPE=image/jpeg:https://mykeywestportal.com/wp-content/uploads/2018/05/Key_West_Pride_Celebration_June.jpg
END:VEVENT
BEGIN:VEVENT
DTSTART;TZID=America/Halifax:20180608T180000
DTEND;TZID=America/Halifax:20180608T180000
DTSTAMP:20260425T090559
CREATED:20180523T153900Z
LAST-MODIFIED:20180523T153900Z
UID:2857-1528480800-1528480800@mykeywestportal.com
SUMMARY:The Stoli Key West Classic
DESCRIPTION:Come celebrate Pride in Key West!!\nThe Stoli Key West Classic championship semi-finals #2! \n\nDoors open at 5 pm\n\n______________________________________________ \nFull schedule can be found at http://mykeywestportal.com/blog/ \n  \n*For most up to date information\, please visit the event website: http://www.keywestpride.org/event-schedule/
URL:https://mykeywestportal.com/event/the-stoli-key-west-classic-3/
LOCATION:801 Bourbon Bar\, 801 Duval St.\, Key West\, FL\, 33040\, United States
ATTACH;FMTTYPE=image/jpeg:https://mykeywestportal.com/wp-content/uploads/2018/05/Key_West_Pride_Celebration_June.jpg
END:VEVENT
BEGIN:VEVENT
DTSTART;TZID=America/Halifax:20180608T180000
DTEND;TZID=America/Halifax:20180608T180000
DTSTAMP:20260425T090559
CREATED:20180523T154153Z
LAST-MODIFIED:20180523T154153Z
UID:2859-1528480800-1528480800@mykeywestportal.com
SUMMARY:Gross Indecency: Three Trials of Oscar Wilde
DESCRIPTION:Come celebrate Pride in Key West!!\nThe Three Trials of Oscar Wilde stage reading event. \nTickets can be purchased at WaterfrontPlayhouse.org \n______________________________________________ \nFull schedule can be found at http://mykeywestportal.com/blog/ \n  \n*For most up to date information\, please visit the event website: http://www.keywestpride.org/event-schedule/
URL:https://mykeywestportal.com/event/gross-indecency-three-trials-of-oscar-wilde/
LOCATION:The Waterfront Playhouse\, 310 Wall St\, Key West\, FL\, 33040\, United States
ATTACH;FMTTYPE=image/jpeg:https://mykeywestportal.com/wp-content/uploads/2018/05/Key_West_Pride_Celebration_June.jpg
END:VEVENT
BEGIN:VEVENT
DTSTART;TZID=America/Halifax:20180608T180000
DTEND;TZID=America/Halifax:20180608T193000
DTSTAMP:20260425T090559
CREATED:20180528T163958Z
LAST-MODIFIED:20180528T163958Z
UID:3020-1528480800-1528486200@mykeywestportal.com
SUMMARY:Slo Down Wines
DESCRIPTION:Wine tasting event with Brandon Allen! \nCome join in on the fun at Vinos Wine Bar.
URL:https://mykeywestportal.com/event/slo-down-wines/
LOCATION:Vinos on Duval\, 810 Duval St\, Key West\, FL\, 33040\, United States
ATTACH;FMTTYPE=image/jpeg:https://mykeywestportal.com/wp-content/uploads/2018/05/Slo_Downness_Wine_tasting_eventVino.jpg
END:VEVENT
BEGIN:VEVENT
DTSTART;TZID=UTC:20180608T180000
DTEND;TZID=UTC:20180608T200000
DTSTAMP:20260425T090559
CREATED:20180518T195230Z
LAST-MODIFIED:20180518T195435Z
UID:2579-1528480800-1528488000@mykeywestportal.com
SUMMARY:Real Men Do Drag
DESCRIPTION:Help fund raise for AIDs help\, while also enjoying local singing and dancing!
URL:https://mykeywestportal.com/event/real-men-do-drag/
LOCATION:Aqua Nightclub\, 711 Duval Street\, Key West\, FL\, 33040\, United States
ATTACH;FMTTYPE=image/jpeg:https://mykeywestportal.com/wp-content/uploads/2018/05/Real_Men_Do_Drag_Key_West_Aqua.jpg
END:VEVENT
BEGIN:VEVENT
DTSTART;TZID=America/Halifax:20180608T200000
DTEND;TZID=America/Halifax:20180608T200000
DTSTAMP:20260425T090559
CREATED:20180523T154421Z
LAST-MODIFIED:20180523T154421Z
UID:2861-1528488000-1528488000@mykeywestportal.com
SUMMARY:Mr. Key West Pride
DESCRIPTION:Come celebrate Pride in Key West!!\nJoin in on the Mr. Key West Pride event at Bourbon St. Pub \n______________________________________________ \nFull schedule can be found at http://mykeywestportal.com/blog/ \n  \n*For most up to date information\, please visit the event website: http://www.keywestpride.org/event-schedule/
URL:https://mykeywestportal.com/event/mr-key-west-pride/
LOCATION:Bourbon St Pub\, 724 Duval st\, Key West\, FL\, 33040\, United States
ATTACH;FMTTYPE=image/jpeg:https://mykeywestportal.com/wp-content/uploads/2018/05/Key_West_Pride_Celebration_June.jpg
END:VEVENT
BEGIN:VEVENT
DTSTART;TZID=UTC:20180608T200000
DTEND;TZID=UTC:20180608T230000
DTSTAMP:20260425T090559
CREATED:20180521T180004Z
LAST-MODIFIED:20180521T180004Z
UID:2658-1528488000-1528498800@mykeywestportal.com
SUMMARY:Top Performer Contest
DESCRIPTION:Don't miss Key West Pride's ONLY talent competition!\nThe night includes: \n\nRaffles\nDoor prizes\nSpecial guest judges and performances\nPrize package for winner\nHosted by retro Mike\n\n**NO registration fee!! \nFor contestant information\, please call 305-293-9800 or 954-628-6550 \n 
URL:https://mykeywestportal.com/event/top-performer-contest/
LOCATION:Bourbon St Pub\, 724 Duval st\, Key West\, FL\, 33040\, United States
ATTACH;FMTTYPE=image/jpeg:https://mykeywestportal.com/wp-content/uploads/2018/05/Bourbon_St_Pub_Pride_Talent_Show_Key_West.jpg
END:VEVENT
BEGIN:VEVENT
DTSTART;TZID=America/Halifax:20180608T210000
DTEND;TZID=America/Halifax:20180608T210000
DTSTAMP:20260425T090559
CREATED:20180523T154950Z
LAST-MODIFIED:20180523T154950Z
UID:2863-1528491600-1528491600@mykeywestportal.com
SUMMARY:Glow Party
DESCRIPTION:Come celebrate Pride in Key West!!\nThis glow party features a performance with American Idol contestant Les Green with his band "Patrick and the Swayzees" \n______________________________________________ \nFull schedule can be found at http://mykeywestportal.com/blog/ \n  \n*For most up to date information\, please visit the event website: http://www.keywestpride.org/event-schedule/
URL:https://mykeywestportal.com/event/glow-party/
LOCATION:Side Bar Key West\, 504 Angela St\, Key West\, FL\, 33040\, United States
ATTACH;FMTTYPE=image/jpeg:https://mykeywestportal.com/wp-content/uploads/2018/05/Key_West_Pride_Celebration_June.jpg
END:VEVENT
BEGIN:VEVENT
DTSTART;TZID=America/Halifax:20180608T220000
DTEND;TZID=America/Halifax:20180608T220000
DTSTAMP:20260425T090559
CREATED:20180523T155157Z
LAST-MODIFIED:20180523T155157Z
UID:2865-1528495200-1528495200@mykeywestportal.com
SUMMARY:Fetish Ball
DESCRIPTION:Come celebrate Pride in Key West!!\nMEN ONLY EVENT \n1 Saloon at 801 Bourbon \n______________________________________________ \nFull schedule can be found at http://mykeywestportal.com/blog/ \n  \n*For most up to date information\, please visit the event website: http://www.keywestpride.org/event-schedule/
URL:https://mykeywestportal.com/event/fetish-ball/
LOCATION:801 Bourbon Bar\, 801 Duval St.\, Key West\, FL\, 33040\, United States
ATTACH;FMTTYPE=image/jpeg:https://mykeywestportal.com/wp-content/uploads/2018/05/Key_West_Pride_Celebration_June.jpg
END:VEVENT
BEGIN:VEVENT
DTSTART;TZID=UTC:20180604T080000
DTEND;TZID=UTC:20180604T160000
DTSTAMP:20260425T090559
CREATED:20180514T205606Z
LAST-MODIFIED:20180523T135810Z
UID:2520-1528099200-1528128000@mykeywestportal.com
SUMMARY:Royal Princess Dance Camp
DESCRIPTION:Join BELLE\, CINDERELLA\, ELSA\, and ARIEL in this princess dance class!\nCamp includes: \n\nBallet\nJazz\nCrafts\nGames\nFinal performance for parents (3:30 on final day)\n\nCampers encouraged to bring: \n\n2-4 bottles of water\nLUNCH\nSnacks\n\n***Payment due in full at the time of registration
URL:https://mykeywestportal.com/event/royal-princess-dance-camp/
LOCATION:Key West Sports Academy\, 700 Truman Ave\, Key West\, FL\, 33040\, United States
ATTACH;FMTTYPE=image/jpeg:https://mykeywestportal.com/wp-content/uploads/2018/05/Royal_Princess_Dance_Camp_Key_West_Sports_Academy.jpg
ORGANIZER;CN="Key West Sports Academy":MAILTO:parties@keywestsportsacademy.com
END:VEVENT
BEGIN:VEVENT
DTSTART;TZID=America/Halifax:20180609T100000
DTEND;TZID=America/Halifax:20180609T100000
DTSTAMP:20260425T090559
CREATED:20180523T155355Z
LAST-MODIFIED:20180523T155355Z
UID:2867-1528538400-1528538400@mykeywestportal.com
SUMMARY:Key West Pride Street Fair
DESCRIPTION:Come celebrate Pride in Key West!!\nThe street fair will be all along Duval St. \n______________________________________________ \nFull schedule can be found at http://mykeywestportal.com/blog/ \n  \n*For most up to date information\, please visit the event website: http://www.keywestpride.org/event-schedule/
URL:https://mykeywestportal.com/event/key-west-pride-street-fair/
LOCATION:Duval Street\, Key West\, FL\, 33040\, United States
ATTACH;FMTTYPE=image/jpeg:https://mykeywestportal.com/wp-content/uploads/2018/05/Key_West_Pride_Celebration_June.jpg
END:VEVENT
BEGIN:VEVENT
DTSTART;TZID=America/Halifax:20180609T103000
DTEND;TZID=America/Halifax:20180609T103000
DTSTAMP:20260425T090559
CREATED:20180608T140946Z
LAST-MODIFIED:20180608T140946Z
UID:3200-1528540200-1528540200@mykeywestportal.com
SUMMARY:Despicable Me 3
DESCRIPTION:Kids Saturday Movie Club!\nAdmission: \n\nAges 12 and under: $1\nAges 13+ : $2\n\n 
URL:https://mykeywestportal.com/event/despicable-me-3/
LOCATION:Tropic Cinema\, 416 Eaton Street\, Key West\, FL\, 33040\, United States
ATTACH;FMTTYPE=image/jpeg:https://mykeywestportal.com/wp-content/uploads/2018/06/despicable_me_3_summer_tropic_movie.jpg
END:VEVENT
BEGIN:VEVENT
DTSTART;TZID=America/Halifax:20180609T110000
DTEND;TZID=America/Halifax:20180609T110000
DTSTAMP:20260425T090559
CREATED:20180608T143314Z
LAST-MODIFIED:20180608T143314Z
UID:3233-1528542000-1528542000@mykeywestportal.com
SUMMARY:Attack of the B's - Reefer Madness
DESCRIPTION:Attack of the B's!\n""Reefer Madness\," the hysterical cautionary tale of innocent teenage lives shattered by the evils of marijuana!" \n  \nAdmission: $3
URL:https://mykeywestportal.com/event/attack-of-the-bs-reefer-madness/
LOCATION:Tropic Cinema\, 416 Eaton Street\, Key West\, FL\, 33040\, United States
ATTACH;FMTTYPE=image/jpeg:https://mykeywestportal.com/wp-content/uploads/2018/06/Reefer_Madness_Tropic_Cinema_Attack_of_The_Bs.jpg
END:VEVENT
BEGIN:VEVENT
DTSTART;TZID=America/Halifax:20180609T120000
DTEND;TZID=America/Halifax:20180609T120000
DTSTAMP:20260425T090559
CREATED:20180523T155608Z
LAST-MODIFIED:20180523T155608Z
UID:2869-1528545600-1528545600@mykeywestportal.com
SUMMARY:Pride Pool Party
DESCRIPTION:Come celebrate Pride in Key West!!\nPool party at Bourbon!! \n______________________________________________ \nFull schedule can be found at http://mykeywestportal.com/blog/ \n  \n*For most up to date information\, please visit the event website: http://www.keywestpride.org/event-schedule/
URL:https://mykeywestportal.com/event/pride-pool-party-2/
LOCATION:Bourbon St Pub\, 724 Duval st\, Key West\, FL\, 33040\, United States
ATTACH;FMTTYPE=image/jpeg:https://mykeywestportal.com/wp-content/uploads/2018/05/Key_West_Pride_Celebration_June.jpg
END:VEVENT
BEGIN:VEVENT
DTSTART;TZID=America/Halifax:20180609T120000
DTEND;TZID=America/Halifax:20180609T170000
DTSTAMP:20260425T090559
CREATED:20180523T161018Z
LAST-MODIFIED:20180523T161018Z
UID:2871-1528545600-1528563600@mykeywestportal.com
SUMMARY:BAM and Kat present the R U Wet Yet pool party
DESCRIPTION:Come celebrate Pride in Key West!!\n\nPool Party\nALL Guests Welcome\nDJ\n\n______________________________________________ \nFull schedule can be found at http://mykeywestportal.com/blog/ \n  \n*For most up to date information\, please visit the event website: http://www.keywestpride.org/event-schedule/
URL:https://mykeywestportal.com/event/bam-and-kat-present-the-r-u-wet-yet-pool-party/
LOCATION:Alexander's Guest House\, 1118 Fleming Street\, Key West\, FL\, 33040\, United States
ATTACH;FMTTYPE=image/jpeg:https://mykeywestportal.com/wp-content/uploads/2018/05/Key_West_Pride_Celebration_June.jpg
END:VEVENT
BEGIN:VEVENT
DTSTART;TZID=America/Halifax:20180609T170000
DTEND;TZID=America/Halifax:20180609T170000
DTSTAMP:20260425T090559
CREATED:20180523T161242Z
LAST-MODIFIED:20180523T161242Z
UID:2874-1528563600-1528563600@mykeywestportal.com
SUMMARY:Rum Tasting
DESCRIPTION:Come celebrate Pride in Key West!!\nRum tasting at the rum bar! \n______________________________________________ \nFull schedule can be found at http://mykeywestportal.com/blog/ \n  \n*For most up to date information\, please visit the event website: http://www.keywestpride.org/event-schedule/
URL:https://mykeywestportal.com/event/rum-tasting/
LOCATION:Rum Bar\, 1115 Duval St\, Key West\, FL\, 33040\, United States
ATTACH;FMTTYPE=image/jpeg:https://mykeywestportal.com/wp-content/uploads/2018/05/Key_West_Pride_Celebration_June.jpg
END:VEVENT
BEGIN:VEVENT
DTSTART;TZID=America/Halifax:20180609T180000
DTEND;TZID=America/Halifax:20180609T180000
DTSTAMP:20260425T090559
CREATED:20180523T161528Z
LAST-MODIFIED:20180523T161528Z
UID:2877-1528567200-1528567200@mykeywestportal.com
SUMMARY:Gross Indecency: The Three Trials of Oscar Wilde
DESCRIPTION:Come celebrate Pride in Key West!!\nThe Three Trials of Oscar Wilde stage reading! \n\nTickets can be purchased at WaterfrontPlayhouse.org\n\n______________________________________________ \nFull schedule can be found at http://mykeywestportal.com/blog/ \n  \n*For most up to date information\, please visit the event website: http://www.keywestpride.org/event-schedule/
URL:https://mykeywestportal.com/event/gross-indecency-the-three-trials-of-oscar-wilde/
LOCATION:The Waterfront Playhouse\, 310 Wall St\, Key West\, FL\, 33040\, United States
ATTACH;FMTTYPE=image/jpeg:https://mykeywestportal.com/wp-content/uploads/2018/05/Key_West_Pride_Celebration_June.jpg
END:VEVENT
BEGIN:VEVENT
DTSTART;TZID=America/Halifax:20180609T183000
DTEND;TZID=America/Halifax:20180609T183000
DTSTAMP:20260425T090559
CREATED:20180523T161849Z
LAST-MODIFIED:20180523T161849Z
UID:2879-1528569000-1528569000@mykeywestportal.com
SUMMARY:The Stoli Key West Classic Championship Finale
DESCRIPTION:Come celebrate Pride in Key West!!\nJoin in the celebration at the main stage in front of Bourbon St. Pub. \n\nSpecial performance by Debby Holiday and LaToya London\, celebrity judges\n\n______________________________________________ \nFull schedule can be found at http://mykeywestportal.com/blog/ \n  \n*For most up to date information\, please visit the event website: http://www.keywestpride.org/event-schedule/
URL:https://mykeywestportal.com/event/the-stoli-key-west-classic-championship-finale/
LOCATION:Bourbon St Pub\, 724 Duval st\, Key West\, FL\, 33040\, United States
ATTACH;FMTTYPE=image/jpeg:https://mykeywestportal.com/wp-content/uploads/2018/05/Key_West_Pride_Celebration_June.jpg
END:VEVENT
BEGIN:VEVENT
DTSTART;TZID=America/Halifax:20180609T200000
DTEND;TZID=America/Halifax:20180609T200000
DTSTAMP:20260425T090559
CREATED:20180523T162114Z
LAST-MODIFIED:20180523T162114Z
UID:2881-1528574400-1528574400@mykeywestportal.com
SUMMARY:Miss Paradise FL
DESCRIPTION:Come celebrate Pride in Key West!!\nPreliminary pageant for Miss Florida \n\nDoors open at 7 pm\n\n______________________________________________ \nFull schedule can be found at http://mykeywestportal.com/blog/ \n  \n*For most up to date information\, please visit the event website: http://www.keywestpride.org/event-schedule/
URL:https://mykeywestportal.com/event/miss-paradise-fl/
LOCATION:The Studios of Key West\, 533 Eaton St.\, Key West\, FL\, 33040\, United States
ATTACH;FMTTYPE=image/jpeg:https://mykeywestportal.com/wp-content/uploads/2018/05/Key_West_Pride_Celebration_June.jpg
END:VEVENT
BEGIN:VEVENT
DTSTART;TZID=America/Halifax:20180609T220000
DTEND;TZID=America/Halifax:20180609T220000
DTSTAMP:20260425T090559
CREATED:20180523T162300Z
LAST-MODIFIED:20180523T162300Z
UID:2883-1528581600-1528581600@mykeywestportal.com
SUMMARY:Purgatory Party
DESCRIPTION:Come celebrate Pride in Key West!!\nMEN ONLY Party \n______________________________________________ \nFull schedule can be found at http://mykeywestportal.com/blog/ \n  \n*For most up to date information\, please visit the event website: http://www.keywestpride.org/event-schedule/
URL:https://mykeywestportal.com/event/purgatory-party/
LOCATION:Bourbon St Pub\, 724 Duval st\, Key West\, FL\, 33040\, United States
ATTACH;FMTTYPE=image/jpeg:https://mykeywestportal.com/wp-content/uploads/2018/05/Key_West_Pride_Celebration_June.jpg
END:VEVENT
BEGIN:VEVENT
DTSTART;TZID=UTC:20180604T080000
DTEND;TZID=UTC:20180604T160000
DTSTAMP:20260425T090559
CREATED:20180514T205606Z
LAST-MODIFIED:20180523T135810Z
UID:2520-1528099200-1528128000@mykeywestportal.com
SUMMARY:Royal Princess Dance Camp
DESCRIPTION:Join BELLE\, CINDERELLA\, ELSA\, and ARIEL in this princess dance class!\nCamp includes: \n\nBallet\nJazz\nCrafts\nGames\nFinal performance for parents (3:30 on final day)\n\nCampers encouraged to bring: \n\n2-4 bottles of water\nLUNCH\nSnacks\n\n***Payment due in full at the time of registration
URL:https://mykeywestportal.com/event/royal-princess-dance-camp/
LOCATION:Key West Sports Academy\, 700 Truman Ave\, Key West\, FL\, 33040\, United States
ATTACH;FMTTYPE=image/jpeg:https://mykeywestportal.com/wp-content/uploads/2018/05/Royal_Princess_Dance_Camp_Key_West_Sports_Academy.jpg
ORGANIZER;CN="Key West Sports Academy":MAILTO:parties@keywestsportsacademy.com
END:VEVENT
BEGIN:VEVENT
DTSTART;TZID=America/Halifax:20180610T110000
DTEND;TZID=America/Halifax:20180610T110000
DTSTAMP:20260425T090559
CREATED:20180523T162619Z
LAST-MODIFIED:20180523T162619Z
UID:2885-1528628400-1528628400@mykeywestportal.com
SUMMARY:MCC Pride Service
DESCRIPTION:Come celebrate Pride in Key West!!\nPride Service at the Metropolitan Community Church \n______________________________________________ \nFull schedule can be found at http://mykeywestportal.com/blog/ \n  \n*For most up to date information\, please visit the event website: http://www.keywestpride.org/event-schedule/
URL:https://mykeywestportal.com/event/mcc-pride-service/
LOCATION:Metropolitan Community Church\, 1215 Petronia St.\, Key West\, FL\, 33040\, United States
ATTACH;FMTTYPE=image/jpeg:https://mykeywestportal.com/wp-content/uploads/2018/05/Key_West_Pride_Celebration_June.jpg
END:VEVENT
BEGIN:VEVENT
DTSTART;TZID=America/Halifax:20180610T110000
DTEND;TZID=America/Halifax:20180610T110000
DTSTAMP:20260425T090559
CREATED:20180523T162836Z
LAST-MODIFIED:20180523T162836Z
UID:2888-1528628400-1528628400@mykeywestportal.com
SUMMARY:Unity of the Keys Pride Service
DESCRIPTION:Come celebrate Pride in Key West!!\nPride Service at Unity of the Keys \n______________________________________________ \nFull schedule can be found at http://mykeywestportal.com/blog/ \n  \n*For most up to date information\, please visit the event website: http://www.keywestpride.org/event-schedule/
URL:https://mykeywestportal.com/event/unity-of-the-keys-pride-service/
LOCATION:Unity of the Keys\, 1011 Virginia St\, Key West\, FL\, 33040\, United States
ATTACH;FMTTYPE=image/jpeg:https://mykeywestportal.com/wp-content/uploads/2018/05/Key_West_Pride_Celebration_June.jpg
END:VEVENT
BEGIN:VEVENT
DTSTART;TZID=America/Halifax:20180610T120000
DTEND;TZID=America/Halifax:20180610T120000
DTSTAMP:20260425T090559
CREATED:20180523T163202Z
LAST-MODIFIED:20180523T163202Z
UID:2891-1528632000-1528632000@mykeywestportal.com
SUMMARY:Naked Pool Party
DESCRIPTION:Come celebrate Pride in Key West!!\nMEN ONLY POOL PARTY \n______________________________________________ \nFull schedule can be found at http://mykeywestportal.com/blog/ \n  \n*For most up to date information\, please visit the event website: http://www.keywestpride.org/event-schedule/
URL:https://mykeywestportal.com/event/naked-pool-party/
LOCATION:Island House Resort\, 1129 Fleming St\, Key West\, FL\, 33040\, United States
ATTACH;FMTTYPE=image/jpeg:https://mykeywestportal.com/wp-content/uploads/2018/05/Key_West_Pride_Celebration_June.jpg
END:VEVENT
END:VCALENDAR