BEGIN:VCALENDAR
VERSION:2.0
PRODID:-//My Key West Portal is the Social Calendar for the Florida Keys and Key West - ECPv6.15.11//NONSGML v1.0//EN
CALSCALE:GREGORIAN
METHOD:PUBLISH
X-WR-CALNAME:My Key West Portal is the Social Calendar for the Florida Keys and Key West
X-ORIGINAL-URL:https://mykeywestportal.com
X-WR-CALDESC:Events for My Key West Portal is the Social Calendar for the Florida Keys and Key West
REFRESH-INTERVAL;VALUE=DURATION:PT1H
X-Robots-Tag:noindex
X-PUBLISHED-TTL:PT1H
BEGIN:VTIMEZONE
TZID:UTC
BEGIN:STANDARD
TZOFFSETFROM:+0000
TZOFFSETTO:+0000
TZNAME:UTC
DTSTART:20170101T000000
END:STANDARD
END:VTIMEZONE
BEGIN:VTIMEZONE
TZID:America/Halifax
BEGIN:DAYLIGHT
TZOFFSETFROM:-0400
TZOFFSETTO:-0300
TZNAME:ADT
DTSTART:20170312T060000
END:DAYLIGHT
BEGIN:STANDARD
TZOFFSETFROM:-0300
TZOFFSETTO:-0400
TZNAME:AST
DTSTART:20171105T050000
END:STANDARD
BEGIN:DAYLIGHT
TZOFFSETFROM:-0400
TZOFFSETTO:-0300
TZNAME:ADT
DTSTART:20180311T060000
END:DAYLIGHT
BEGIN:STANDARD
TZOFFSETFROM:-0300
TZOFFSETTO:-0400
TZNAME:AST
DTSTART:20181104T050000
END:STANDARD
BEGIN:DAYLIGHT
TZOFFSETFROM:-0400
TZOFFSETTO:-0300
TZNAME:ADT
DTSTART:20190310T060000
END:DAYLIGHT
BEGIN:STANDARD
TZOFFSETFROM:-0300
TZOFFSETTO:-0400
TZNAME:AST
DTSTART:20191103T050000
END:STANDARD
END:VTIMEZONE
BEGIN:VEVENT
DTSTART;TZID=UTC:20180104T090000
DTEND;TZID=UTC:20180104T140000
DTSTAMP:20260425T084723
CREATED:20180104T031906Z
LAST-MODIFIED:20180104T032755Z
UID:724-1515056400-1515074400@mykeywestportal.com
SUMMARY:Green Market
DESCRIPTION:Every Thursday  find an eclectic array of vendors at Key West Weekly Green Market at Bayview Park.\nLife can be very simple shopping for pre-made meals\, fresh produce\, delicious cheeses\, beautiful orchids\, some health and beauty needs at this small market. \nPlanning a party this season\, or while you’re in town with friends and family?  Why not have a Paella Party?  They’re serving Paella at the Green Market – they cater as well. \n        \n 
URL:https://mykeywestportal.com/event/green-market/
LOCATION:Bayview Park\, Truman Ave\, and Eisenhower Dr\, Key West\, FL\, 33040\, United States
ATTACH;FMTTYPE=image/jpeg:https://mykeywestportal.com/wp-content/uploads/2018/01/Mediterranean_Key_West_GreenMarket__MyKeyWestPortal.com_.jpg
END:VEVENT
BEGIN:VEVENT
DTSTART;TZID=America/Halifax:20180531T100000
DTEND;TZID=America/Halifax:20180531T140000
DTSTAMP:20260425T084723
CREATED:20180528T164501Z
LAST-MODIFIED:20180528T164501Z
UID:3025-1527760800-1527775200@mykeywestportal.com
SUMMARY:Eat Fats for Energy Keto Mixer
DESCRIPTION:Weekly Keto mixer!!\n**Includes therapeutic samples and give-aways**
URL:https://mykeywestportal.com/event/eat-fats-for-energy-keto-mixer/
LOCATION:Bayview Park\, Truman Ave\, and Eisenhower Dr\, Key West\, FL\, 33040\, United States
ATTACH;FMTTYPE=image/jpeg:https://mykeywestportal.com/wp-content/uploads/2018/05/Keto_Royalty_Mixer_Key_West.jpg
END:VEVENT
BEGIN:VEVENT
DTSTART;TZID=UTC:20180531T160000
DTEND;TZID=UTC:20180531T190000
DTSTAMP:20260425T084723
CREATED:20180518T213617Z
LAST-MODIFIED:20180518T213617Z
UID:2587-1527782400-1527793200@mykeywestportal.com
SUMMARY:Wine Tasting
DESCRIPTION:Taste the flavors of old world wines from France and Italy! \n* Wines will be available for purchase
URL:https://mykeywestportal.com/event/wine-tasting-2/
LOCATION:The Roost\, 508 Fleming Street\, Key West\, FL\, 33040\, United States
ATTACH;FMTTYPE=image/jpeg:https://mykeywestportal.com/wp-content/uploads/2018/05/Wine_Tasting_The_Roost_Key_West.jpg
END:VEVENT
BEGIN:VEVENT
DTSTART;TZID=UTC:20180524T180000
DTEND;TZID=UTC:20180524T230000
DTSTAMP:20260425T084723
CREATED:20180518T225214Z
LAST-MODIFIED:20180618T180725Z
UID:2605-1527184800-1527202800@mykeywestportal.com
SUMMARY:Bike Night
DESCRIPTION:Ride your bike to Mellow Cafe Key West and receive 50% food and a chance to win a FREE BIKE \n  \nEntertainment by Ike Kanakanui from 6-9pm \nRaffle:First Thursday of the month \n  \nPROMOTING SAFE BIKING IN KEY WEST!
URL:https://mykeywestportal.com/event/bike-night/
LOCATION:Mellow Cafe\, 1605 N Roosevelt Blvd\, Suite 1\, Key West\, FL\, 33040\, United States
ATTACH;FMTTYPE=image/jpeg:https://mykeywestportal.com/wp-content/uploads/2018/05/Mellow_Venture_Cafe_Gastropub_Bike_Night_Key_West.jpg
END:VEVENT
BEGIN:VEVENT
DTSTART;TZID=UTC:20180524T210000
DTEND;TZID=UTC:20180524T210000
DTSTAMP:20260425T084723
CREATED:20180518T185224Z
LAST-MODIFIED:20180518T185224Z
UID:2553-1527195600-1527195600@mykeywestportal.com
SUMMARY:Trivia Night
DESCRIPTION:EATING. DRINKING. THINKING.\nTrivia night is on EVERY Thursday night and includes JD and DJ WMAF 1230AM \nThere will be prizes available along with food and drinks for purchase!
URL:https://mykeywestportal.com/event/trivia-night/
LOCATION:Lucy's Retired Surfers Bar\, 221 Duval St\, Key West\, FL\, 33040\, United States
ATTACH;FMTTYPE=image/jpeg:https://mykeywestportal.com/wp-content/uploads/2018/05/Trivia_Night_Lucy_Retired_Surfers_Bar_And_Restaurant.jpg
END:VEVENT
BEGIN:VEVENT
DTSTART;TZID=UTC:20180106T080000
DTEND;TZID=UTC:20180106T120000
DTSTAMP:20260425T084723
CREATED:20180104T213958Z
LAST-MODIFIED:20220621T013558Z
UID:870-1515225600-1515240000@mykeywestportal.com
SUMMARY:1st Saturday of the Month Hazardous Waste Drop Off
DESCRIPTION:This Household Hazardous Waste and Electronics Drop-off Day provides a safe and environmentally sound way to get rid of hard-to-dispose-of items. \nImportant Musts: \n  \n1. City of Key West Residents Only \n2. No Businesses \n  \n  \n  \n\nAccepting: Household Chemicals and Electronics\nGasoline (up to 5 gallons in a leakproof container)\nPaints\nStains\nPreservatives\nPesticides\nFertilizers\nRoofing Compounds\nWaste oil and Cooking oil\nResins and Solvents\nAdhesives and Caulks\nCorrosives and Acids\nCleaning Products\nAutomotive Fluids\nElectronics are also be accepted: microwaves\, TVs\, computers\, game systems\, speakers\, telephones\, circuit boards\, etc.\n\nFor more information contact the City of Key West: at 305-809-3776\, or Waste Management: at 305-296-8297. \n \n  \n  \n 
URL:https://mykeywestportal.com/event/1st-saturday-of-the-month-hazardous-waste-drop-off/
LOCATION:Indigenous Park\, 1801 White Street\, Key West\, FL\, 33040\, United States
CATEGORIES:Community
ATTACH;FMTTYPE=image/jpeg:https://mykeywestportal.com/wp-content/uploads/2018/01/MyKeyWestPortal-Hazardous-Waste-Drop-Off-Waste-Management-Key-West.jpg
END:VEVENT
BEGIN:VEVENT
DTSTART;TZID=UTC:20180303T090000
DTEND;TZID=UTC:20180303T120000
DTSTAMP:20260425T084723
CREATED:20180303T070108Z
LAST-MODIFIED:20180528T180119Z
UID:1905-1520067600-1520078400@mykeywestportal.com
SUMMARY:Home Depot Day
DESCRIPTION:Every 1st Saturday is "Home Depot Day" for kids in Key West.  I'm not sure if they do this in every Home Depot store all over the country\, but it's a big hit Key West. \nAt this monthly event - you'll find dozens of busy children:         -\n\n\nhammering\,\n\n\nbuilding\, and\n\n\npainting\n\n\nHome Depot provides tools\, and kits (a different project kit each month).  While supplies last kid work aprons are provided that children reuse\, and at future visits.  Souvenir project pins can be collected. \nCollecting pins on aprons reminds me of Hard Rock suspenders full of collector pins from various Hard Rocks around the world. \nThank you Home Depot for the many years of Saturday fun!\n \n  \n  \n  \n  \n  \n  \nResources: \nHome Depot Workshops in Key West (Big and Little Kids) \nWant to share your Home Depot Day photo on MyKeyWestPortal.com?   \nE-mail your photo and photo details to:  Awesome@SocialMediaG.com  with Subject line: My  Home Depot Workshop Photo  \n 
URL:https://mykeywestportal.com/event/home-depo-day/
LOCATION:Home Depo\, 2811 N Roosevelt Boulevard\, Key West\, FL\, 33040\, United States
ATTACH;FMTTYPE=image/jpeg:https://mykeywestportal.com/wp-content/uploads/2018/03/Home_Depo_Key_West_First_Saturday_MyKeyWestPortal_2.jpg
END:VEVENT
BEGIN:VEVENT
DTSTART;TZID=America/Halifax:20180602T230000
DTEND;TZID=America/Halifax:20180602T230000
DTSTAMP:20260425T084723
CREATED:20180521T175213Z
LAST-MODIFIED:20180521T175213Z
UID:2709-1527980400-1527980400@mykeywestportal.com
SUMMARY:FOW Returns to Mary Ellen's
DESCRIPTION:Fish Out of Water is back at Mary Ellen's...Come out and join the party!! \n 
URL:https://mykeywestportal.com/event/fow-returns-to-mary-ellens/
LOCATION:Mary Ellen's\, Applerouth Lane\, Key West\, FL\, 33040\, United States
ATTACH;FMTTYPE=image/jpeg:https://mykeywestportal.com/wp-content/uploads/2018/05/FOW_Fish_Out_Of_Water_The_Porch_Key_West.jpg
END:VEVENT
BEGIN:VEVENT
DTSTART;VALUE=DATE:20180204
DTEND;VALUE=DATE:20180205
DTSTAMP:20260425T084723
CREATED:20180115T011810Z
LAST-MODIFIED:20180115T013630Z
UID:1301-1517716800-1517788799@mykeywestportal.com
SUMMARY:Local's Day at the Botanical Gardens
DESCRIPTION:Free admission for Florida Keys residents and students. \nMonroe County Florida ID Required. \nYou can still bring a visitor or out of town guest for free! \n\n\n\n\n\n\n\n\n\n\n\n\n\n\n\n https://keywest.garden/event/locals-day/all/\nFor more info contact: info@keywest.garden
URL:https://mykeywestportal.com/event/locals-day-at-the-botanical-gardens/
LOCATION:Key West Botanical Garden\, 5210 College Rd\, Key West\, FL\, 33040\, United States
ATTACH;FMTTYPE=image/jpeg:https://mykeywestportal.com/wp-content/uploads/2018/01/KWBTG_logo_botanicalgardens.jpg
END:VEVENT
BEGIN:VEVENT
DTSTART;TZID=America/Halifax:20180603T073000
DTEND;TZID=America/Halifax:20180603T150000
DTSTAMP:20260425T084723
CREATED:20180523T175244Z
LAST-MODIFIED:20180523T175244Z
UID:2904-1528011000-1528038000@mykeywestportal.com
SUMMARY:Inaugural Golf Tournament
DESCRIPTION:Join the Basilica School at the Key West Golf Club for the Inaugural Golf Tournament! \n\nMillion dollar shoot out and putting contest\nBreakfast and lunch included\nPrizes for each flight\nPrizes on every hole\nSponsorship opportunities available\n$100 entry fee\n\nAll proceeds go towards the school
URL:https://mykeywestportal.com/event/inaugural-golf-tournament/
LOCATION:Key West Golf Club\, 6450 College Rd\, Key West\, FL\, 33040\, United States
ATTACH;FMTTYPE=image/jpeg:https://mykeywestportal.com/wp-content/uploads/2018/05/Golf_Tournament_Basilica-_School_Key_West.jpg
END:VEVENT
BEGIN:VEVENT
DTSTART;TZID=UTC:20180603T130000
DTEND;TZID=UTC:20180603T143000
DTSTAMP:20260425T084723
CREATED:20180521T194528Z
LAST-MODIFIED:20180521T194528Z
UID:2679-1528030800-1528036200@mykeywestportal.com
SUMMARY:Beach Cleanup
DESCRIPTION:Help Keep the beach clean!!\nThis monthly event is open to anyone and everyone who wants to give back to the community. \nGloves\, garbage bags\, water bottles\, and snacks provided for the volunteers.
URL:https://mykeywestportal.com/event/beach-cleanup/
LOCATION:Smathers Beach\, 26001 S Roosevelt Blvd\, Key West\, FL\, 33040\, United States
ATTACH;FMTTYPE=image/jpeg:https://mykeywestportal.com/wp-content/uploads/2018/05/Higgs_Beach_CleanUp_Key_West.jpg
END:VEVENT
BEGIN:VEVENT
DTSTART;TZID=UTC:20180604T080000
DTEND;TZID=UTC:20180604T160000
DTSTAMP:20260425T084723
CREATED:20180514T205606Z
LAST-MODIFIED:20180523T135810Z
UID:2520-1528099200-1528128000@mykeywestportal.com
SUMMARY:Royal Princess Dance Camp
DESCRIPTION:Join BELLE\, CINDERELLA\, ELSA\, and ARIEL in this princess dance class!\nCamp includes: \n\nBallet\nJazz\nCrafts\nGames\nFinal performance for parents (3:30 on final day)\n\nCampers encouraged to bring: \n\n2-4 bottles of water\nLUNCH\nSnacks\n\n***Payment due in full at the time of registration
URL:https://mykeywestportal.com/event/royal-princess-dance-camp/
LOCATION:Key West Sports Academy\, 700 Truman Ave\, Key West\, FL\, 33040\, United States
ATTACH;FMTTYPE=image/jpeg:https://mykeywestportal.com/wp-content/uploads/2018/05/Royal_Princess_Dance_Camp_Key_West_Sports_Academy.jpg
ORGANIZER;CN="Key West Sports Academy":MAILTO:parties@keywestsportsacademy.com
END:VEVENT
BEGIN:VEVENT
DTSTART;TZID=America/Halifax:20180604T160000
DTEND;TZID=America/Halifax:20180604T170000
DTSTAMP:20260425T084723
CREATED:20180603T133729Z
LAST-MODIFIED:20180603T133829Z
UID:3143-1528128000-1528131600@mykeywestportal.com
SUMMARY:Back Handspring Clinic
DESCRIPTION:Learn to master the BACK HANDSPRING at this clinic!  \nThere are 2 opportunities to attend (6/4 & 6/6) \nAges: 5+ with a back bend kickover \n  \n**Bonus: Sign up for a class after the clinic and your member fee will be waived ($35 value) \nSign up:  www.keywestsportsacademy.com
URL:https://mykeywestportal.com/event/back-handspring-clinic/
LOCATION:Key West Sports Academy\, 700 Truman Ave\, Key West\, FL\, 33040\, United States
ATTACH;FMTTYPE=image/png:https://mykeywestportal.com/wp-content/uploads/2018/06/kisspng-handspring-gymnastics-cheerleading-tumbling-roundo-gymnastics-5abe83f2251ef1.8553756815224350581521.png
ORGANIZER;CN="Key West Sports Academy":MAILTO:parties@keywestsportsacademy.com
END:VEVENT
BEGIN:VEVENT
DTSTART;TZID=UTC:20180604T080000
DTEND;TZID=UTC:20180604T160000
DTSTAMP:20260425T084723
CREATED:20180514T205606Z
LAST-MODIFIED:20180523T135810Z
UID:2520-1528099200-1528128000@mykeywestportal.com
SUMMARY:Royal Princess Dance Camp
DESCRIPTION:Join BELLE\, CINDERELLA\, ELSA\, and ARIEL in this princess dance class!\nCamp includes: \n\nBallet\nJazz\nCrafts\nGames\nFinal performance for parents (3:30 on final day)\n\nCampers encouraged to bring: \n\n2-4 bottles of water\nLUNCH\nSnacks\n\n***Payment due in full at the time of registration
URL:https://mykeywestportal.com/event/royal-princess-dance-camp/
LOCATION:Key West Sports Academy\, 700 Truman Ave\, Key West\, FL\, 33040\, United States
ATTACH;FMTTYPE=image/jpeg:https://mykeywestportal.com/wp-content/uploads/2018/05/Royal_Princess_Dance_Camp_Key_West_Sports_Academy.jpg
ORGANIZER;CN="Key West Sports Academy":MAILTO:parties@keywestsportsacademy.com
END:VEVENT
BEGIN:VEVENT
DTSTART;TZID=America/Halifax:20180605T103000
DTEND;TZID=America/Halifax:20180605T163000
DTSTAMP:20260425T084723
CREATED:20180601T144257Z
LAST-MODIFIED:20180601T144257Z
UID:3098-1528194600-1528216200@mykeywestportal.com
SUMMARY:Blood Drive
DESCRIPTION:How can doing something so simple have such a big impact? \nDONATE BLOOD TODAY!
URL:https://mykeywestportal.com/event/blood-drive/
LOCATION:Florida Keys Aqueduct Authority\, 1100 Kennedy Dr\, Key West\, FL\, 33040\, United States
ATTACH;FMTTYPE=image/png:https://mykeywestportal.com/wp-content/uploads/2018/06/OneBlood_Blood_Donation_Truck_Key_West.png
END:VEVENT
BEGIN:VEVENT
DTSTART;TZID=America/Halifax:20180605T160000
DTEND;TZID=America/Halifax:20180605T170000
DTSTAMP:20260425T084723
CREATED:20180603T135612Z
LAST-MODIFIED:20180603T135612Z
UID:3149-1528214400-1528218000@mykeywestportal.com
SUMMARY:Back Bend Clinic
DESCRIPTION:Learn a new skill...BACK BEND! \nAges: 5+ \n**Bonus: Sign up for a class after the clinic and your member fee will be waived
URL:https://mykeywestportal.com/event/back-bend-clinic/
LOCATION:Key West Sports Academy\, 700 Truman Ave\, Key West\, FL\, 33040\, United States
ATTACH;FMTTYPE=image/png:https://mykeywestportal.com/wp-content/uploads/2018/06/backbend_sport_academy_key_west.png
ORGANIZER;CN="Key West Sports Academy":MAILTO:parties@keywestsportsacademy.com
END:VEVENT
BEGIN:VEVENT
DTSTART;TZID=America/Halifax:20180605T180000
DTEND;TZID=America/Halifax:20180605T183000
DTSTAMP:20260425T084723
CREATED:20180603T140054Z
LAST-MODIFIED:20180603T140054Z
UID:3152-1528221600-1528223400@mykeywestportal.com
SUMMARY:Ninja Class - FREE trial
DESCRIPTION:Ninja Class!\nFree trial class for the first 6 kids to register! \n  \nAges: 5-11
URL:https://mykeywestportal.com/event/ninja-class-free-trial/
LOCATION:Key West Sports Academy\, 700 Truman Ave\, Key West\, FL\, 33040\, United States
ATTACH;FMTTYPE=image/jpeg:https://mykeywestportal.com/wp-content/uploads/2018/06/ninja_class_sports_academy_key_west.jpg
ORGANIZER;CN="Key West Sports Academy":MAILTO:parties@keywestsportsacademy.com
END:VEVENT
BEGIN:VEVENT
DTSTART;TZID=UTC:20180604T080000
DTEND;TZID=UTC:20180604T160000
DTSTAMP:20260425T084723
CREATED:20180514T205606Z
LAST-MODIFIED:20180523T135810Z
UID:2520-1528099200-1528128000@mykeywestportal.com
SUMMARY:Royal Princess Dance Camp
DESCRIPTION:Join BELLE\, CINDERELLA\, ELSA\, and ARIEL in this princess dance class!\nCamp includes: \n\nBallet\nJazz\nCrafts\nGames\nFinal performance for parents (3:30 on final day)\n\nCampers encouraged to bring: \n\n2-4 bottles of water\nLUNCH\nSnacks\n\n***Payment due in full at the time of registration
URL:https://mykeywestportal.com/event/royal-princess-dance-camp/
LOCATION:Key West Sports Academy\, 700 Truman Ave\, Key West\, FL\, 33040\, United States
ATTACH;FMTTYPE=image/jpeg:https://mykeywestportal.com/wp-content/uploads/2018/05/Royal_Princess_Dance_Camp_Key_West_Sports_Academy.jpg
ORGANIZER;CN="Key West Sports Academy":MAILTO:parties@keywestsportsacademy.com
END:VEVENT
BEGIN:VEVENT
DTSTART;TZID=America/Halifax:20180606T160000
DTEND;TZID=America/Halifax:20180606T170000
DTSTAMP:20260425T084723
CREATED:20180603T134057Z
LAST-MODIFIED:20180603T134057Z
UID:3147-1528300800-1528304400@mykeywestportal.com
SUMMARY:Back Handspring Clinic
DESCRIPTION:Learn to master the BACK HANDSPRING at this clinic!  \nAges: 5+ with a back bend kickover \n  \n**Bonus: Sign up for a class after the clinic and your member fee will be waived ($35 value) \nSign up:  www.keywestsportsacademy.com
URL:https://mykeywestportal.com/event/back-handspring-clinic-2/
LOCATION:Key West Sports Academy\, 700 Truman Ave\, Key West\, FL\, 33040\, United States
ATTACH;FMTTYPE=image/png:https://mykeywestportal.com/wp-content/uploads/2018/06/kisspng-handspring-gymnastics-cheerleading-tumbling-roundo-gymnastics-5abe83f2251ef1.8553756815224350581521.png
ORGANIZER;CN="Key West Sports Academy":MAILTO:parties@keywestsportsacademy.com
END:VEVENT
BEGIN:VEVENT
DTSTART;TZID=America/Halifax:20180606T170000
DTEND;TZID=America/Halifax:20180606T190000
DTSTAMP:20260425T084723
CREATED:20180523T145906Z
LAST-MODIFIED:20180523T145906Z
UID:2832-1528304400-1528311600@mykeywestportal.com
SUMMARY:Key West Pride and Key West Stoli Classic Championship Kickoff Celebration 
DESCRIPTION:Come celebrate Pride in Key West!!\nThis kickoff celebration includes Free Stoli Cocktails \n______________________________________________ \nFull schedule can be found at http://mykeywestportal.com/blog/ \n  \n*For most up to date information\, please visit the event website: http://www.keywestpride.org/event-schedule/
URL:https://mykeywestportal.com/event/key-west-pride-and-key-west-stoli-classic-championship-kickoff-celebration/
LOCATION:Island House Resort\, 1129 Fleming St\, Key West\, FL\, 33040\, United States
ATTACH;FMTTYPE=image/jpeg:https://mykeywestportal.com/wp-content/uploads/2018/05/Key_West_Pride_Celebration_June.jpg
END:VEVENT
BEGIN:VEVENT
DTSTART;TZID=America/Halifax:20180606T190000
DTEND;TZID=America/Halifax:20180606T190000
DTSTAMP:20260425T084723
CREATED:20180523T150247Z
LAST-MODIFIED:20180523T150247Z
UID:2835-1528311600-1528311600@mykeywestportal.com
SUMMARY:Key West Pride Reading
DESCRIPTION:Come celebrate Pride in Key West!!\nPride reading is presented by Fringe Theatre \n*Doors open at 6:30pm \n______________________________________________ \nFull schedule can be found at http://mykeywestportal.com/blog/ \n  \n*For most up to date information\, please visit the event website: http://www.keywestpride.org/event-schedule/
URL:https://mykeywestportal.com/event/key-west-pride-reading/
LOCATION:Key West Theater\, 512 Eaton St\, Key West\, FL\, 33040\, United States
ATTACH;FMTTYPE=image/jpeg:https://mykeywestportal.com/wp-content/uploads/2018/05/Key_West_Pride_Celebration_June.jpg
END:VEVENT
BEGIN:VEVENT
DTSTART;TZID=America/Halifax:20180606T200000
DTEND;TZID=America/Halifax:20180606T200000
DTSTAMP:20260425T084723
CREATED:20180523T150521Z
LAST-MODIFIED:20180523T150521Z
UID:2837-1528315200-1528315200@mykeywestportal.com
SUMMARY:Miss Pride
DESCRIPTION:Come celebrate Pride in Key West!!\nDoors open at 7:30 pm for Miss Pride \n______________________________________________ \nFull schedule can be found at http://mykeywestportal.com/blog/ \n  \n*For most up to date information\, please visit the event website: http://www.keywestpride.org/event-schedule/
URL:https://mykeywestportal.com/event/miss-pride/
LOCATION:801 Bourbon Bar\, 801 Duval St.\, Key West\, FL\, 33040\, United States
ATTACH;FMTTYPE=image/jpeg:https://mykeywestportal.com/wp-content/uploads/2018/05/Key_West_Pride_Celebration_June.jpg
END:VEVENT
BEGIN:VEVENT
DTSTART;TZID=America/Halifax:20180606T210000
DTEND;TZID=America/Halifax:20180606T210000
DTSTAMP:20260425T084723
CREATED:20180523T150806Z
LAST-MODIFIED:20180523T150806Z
UID:2839-1528318800-1528318800@mykeywestportal.com
SUMMARY:XXX Trivia
DESCRIPTION:Come celebrate Pride in Key West!!\nXXX Trivia takes place in the main bar \n______________________________________________ \nFull schedule can be found at http://mykeywestportal.com/blog/ \n  \n*For most up to date information\, please visit the event website: http://www.keywestpride.org/event-schedule/
URL:https://mykeywestportal.com/event/xxx-trivia/
LOCATION:801 Bourbon Bar\, 801 Duval St.\, Key West\, FL\, 33040\, United States
ATTACH;FMTTYPE=image/jpeg:https://mykeywestportal.com/wp-content/uploads/2018/05/Key_West_Pride_Celebration_June.jpg
END:VEVENT
BEGIN:VEVENT
DTSTART;TZID=UTC:20180604T080000
DTEND;TZID=UTC:20180604T160000
DTSTAMP:20260425T084723
CREATED:20180514T205606Z
LAST-MODIFIED:20180523T135810Z
UID:2520-1528099200-1528128000@mykeywestportal.com
SUMMARY:Royal Princess Dance Camp
DESCRIPTION:Join BELLE\, CINDERELLA\, ELSA\, and ARIEL in this princess dance class!\nCamp includes: \n\nBallet\nJazz\nCrafts\nGames\nFinal performance for parents (3:30 on final day)\n\nCampers encouraged to bring: \n\n2-4 bottles of water\nLUNCH\nSnacks\n\n***Payment due in full at the time of registration
URL:https://mykeywestportal.com/event/royal-princess-dance-camp/
LOCATION:Key West Sports Academy\, 700 Truman Ave\, Key West\, FL\, 33040\, United States
ATTACH;FMTTYPE=image/jpeg:https://mykeywestportal.com/wp-content/uploads/2018/05/Royal_Princess_Dance_Camp_Key_West_Sports_Academy.jpg
ORGANIZER;CN="Key West Sports Academy":MAILTO:parties@keywestsportsacademy.com
END:VEVENT
BEGIN:VEVENT
DTSTART;TZID=UTC:20180104T090000
DTEND;TZID=UTC:20180104T140000
DTSTAMP:20260425T084723
CREATED:20180104T031906Z
LAST-MODIFIED:20180104T032755Z
UID:724-1515056400-1515074400@mykeywestportal.com
SUMMARY:Green Market
DESCRIPTION:Every Thursday  find an eclectic array of vendors at Key West Weekly Green Market at Bayview Park.\nLife can be very simple shopping for pre-made meals\, fresh produce\, delicious cheeses\, beautiful orchids\, some health and beauty needs at this small market. \nPlanning a party this season\, or while you’re in town with friends and family?  Why not have a Paella Party?  They’re serving Paella at the Green Market – they cater as well. \n        \n 
URL:https://mykeywestportal.com/event/green-market/
LOCATION:Bayview Park\, Truman Ave\, and Eisenhower Dr\, Key West\, FL\, 33040\, United States
ATTACH;FMTTYPE=image/jpeg:https://mykeywestportal.com/wp-content/uploads/2018/01/Mediterranean_Key_West_GreenMarket__MyKeyWestPortal.com_.jpg
END:VEVENT
BEGIN:VEVENT
DTSTART;TZID=America/Halifax:20180531T100000
DTEND;TZID=America/Halifax:20180531T140000
DTSTAMP:20260425T084723
CREATED:20180528T164501Z
LAST-MODIFIED:20180528T164501Z
UID:3025-1527760800-1527775200@mykeywestportal.com
SUMMARY:Eat Fats for Energy Keto Mixer
DESCRIPTION:Weekly Keto mixer!!\n**Includes therapeutic samples and give-aways**
URL:https://mykeywestportal.com/event/eat-fats-for-energy-keto-mixer/
LOCATION:Bayview Park\, Truman Ave\, and Eisenhower Dr\, Key West\, FL\, 33040\, United States
ATTACH;FMTTYPE=image/jpeg:https://mykeywestportal.com/wp-content/uploads/2018/05/Keto_Royalty_Mixer_Key_West.jpg
END:VEVENT
BEGIN:VEVENT
DTSTART;TZID=America/Halifax:20180607T130000
DTEND;TZID=America/Halifax:20180607T160000
DTSTAMP:20260425T084723
CREATED:20180523T151205Z
LAST-MODIFIED:20180523T151205Z
UID:2841-1528376400-1528387200@mykeywestportal.com
SUMMARY:Pride Pool Party
DESCRIPTION:Come celebrate Pride in Key West!!\nPool party at The Equator! \nMEN EVENT ONLY \n______________________________________________ \nFull schedule can be found at http://mykeywestportal.com/blog/ \n  \n*For most up to date information\, please visit the event website: http://www.keywestpride.org/event-schedule/
URL:https://mykeywestportal.com/event/pride-pool-party/
LOCATION:The Equator\, 822 Fleming St\, Key West\, FL\, 33040\, United States
ATTACH;FMTTYPE=image/jpeg:https://mykeywestportal.com/wp-content/uploads/2018/05/Key_West_Pride_Celebration_June.jpg
END:VEVENT
BEGIN:VEVENT
DTSTART;TZID=America/Halifax:20180607T160000
DTEND;TZID=America/Halifax:20180607T170000
DTSTAMP:20260425T084723
CREATED:20180603T140447Z
LAST-MODIFIED:20180603T140447Z
UID:3155-1528387200-1528390800@mykeywestportal.com
SUMMARY:Bridge Kickover Clinic
DESCRIPTION:Learn a skill!...BRIDGE KICKOVER\nAges: 5+ \n**Bonus: Sign up for a class after the clinic and member fee will be waived
URL:https://mykeywestportal.com/event/bridge-kickover-clinic/
LOCATION:Key West Sports Academy\, 700 Truman Ave\, Key West\, FL\, 33040\, United States
ATTACH;FMTTYPE=image/jpeg:https://mykeywestportal.com/wp-content/uploads/2018/06/kickover_key_west_clinic_sports_academy.jpg
ORGANIZER;CN="Key West Sports Academy":MAILTO:parties@keywestsportsacademy.com
END:VEVENT
BEGIN:VEVENT
DTSTART;TZID=America/Halifax:20180607T160000
DTEND;TZID=America/Halifax:20180607T180000
DTSTAMP:20260425T084723
CREATED:20180523T151407Z
LAST-MODIFIED:20180523T151407Z
UID:2844-1528387200-1528394400@mykeywestportal.com
SUMMARY:Wine Tasting
DESCRIPTION:Come celebrate Pride in Key West!!\n10% off bottles of wine purchased at the event! \n______________________________________________ \nFull schedule can be found at http://mykeywestportal.com/blog/ \n  \n*For most up to date information\, please visit the event website: http://www.keywestpride.org/event-schedule/
URL:https://mykeywestportal.com/event/wine-tasting-3/
LOCATION:The Gardens Hotel\, 526 Angela Street\, Key West\, FL\, 33040\, United States
ATTACH;FMTTYPE=image/jpeg:https://mykeywestportal.com/wp-content/uploads/2018/05/Key_West_Pride_Celebration_June.jpg
END:VEVENT
BEGIN:VEVENT
DTSTART;TZID=America/Halifax:20180607T180000
DTEND;TZID=America/Halifax:20180607T180000
DTSTAMP:20260425T084723
CREATED:20180523T151633Z
LAST-MODIFIED:20180523T151633Z
UID:2846-1528394400-1528394400@mykeywestportal.com
SUMMARY:The Stoli Key West Classic
DESCRIPTION:Come celebrate Pride in Key West!!\nStoli Key West Classic championship semi-finals \n\nDoors open at 5 pm\n\n______________________________________________ \nFull schedule can be found at http://mykeywestportal.com/blog/ \n  \n*For most up to date information\, please visit the event website: http://www.keywestpride.org/event-schedule/
URL:https://mykeywestportal.com/event/the-stoli-key-west-classic/
LOCATION:Aqua\, 711 Duval Street\, key west
ATTACH;FMTTYPE=image/jpeg:https://mykeywestportal.com/wp-content/uploads/2018/05/Key_West_Pride_Celebration_June.jpg
END:VEVENT
END:VCALENDAR