BEGIN:VCALENDAR
VERSION:2.0
PRODID:-//My Key West Portal is the Social Calendar for the Florida Keys and Key West - ECPv6.15.11//NONSGML v1.0//EN
CALSCALE:GREGORIAN
METHOD:PUBLISH
X-ORIGINAL-URL:https://mykeywestportal.com
X-WR-CALDESC:Events for My Key West Portal is the Social Calendar for the Florida Keys and Key West
REFRESH-INTERVAL;VALUE=DURATION:PT1H
X-Robots-Tag:noindex
X-PUBLISHED-TTL:PT1H
BEGIN:VTIMEZONE
TZID:America/Halifax
BEGIN:DAYLIGHT
TZOFFSETFROM:-0400
TZOFFSETTO:-0300
TZNAME:ADT
DTSTART:20170312T060000
END:DAYLIGHT
BEGIN:STANDARD
TZOFFSETFROM:-0300
TZOFFSETTO:-0400
TZNAME:AST
DTSTART:20171105T050000
END:STANDARD
BEGIN:DAYLIGHT
TZOFFSETFROM:-0400
TZOFFSETTO:-0300
TZNAME:ADT
DTSTART:20180311T060000
END:DAYLIGHT
BEGIN:STANDARD
TZOFFSETFROM:-0300
TZOFFSETTO:-0400
TZNAME:AST
DTSTART:20181104T050000
END:STANDARD
BEGIN:DAYLIGHT
TZOFFSETFROM:-0400
TZOFFSETTO:-0300
TZNAME:ADT
DTSTART:20190310T060000
END:DAYLIGHT
BEGIN:STANDARD
TZOFFSETFROM:-0300
TZOFFSETTO:-0400
TZNAME:AST
DTSTART:20191103T050000
END:STANDARD
END:VTIMEZONE
BEGIN:VEVENT
DTSTART;TZID=America/Halifax:20181023T170000
DTEND;TZID=America/Halifax:20181023T170000
DTSTAMP:20260425T102447
CREATED:20180920T174502Z
LAST-MODIFIED:20180920T174502Z
UID:5515-1540314000-1540314000@mykeywestportal.com
SUMMARY:Fantasy Fest Poster Signing
DESCRIPTION:Fantasy Fest 2018\nOh\, The Games We Play\nFantasy Fest Poster Signing\nMeet the 2017 award winning poster artist. \nThere will be wine by the glass specials all night long. \n  \nPosters will be available for sale! \n 
URL:https://mykeywestportal.com/event/fantasy-fest-poster-signing/
LOCATION:WineO\, 430 Duval St\, Key West\, FL\, 3304\, United States
ATTACH;FMTTYPE=image/jpeg:https://mykeywestportal.com/wp-content/uploads/2018/09/FantasyFest2018_KeyWest_OhTheGamesWePlay.jpg
END:VEVENT
BEGIN:VEVENT
DTSTART;TZID=America/Halifax:20181023T173000
DTEND;TZID=America/Halifax:20181023T203000
DTSTAMP:20260425T102447
CREATED:20180913T180951Z
LAST-MODIFIED:20180913T180951Z
UID:5377-1540315800-1540326600@mykeywestportal.com
SUMMARY:TuTu Tuesday PRE-PARTY PARADE
DESCRIPTION:Fantasy Fest 2018\nOh\, The Games We Play\nTuTu Pre-Party Parade \nWhat better way to prepare for the Tutu party than by having a party?! \nCheck-In at Mary Ellen's and parade through downtown \n\nCheck in at 5:30pm - 6:30pm\n\nEnjoy a free beverage\n\n\nParade begins at 6:30pm\n\nMary Ellen's\nFirst Flight\nTiki House\nOthers TBD\n\n\n\nBuy tickets HERE \n\nPrice INCLUDES Tutu party entrance
URL:https://mykeywestportal.com/event/tutu-tuesday-pre-party-parade/
LOCATION:Mary Ellen's\, Applerouth Lane\, Key West\, FL\, 33040\, United States
ATTACH;FMTTYPE=image/jpeg:https://mykeywestportal.com/wp-content/uploads/2018/09/DecadeDance_TutuTuesday_KeyWest-1.jpg
END:VEVENT
BEGIN:VEVENT
DTSTART;TZID=America/Halifax:20180703T183000
DTEND;TZID=America/Halifax:20180703T203000
DTSTAMP:20260425T102447
CREATED:20180619T162238Z
LAST-MODIFIED:20180619T162324Z
UID:3710-1530642600-1530649800@mykeywestportal.com
SUMMARY:Full Metal Trivia
DESCRIPTION:Random Questions. All Categories. Cool Prizes.\nEVERY TUESDAY! \n  \nCategories could be current news\, local\, knowledge\, birds\, rock and roll\, etc... endless possibilities \nPrizes could include gift cards up to a $50 value \nTrivia entry is FREE
URL:https://mykeywestportal.com/event/full-metal-trivia/
LOCATION:Mary Ellen's\, Applerouth Lane\, Key West\, FL\, 33040\, United States
ATTACH;FMTTYPE=image/jpeg:https://mykeywestportal.com/wp-content/uploads/2018/06/full_metal_trivia_night_mary_ellens_key_West.jpg
END:VEVENT
BEGIN:VEVENT
DTSTART;TZID=America/Halifax:20181023T190000
DTEND;TZID=America/Halifax:20181023T190000
DTSTAMP:20260425T102447
CREATED:20180913T175830Z
LAST-MODIFIED:20180913T175830Z
UID:5374-1540321200-1540321200@mykeywestportal.com
SUMMARY:TuTu Tuesday
DESCRIPTION:Fantasy Fest 2018\nOh\, The Games We Play\nTuTu Tuesday #10. DECADE DANCE!\nJoin us at our new venue!! \n\n5 spaces\n\nGeneral Horseplay\nTeaser's\nClub A\n22 & Co.\n...\n\n\nA bunch of Dj's and bands\n\nAtnarko Bear\nJevne Miller\nJames Cooper\nSanaris Peacock\nChaka M. Chandler\nGeorge Aderhold\nMark Christopher Straiton\nDavid Welzien\nMira\nChris Toler\nJerrod Isaman\nMORE\n\n\n\n**No tutu = no entry \nWristbands available Friday\, October 19th at General Horseplay and 22&Co.
URL:https://mykeywestportal.com/event/tutu-tuesday/
LOCATION:General Horseplay\, 423 Caroline St\, Key West\, FL\, 33040\, United States
ATTACH;FMTTYPE=image/jpeg:https://mykeywestportal.com/wp-content/uploads/2018/09/DecadeDance_TutuTuesday_KeyWest.jpg
END:VEVENT
BEGIN:VEVENT
DTSTART;TZID=America/Halifax:20181023T190000
DTEND;TZID=America/Halifax:20181023T190000
DTSTAMP:20260425T102447
CREATED:20180920T184724Z
LAST-MODIFIED:20180924T170047Z
UID:5531-1540321200-1540321200@mykeywestportal.com
SUMMARY:Venetian Masquerade Party
DESCRIPTION:Fantasy Fest 2018\nOh\, The Games We Play\nMasquerade Party\nHeld in an elegant ballroom\, the masquerade party will be a night of mystery; filled with irony\, disguise\, laughter\, and revelry. Elaborate masked costumes will be surrounded by lavish entertainment including: \n\nAcrobats\nMagicians\nRiveting music from Las Vegas\nPhat Strad Electric String Quartet\n\nThe night will also include delectable cuisine and a 5-hr open premium brand bar. \n*Interpretive attire required \n  \nA limited number of VIP tickets are available at $175/person. After those sell out\, tickets will be $225/person \n\ntickets are limited to 300
URL:https://mykeywestportal.com/event/5531/
LOCATION:Key West Marriott Beachside\, Tavern N Town 3841 N Roosevelt Blvd\, Key West\, FL\, 33040\, United States
ATTACH;FMTTYPE=image/jpeg:https://mykeywestportal.com/wp-content/uploads/2018/09/MasqueradeBall_BeachsideMarriot_KeyWest.jpg
END:VEVENT
BEGIN:VEVENT
DTSTART;TZID=America/Halifax:20181023T190000
DTEND;TZID=America/Halifax:20181023T220000
DTSTAMP:20260425T102447
CREATED:20180920T180437Z
LAST-MODIFIED:20180920T180437Z
UID:5520-1540321200-1540332000@mykeywestportal.com
SUMMARY:Cocktails for Animal Tails
DESCRIPTION:Fantasy Fest 2018\nOh\, The Games We Play\nCocktails for Animal Tails\n"All you can drink" Animal Party!!! \nEach bar around the entire Rick's Complex is transformed into a different Animal Kingdom around the world. \nCome dressed up in your best animal ears\, tails\, and maybe even tutus. \n\nCostumer Contest to win great prizes\n\n*Proceeds benefit the Florida Keys SPCA \nPre-sale Tickets available at FKSPCA.org (Click donate and then select this event)
URL:https://mykeywestportal.com/event/cocktails-for-animal-tails-2/
LOCATION:Rick's & Dirty Harry's\, 202 Duval st\, Key West\, FL\, 33040\, United States
ATTACH;FMTTYPE=image/jpeg:https://mykeywestportal.com/wp-content/uploads/2018/09/CocktailsForAnimalTails_KeyWest_FantasyFest.jpg
END:VEVENT
BEGIN:VEVENT
DTSTART;TZID=America/Halifax:20181019T193000
DTEND;TZID=America/Halifax:20181019T193000
DTSTAMP:20260425T102447
CREATED:20180920T162950Z
LAST-MODIFIED:20180920T163240Z
UID:5477-1539977400-1539977400@mykeywestportal.com
SUMMARY:Madame Dujours Magical Game Show and Burlesque Experience
DESCRIPTION:Fantasy Fest 2018\nOh\, The Games We Play\nMadame Dujours Magical Game Show and Burlesque Experience\nAn astonishing and interactive event awaits as Key West Burlesque and world renowned magician\, Nick Locapo\, take the stage. \n\nOne part live game show\nTwo parts theatrical burlesque\nAll parts fun\n\nEvery night\, audience members have a chance to win cash and prizes as the performers compete in the ultimate episode of miraculous amusement on the stage. \nFor tickets\, visit:  https://www.waterfrontplayhouse.org/shows/key-west-burlesque/ \nOr call 305-294-5015
URL:https://mykeywestportal.com/event/madame-dujours-magical-game-show-and-burlesque-experience/
LOCATION:The Waterfront Playhouse\, 310 Wall St\, Key West\, FL\, 33040\, United States
ATTACH;FMTTYPE=image/jpeg:https://mykeywestportal.com/wp-content/uploads/2018/09/MadameDujours_KeyWest_BurlesqueShow.jpg
END:VEVENT
BEGIN:VEVENT
DTSTART;TZID=America/Halifax:20181023T200000
DTEND;TZID=America/Halifax:20181023T200000
DTSTAMP:20260425T102447
CREATED:20180920T182102Z
LAST-MODIFIED:20180920T182102Z
UID:5524-1540324800-1540324800@mykeywestportal.com
SUMMARY:Party in Plaid
DESCRIPTION:Fantasy Fest 2018\nOh\, The Games We Play\nParty in Plaid\nWear your favorite plaid outfit and join thousands of other locals and tourists for a fantastic night. This party fulfills your wildest dreams and naughtiest of fantasies. \n 
URL:https://mykeywestportal.com/event/party-in-plaid/
LOCATION:Captain Tonys\, 428 Greene Street\, Key West\, FL\, 33040\, United States
ATTACH;FMTTYPE=image/png:https://mykeywestportal.com/wp-content/uploads/2018/09/PartyInPlaid_CaptTonys_FantasyFest.png
END:VEVENT
BEGIN:VEVENT
DTSTART;TZID=America/Halifax:20181023T210000
DTEND;TZID=America/Halifax:20181023T210000
DTSTAMP:20260425T102447
CREATED:20180920T183618Z
LAST-MODIFIED:20180920T183618Z
UID:5528-1540328400-1540328400@mykeywestportal.com
SUMMARY:Men of Labare Tighty Whitey Party
DESCRIPTION:Fantasy Fest 2018\nOh\, The Games We Play\nMen of Labare Tighty Whitey Party\nThe sexiest and wildest all male review show on Earth. Join the world famous LaBare dancers for an ultimate night of complete satisfaction.Sexy white wear is encouraged for this party and couples are welcome.
URL:https://mykeywestportal.com/event/men-of-labare-tighty-whitey-party/
LOCATION:The Bottle Cap\, 1128 Simonton St\, Key West\, FL\, 33040\, United States
ATTACH;FMTTYPE=image/jpeg:https://mykeywestportal.com/wp-content/uploads/2018/09/MenofLare_TightyWhiteyParty.jpg
END:VEVENT
BEGIN:VEVENT
DTSTART;TZID=America/Halifax:20181023T220000
DTEND;TZID=America/Halifax:20181023T220000
DTSTAMP:20260425T102447
CREATED:20180917T164122Z
LAST-MODIFIED:20180917T164122Z
UID:5423-1540332000-1540332000@mykeywestportal.com
SUMMARY:"It's Not Easy Being Green" Party
DESCRIPTION:Fantasy Fest 2018\nOh\, The Games We Play\n"It's Not Easy Being Green" Party\nWear green and be ready to party! \nPatrick and the Swayzees will bring a nostalgic blend of Rock-a-Billy\, Surf Rock\, and Doo Wop \n 
URL:https://mykeywestportal.com/event/its-not-easy-being-green-party/
LOCATION:Green Parrot\, 601 Whitehead Street\, Key West\, FL\, 33040\, United States
ATTACH;FMTTYPE=image/jpeg:https://mykeywestportal.com/wp-content/uploads/2018/09/ItsNotEasyBringGreen_KeyWest_GreenParrot.jpg
END:VEVENT
BEGIN:VEVENT
DTSTART;VALUE=DATE:20181018
DTEND;VALUE=DATE:20181019
DTSTAMP:20260425T102447
CREATED:20180716T141730Z
LAST-MODIFIED:20180716T141730Z
UID:4494-1539835200-1539907199@mykeywestportal.com
SUMMARY:Bay Life Men's Advance 2018
DESCRIPTION:Annual men's trip to Key Largo! FORWARD 2.0 is the theme and it will feature sessions with Pastor Mark\, Scott Ranck\, Danny Agosto\, and another two men who will be sharing their personal stories. Activities on Friday\, mission event on Saturday\, sessions throughout the weekend\, great food\, t-shirt\, and a wonderful couple days away with good company.
URL:https://mykeywestportal.com/event/bay-life-mens-advance-2018/
LOCATION:Amoray Dive Resort\, 104250 Overseas Hwy\, Key Largo\, FL\, 33037\, United States
ATTACH;FMTTYPE=image/jpeg:https://mykeywestportal.com/wp-content/uploads/2018/07/Forward2.0_BayLife_MensRetreat.jpg
END:VEVENT
BEGIN:VEVENT
DTSTART;VALUE=DATE:20181019
DTEND;VALUE=DATE:20181020
DTSTAMP:20260425T102447
CREATED:20180920T155709Z
LAST-MODIFIED:20180920T155709Z
UID:5443-1539921600-1539993599@mykeywestportal.com
SUMMARY:Dress Like Elvis Discount
DESCRIPTION:Fantasy Fest 2018\nOh\, The Games We Play\nDress Like Elvis\n15% off for everyone who dresses like elvis
URL:https://mykeywestportal.com/event/dress-like-elvis-discount/
LOCATION:Two Friends Patio Restaurant\, 512 Front St
ATTACH;FMTTYPE=image/jpeg:https://mykeywestportal.com/wp-content/uploads/2018/09/DressLikeElvis_TwoFriends_FantasyFest.jpg
END:VEVENT
BEGIN:VEVENT
DTSTART;VALUE=DATE:20181019
DTEND;VALUE=DATE:20181020
DTSTAMP:20260425T102447
CREATED:20180920T161321Z
LAST-MODIFIED:20180920T161321Z
UID:5455-1539921600-1539993599@mykeywestportal.com
SUMMARY:BART
DESCRIPTION:Fantasy Fest 2018\nOh\, The Games We Play\nBART = Bar + Art Stroll\nSelf guided wander along the docks: \n\nDante's\nConch Republic\nHalf Shell Raw Bar\nTurtle Kraals\nWaterfront Brewery\nSchooner Wharf Bar\nThe Marker\n\nCheck in to the bars using #FantasyFestBarAndArtStroll and posting a picture of the figures and sculptures \n\nYou will have a chance to win a vintage Fantasy Fest t-shirts and swag\n\n 
URL:https://mykeywestportal.com/event/bart/
LOCATION:The Schooner Warf Bar\, 202 William St\, Key West\, FL\, 33040\, United States
ATTACH;FMTTYPE=image/jpeg:https://mykeywestportal.com/wp-content/uploads/2018/09/FantasyFest2018_KeyWest_OhTheGamesWePlay.jpg
END:VEVENT
BEGIN:VEVENT
DTSTART;TZID=America/Halifax:20180822T080000
DTEND;TZID=America/Halifax:20180822T080000
DTSTAMP:20260425T102447
CREATED:20180820T181939Z
LAST-MODIFIED:20180820T181939Z
UID:5050-1534924800-1534924800@mykeywestportal.com
SUMMARY:Plogging the Keys
DESCRIPTION:Plogging is the process of picking up litter while exercising! \nHow to prepare: \n\nBe prepared to get dirty\nWear good shoes\nJoin or start a group\nWalk\, jog\, swim\, bike...and PLOG!\n\nWeekly\, everyone will meet up at the White St. Pier and take a walk to anew path. \nThis is a great opportunity to make a difference\, exercise\, and socialize with like-minded individuals!
URL:https://mykeywestportal.com/event/plogging-the-keys/
LOCATION:White Street Pier\, 1800 White St.\, Key West\, FL\, 33040\, United States
ATTACH;FMTTYPE=image/jpeg:https://mykeywestportal.com/wp-content/uploads/2018/08/PloggingTheKeys_KeyWest.jpg
ORGANIZER;CN="Dee Dee Green":MAILTO:dgreen@cityofkeywest-fl.gov
END:VEVENT
BEGIN:VEVENT
DTSTART;TZID=America/Halifax:20180912T090000
DTEND;TZID=America/Halifax:20180912T103000
DTSTAMP:20260425T102447
CREATED:20180907T184651Z
LAST-MODIFIED:20180907T184651Z
UID:5282-1536742800-1536748200@mykeywestportal.com
SUMMARY:Preschool Playdate
DESCRIPTION:Wednesday Preschool Playdate!\nOpen gym\, bars\, ropes\, trampolines\, and more... \nA great play date for both parents and kids! \nAges: 2-6 yrs \n 
URL:https://mykeywestportal.com/event/preschool-playdate/
LOCATION:Key West Sports Academy\, 700 Truman Ave\, Key West\, FL\, 33040\, United States
ATTACH;FMTTYPE=image/jpeg:https://mykeywestportal.com/wp-content/uploads/2018/09/PreschoolPlaydate_Wednesday_KWSA.jpg
ORGANIZER;CN="Key West Sports Academy":MAILTO:parties@keywestsportsacademy.com
END:VEVENT
BEGIN:VEVENT
DTSTART;TZID=America/Halifax:20180627T090000
DTEND;TZID=America/Halifax:20180627T140000
DTSTAMP:20260425T102447
CREATED:20180625T191532Z
LAST-MODIFIED:20180626T154740Z
UID:4026-1530090000-1530108000@mykeywestportal.com
SUMMARY:Farmer's Market
DESCRIPTION:Weekly Farmer's Market!\n\nThe cheese lady\, Produce\nRibs\nKombucha\nPopcorn\nOrchids\nCrafts\nBread\nSo much more..
URL:https://mykeywestportal.com/event/farmers-market/
LOCATION:Sugarloaf Lodge\, 17001 Overseas Hwy\, Key West\, FL\, 33040\, United States
ATTACH;FMTTYPE=image/jpeg:https://mykeywestportal.com/wp-content/uploads/2018/06/FarmersMarket_Sugarloaf.jpg
END:VEVENT
BEGIN:VEVENT
DTSTART;TZID=America/Halifax:20181019T100000
DTEND;TZID=America/Halifax:20181019T235900
DTSTAMP:20260425T102447
CREATED:20180920T162117Z
LAST-MODIFIED:20180920T162117Z
UID:5466-1539943200-1539993540@mykeywestportal.com
SUMMARY:Body Painting at Paradise Tattoo
DESCRIPTION:Fantasy Fest 2018\nOh\, The Games We Play\nBody Painting with Wiser Oner\nCome get painted by celebrity body painter\, WiserOner from Naked Vegas and his Body artist crew. \n\nStencils\nFull body art\nProfessional photo shoot\nCostumes\nPaint accessories\n$3 Bud Light and Bud roadies\n\nFor appointment\, call 305-292-9110 to make an appointment \n**Walk in's may be available
URL:https://mykeywestportal.com/event/body-painting-at-paradise-tattoo/
LOCATION:Paradise Tattoo\, 627 Duval St\, Key West\, FL\, 33040\, United States
ATTACH;FMTTYPE=image/jpeg:https://mykeywestportal.com/wp-content/uploads/2018/09/ParadiseTattoo_BodyPainting_FantasyFest.jpg
END:VEVENT
BEGIN:VEVENT
DTSTART;TZID=America/Halifax:20181024T110000
DTEND;TZID=America/Halifax:20181024T110000
DTSTAMP:20260425T102447
CREATED:20180924T135225Z
LAST-MODIFIED:20180924T135225Z
UID:5541-1540378800-1540378800@mykeywestportal.com
SUMMARY:Wastin' Away Again at Margaritaville
DESCRIPTION:Fantasy Fest 2018\nOh\, The Games We Play\nWastin' Away Again @ Margaritaville\nCome dressed as a tourist and get lei'd at Margaritaville! \nThere will be a different specialty cocktail EVERY hour beginning at 11 am. \n\nEach specialty drink comes with a different color lei\, so collect them all!
URL:https://mykeywestportal.com/event/wastin-away-again-at-margaritaville/
LOCATION:Margaritaville\, 500 Duval St\, Key West\, FL\, 33040\, United States
ATTACH;FMTTYPE=image/jpeg:https://mykeywestportal.com/wp-content/uploads/2018/09/WastinAwayAgain_ColorfulLeis_Margaritaville.jpg
END:VEVENT
BEGIN:VEVENT
DTSTART;TZID=America/Halifax:20181019T130000
DTEND;TZID=America/Halifax:20181019T130000
DTSTAMP:20260425T102447
CREATED:20180920T155107Z
LAST-MODIFIED:20180920T155107Z
UID:5432-1539954000-1539954000@mykeywestportal.com
SUMMARY:Body Painting and Sunsets
DESCRIPTION:Fantasy Fest 2018\nOh\, The Games We Play\nFemme Fatale Quatre Body Art\nBecome a Canvas and join the premier all girl team of body artists daily! \n\nSmall body art pieces\nFull body art pieces\nWaterproof and sweat proof options\nBling bar\nSunset viewing\nFood and drink available for purchase\n\nBook appointments NOW by calling or texting 850-596-4065 \n**Walk up may be available\, but not gaurantee** \nCheck out the FB page "Femme Fatale Quatre Body Art" to check out some work
URL:https://mykeywestportal.com/event/body-painting-and-sunsets/
LOCATION:Sunset Pier\, 0 Duval st\, Key West\, FL\, 33040\, United States
ATTACH;FMTTYPE=image/jpeg:https://mykeywestportal.com/wp-content/uploads/2018/09/FemmeFatale_BodyArt_SunsetPier_FantasyFest.jpg
END:VEVENT
BEGIN:VEVENT
DTSTART;TZID=America/Halifax:20180704T130000
DTEND;TZID=America/Halifax:20180704T150000
DTSTAMP:20260425T102447
CREATED:20180619T163236Z
LAST-MODIFIED:20180619T163236Z
UID:3739-1530709200-1530716400@mykeywestportal.com
SUMMARY:Tiki Cocktail Class
DESCRIPTION:Learn how to make authentic tiki cocktails\nThe workshop is an intimate 2-hour experience where you will be guided through the fundamentals of tiki mixology while also learning a bit about tiki culture. \n\nYou will learn\n\nHow to do a proper rum tasting\nHow to light drinks on fire\nMake one of the first recorded rum cocktails from the 1800s\nMake one of the most famous tiki libations - the Mai Tai\n\n\n\nAdmission price includes 1 rum tasting and 4 cocktails \n\nmust be registered by 11am \, 2 hours before the class\n\n**Max of 6 people per class \n**Accommodations can be made if you want to learn another day\, just send a message over facebook
URL:https://mykeywestportal.com/event/tiki-cocktail-class/
LOCATION:Tiki House Key West\, 430 Greene St\, Key West\, FL\, 33040\, United States
ATTACH;FMTTYPE=image/jpeg:https://mykeywestportal.com/wp-content/uploads/2018/06/Tiki_bar_cocktail_classes_wednesday_key_west.jpg
END:VEVENT
BEGIN:VEVENT
DTSTART;TZID=America/Halifax:20181024T130000
DTEND;TZID=America/Halifax:20181024T160000
DTSTAMP:20260425T102447
CREATED:20180924T141114Z
LAST-MODIFIED:20180924T141114Z
UID:5545-1540386000-1540396800@mykeywestportal.com
SUMMARY:Rock and Roll Revitalizing 1960's Pool Party
DESCRIPTION:Fantasy Fest 2018\nOh\, The Games We Play\nRock and Roll Revitalizing 1960's Pool Party \nLet's go back to a groovy time full of Tom Collins\, Pink Squirrels\, and greyhounds. This is a time where bikinis became every woman's new purchase\, mini-skirts were in every closet and Rock and Roll was heard on every radio station. \nDress code? Your favorite vintage swimsuit\, psychedelic pattern\, and/or best pair of platform shoes \nPatrick and the Swayzees will be there to provide LIVE music poolside.
URL:https://mykeywestportal.com/event/rock-and-roll-revitalizing-1960s-pool-party-2/
LOCATION:The Marker Waterfront Resort\, 200 William St\, Key West\, FL\, 33040\, United States
ATTACH;FMTTYPE=image/jpeg:https://mykeywestportal.com/wp-content/uploads/2018/09/RockAndRollPoolParty_TheMarker_1960s.jpg
END:VEVENT
BEGIN:VEVENT
DTSTART;TZID=America/Halifax:20181021T150000
DTEND;TZID=America/Halifax:20181021T180000
DTSTAMP:20260425T102447
CREATED:20180716T135606Z
LAST-MODIFIED:20180716T135606Z
UID:4488-1540134000-1540144800@mykeywestportal.com
SUMMARY:CFMS Key West Hook and Slice Fundraiser
DESCRIPTION:This event includes a 4 day and 3 night stay at the Casa Marina\, meals\, golfing on the Rees Jones Golf Course\, and sport fishing off the coast.
URL:https://mykeywestportal.com/event/cfms-key-west-hook-and-slice-fundraiser/
LOCATION:Casa Marina\, 1500 Reynolds St\, Key West\, FL\, 33040\, United States
ATTACH;FMTTYPE=image/jpeg:https://mykeywestportal.com/wp-content/uploads/2018/07/CFMs_HookAndSlice_Fundraiser_CasaMarina_KeyWest.jpg
END:VEVENT
BEGIN:VEVENT
DTSTART;TZID=America/Halifax:20181024T160000
DTEND;TZID=America/Halifax:20181024T190000
DTSTAMP:20260425T102447
CREATED:20180924T142533Z
LAST-MODIFIED:20180924T142533Z
UID:5548-1540396800-1540407600@mykeywestportal.com
SUMMARY:Pet Masquerade
DESCRIPTION:Fantasy Fest 2018\nOh\, The Games We Play\nPet Masquerade\nCome check out this year's carousel of frisky pets and playful owners as they perform for fame\, fortune\, and prizes. Or join them!! \nThere are 4 categories to enter. \nBenefits the Lower Keys Friends of Animals \n\n$25 to enter...registration starts at 4 pm\nFREE to watch\nFood and beverage available on site\n\nFor more information\, email PetMasquerade@hotmail.com \n 
URL:https://mykeywestportal.com/event/pet-masquerade/
LOCATION:Truman Waterfront Park Amphitheater\, 21 Quay Rd\, Key West\, FL\, 33040\, United States
ATTACH;FMTTYPE=image/jpeg:https://mykeywestportal.com/wp-content/uploads/2018/09/PetMasquerade.jpg
END:VEVENT
BEGIN:VEVENT
DTSTART;TZID=America/Halifax:20180718T161500
DTEND;TZID=America/Halifax:20180718T171500
DTSTAMP:20260425T102447
CREATED:20180630T154021Z
LAST-MODIFIED:20180630T154021Z
UID:4215-1531930500-1531934100@mykeywestportal.com
SUMMARY:Younger Kids Capoeira Gymnastics
DESCRIPTION:Weekly Tumbling Classes \nWhat’s included: \n\nPhysical activity\, creative and dramatic play\, and music are key to lifelong and personal success.\nA rich combination of dance\, acrobatics\, self-defense techniques and music\, capoeira is a uniquely effective tool for activating the minds and bodies of children of all ages.\n\nPromotes physical fitness and health by increasing strength\, flexibility\, and endurance.\n\n\n\n  \nWednesday: 18 mos. - 3 yrs \n"Capoeira Tumbling – An Afro- Brazilian Martial Art that cultivates self- transformation through physical\, mental\, and spiritual Reiki.Combining dance\, and self-defense\, it builds gymnastic skills and flexibility\, strength and a heightened awareness of one’s body. Practiced to the rhythm of ancient African instruments\, Capoeira encourages self-expression and resourcefulness--- it is an intense fitness program that can be adapted to any body or physical ability." \nhttps://www.facebook.com/events/240225256560108/?event_time_id=240229263226374
URL:https://mykeywestportal.com/event/younger-kids-capoeira-gymnastics/
LOCATION:Spirit Play Gymnasium\, 5800 Overseas Hwy\, Ste 40\, Marathon\, FL\, 33050\, United States
ATTACH;FMTTYPE=image/jpeg:https://mykeywestportal.com/wp-content/uploads/2018/06/SpiritPlayGymnasium_MarathonFlorida.jpg
END:VEVENT
BEGIN:VEVENT
DTSTART;TZID=America/Halifax:20181024T170000
DTEND;TZID=America/Halifax:20181024T200000
DTSTAMP:20260425T102447
CREATED:20180924T143406Z
LAST-MODIFIED:20180924T143453Z
UID:5551-1540400400-1540411200@mykeywestportal.com
SUMMARY:Cheraoke
DESCRIPTION:Fantasy Fest 2018\nOh\, The Games We Play\nCheraoke\nCome celebrate CHER!! \nDress as your favorite Cher from any of her famous decades. \nCheraoke (Cher Karaoke) will be hosted by Ranndy Roberts \n\nThemed cocktails available for purchase\nCher trivia\nCher look-a-like contest\n\nwin prizes!!\n\n\n\n 
URL:https://mykeywestportal.com/event/cheraoke-2/
LOCATION:The Gates Hotel\, 3824 N Roosevelt Blvd\, Key West\, FL\, 33040\, United States
ATTACH;FMTTYPE=image/jpeg:https://mykeywestportal.com/wp-content/uploads/2018/09/Cheraoke_CherKaraoke_RumRow_FantasyFest.jpg
END:VEVENT
BEGIN:VEVENT
DTSTART;TZID=America/Halifax:20180725T180000
DTEND;TZID=America/Halifax:20180725T200000
DTSTAMP:20260425T102447
CREATED:20180720T181803Z
LAST-MODIFIED:20180720T181825Z
UID:4647-1532541600-1532548800@mykeywestportal.com
SUMMARY:Family Fried Chicken Night
DESCRIPTION:Night Fried Chicken Night!\nMatt's Stock Island Kitchen\, The Perry Hotel\nWhat's included: \n\nFried chicken\nCornbread mash\nCitrus coleslaw\nRoasted corn on the cob\n\nAvailable for additional purchase: \n\nCraft beers on tap\nCraft cocktail's\nCraft beer growlers\nHappy hour drink specials from 6pm-8pm
URL:https://mykeywestportal.com/event/family-fried-chicken-night/
LOCATION:The Perry Hotel\, 7001 Shrimp Rd\, Key West\, FL\, 33040\, United States
ATTACH;FMTTYPE=image/jpeg:https://mykeywestportal.com/wp-content/uploads/2018/07/FamiltFriedChickenNight_ThePerryHotel_KeyWest.jpg
END:VEVENT
BEGIN:VEVENT
DTSTART;TZID=America/Halifax:20181024T180000
DTEND;TZID=America/Halifax:20181024T230000
DTSTAMP:20260425T102447
CREATED:20180924T145154Z
LAST-MODIFIED:20180924T145154Z
UID:5554-1540404000-1540422000@mykeywestportal.com
SUMMARY:Motown "Let's Get it On" Dance Party
DESCRIPTION:Fantasy Fest 2018\nOh\, The Games We Play\nMotown "Let's Get it On" Dance Party\nThe dance party kicks off with The "Soul Man" Robert Albury Band. \nHeading to the stage next is Patrick & The Swayzees! \n 
URL:https://mykeywestportal.com/event/motown-lets-get-it-on-dance-party/
LOCATION:Sunset Pier\, 0 Duval st\, Key West\, FL\, 33040\, United States
ATTACH;FMTTYPE=image/jpeg:https://mykeywestportal.com/wp-content/uploads/2018/09/Motown_SunetPier_KeyWest.jpg
END:VEVENT
BEGIN:VEVENT
DTSTART;TZID=America/Halifax:20181024T190000
DTEND;TZID=America/Halifax:20181024T190000
DTSTAMP:20260425T102447
CREATED:20180920T191643Z
LAST-MODIFIED:20180920T191643Z
UID:5535-1540407600-1540407600@mykeywestportal.com
SUMMARY:Disco on Duval
DESCRIPTION:Fantasy Fest 2018\nOh\, The Games We Play\nDisco on Duval \nCalling all the foxy mamas and cool cats to a fantastic night boogying with the DJs.
URL:https://mykeywestportal.com/event/disco-on-duval/
LOCATION:Duval Central\, 207 Duval Central\, Key West\, FL\, 33040\, United States
ATTACH;FMTTYPE=image/jpeg:https://mykeywestportal.com/wp-content/uploads/2018/09/DiscoOnDuval_DuvalCentral_KeyWest.jpg
END:VEVENT
BEGIN:VEVENT
DTSTART;TZID=America/Halifax:20181024T190000
DTEND;TZID=America/Halifax:20181024T190000
DTSTAMP:20260425T102447
CREATED:20180924T151129Z
LAST-MODIFIED:20180924T151152Z
UID:5557-1540407600-1540407600@mykeywestportal.com
SUMMARY:Homemade Bikini Contest
DESCRIPTION:Fantasy Fest 2018\nOh\, The Games We Play\nHomemade Bikini Contest\n25th Anniversary of the Key West Homemade Bikini Contest!! \n\nOver $5\,000 in cash & prizes\nCreativity and detail are key elements in winning the $2000 1st prize\n2nd and 3rd place also receive cash prizes\nBackstage VIP section available and includes open bar\, light food\, and contestant meet & greet\n\nTickets available at SmokinTunaSaloon.TicketLeap.com\n\n\nHosted by MC Mr. Bill Hoebee and his celebrity judges\n\n*To enter\, contact Smokin' Tuna at 305-517-6350 \n\n$10 participation fee\n$10 general admission\n\n  \n 
URL:https://mykeywestportal.com/event/homemade-bikini-contest/
LOCATION:The Smokin' Tuna\, 4 Charles Street\, Key West\, FL\, 33040\, United States
ATTACH;FMTTYPE=image/jpeg:https://mykeywestportal.com/wp-content/uploads/2018/09/HomemadeBikiniContest_SmokinTuna_KeyWest.jpg
END:VEVENT
BEGIN:VEVENT
DTSTART;TZID=America/Halifax:20181024T190000
DTEND;TZID=America/Halifax:20181024T190000
DTSTAMP:20260425T102447
CREATED:20180924T152118Z
LAST-MODIFIED:20180924T152118Z
UID:5561-1540407600-1540407600@mykeywestportal.com
SUMMARY:Wharfstock
DESCRIPTION:Fantasy Fest 2018\nOh\, The Games We Play\nWharfstock\nTravel back in to the 1960's. It's tie-dye\, flower power\, and psychedelic colors in a time capsule of the era. \n\nPrizes for sexiest hippie chick and grooviest dude\n\nJudging is at 8:30 pm\nWinners receive cash prizes and gift certificates\n\n\nEnjoy LIVE music and dance tunes from Gary Hempsey and That Hippie Band\nCold drinks available\n\n 
URL:https://mykeywestportal.com/event/wharfstock-2/
LOCATION:The Schooner Warf Bar\, 202 William St\, Key West\, FL\, 33040\, United States
ATTACH;FMTTYPE=image/jpeg:https://mykeywestportal.com/wp-content/uploads/2018/09/Wharfstock_SchoonerWharf_KeyWest.jpg
END:VEVENT
END:VCALENDAR