BEGIN:VCALENDAR
VERSION:2.0
PRODID:-//My Key West Portal is the Social Calendar for the Florida Keys and Key West - ECPv6.15.11//NONSGML v1.0//EN
CALSCALE:GREGORIAN
METHOD:PUBLISH
X-ORIGINAL-URL:https://mykeywestportal.com
X-WR-CALDESC:Events for My Key West Portal is the Social Calendar for the Florida Keys and Key West
REFRESH-INTERVAL;VALUE=DURATION:PT1H
X-Robots-Tag:noindex
X-PUBLISHED-TTL:PT1H
BEGIN:VTIMEZONE
TZID:UTC
BEGIN:STANDARD
TZOFFSETFROM:+0000
TZOFFSETTO:+0000
TZNAME:UTC
DTSTART:20170101T000000
END:STANDARD
END:VTIMEZONE
BEGIN:VEVENT
DTSTART;TZID=UTC:20180104T100000
DTEND;TZID=UTC:20180104T113000
DTSTAMP:20260425T113737
CREATED:20180104T224754Z
LAST-MODIFIED:20180104T225036Z
UID:923-1515060000-1515065400@mykeywestportal.com
SUMMARY:Fort Adventures Parent and Me Class
DESCRIPTION:Every Tuesday and Thursday morning this fun and educational class will focus on a specific theme that includes art\, science\, math\, and building. After a playful group circle time that promotes creativity\, sensory exploration and problem solving\, Ms. Elizabeth will fill your morning with engaging activities. Enjoy the Imagination Playground\, water play and story time in the spectacular setting of the Martello tower\, one of six in the country. \nClasses are Free to Key West Art and Historical Society Members.
URL:https://mykeywestportal.com/event/fort-adventures-parent-and-me-class/
LOCATION:East Martello Tower\, 3501 S Roosevelt Blvd\, Key West\, FL\, 33040\, United States
ATTACH;FMTTYPE=image/jpeg:https://mykeywestportal.com/wp-content/uploads/2018/01/KWAHS_fort_martello_kids.jpg
ORGANIZER;CN="Key West Art and Historical Society":MAILTO:awilliams@kwahs.org
END:VEVENT
BEGIN:VEVENT
DTSTART;TZID=UTC:20180420T093000
DTEND;TZID=UTC:20180420T113000
DTSTAMP:20260425T113737
CREATED:20180326T203344Z
LAST-MODIFIED:20180402T213941Z
UID:2248-1524216600-1524223800@mykeywestportal.com
SUMMARY:Opening Breakfast - CRIC
DESCRIPTION:Join members of the High Command\, Founding Fathers\, VIPs and Dignitaries for a scrumptious breakfast at Two Friends Patio Restaurant\, broadcast live on Pirate Radio. 512 Front Street. $20 (includes non-alcoholic beverages & shuttle to Ft. Taylor). For reservations\, call (305) 296-3124. \n9:15 AM: HTA Trolley from KW Historic Seaport to Two Friends \n9:30 - 11:30 AM: Breakfast \n11:30 AM: HTA Trolley from Two Friends to Fort Zachary Taylor \n1 PM: HTA Trolley from Ft. Taylor to Caroline Street Parking Lot.
URL:https://mykeywestportal.com/event/conch-republic-independence-celebration-opening-breakfast/
LOCATION:FL
ATTACH;FMTTYPE=image/png:https://mykeywestportal.com/wp-content/uploads/2018/03/Conch_Republic_Independence_Day_Celebration_2018.png
END:VEVENT
BEGIN:VEVENT
DTSTART;TZID=UTC:20180420T120000
DTEND;TZID=UTC:20180420T130000
DTSTAMP:20260425T113737
CREATED:20180326T203817Z
LAST-MODIFIED:20180402T213919Z
UID:2255-1524225600-1524229200@mykeywestportal.com
SUMMARY:Raising of the Colors - CRIC
DESCRIPTION:Signifying the Official Opening of the 2018 Conch Republic Independence Celebration Festival! \n  \nThe Raising of the Colors includes: \n\nThe Conch Republic Pledge of Allegiance\nThe Battle Hymn of the Conch Republic\nConch Shell-Horn Salute\nLive music provided by Conchelele Bob\n\nFREE WITH PARK ADMISSION (or if arriving via HTA Trolley from CRIC Opening Breakfast)
URL:https://mykeywestportal.com/event/conch-republic-independence-celebration-raising-of-the-colors/
LOCATION:Fort Zachary Taylor\, 601 Howard England Way\, Key West\, FL\, 33040\, United States
ATTACH;FMTTYPE=image/png:https://mykeywestportal.com/wp-content/uploads/2018/03/Conch_Republic_Independence_Day_Celebration_2018.png
END:VEVENT
BEGIN:VEVENT
DTSTART;TZID=UTC:20180420T173000
DTEND;TZID=UTC:20180420T193000
DTSTAMP:20260425T113737
CREATED:20180416T224928Z
LAST-MODIFIED:20180416T224928Z
UID:2409-1524245400-1524252600@mykeywestportal.com
SUMMARY:Collegiate Art Show
DESCRIPTION:Art Show and Silent Auction!!\nShow your support to the students at KWCA \nThis event raises money for the KWCA Art Program! \nView students artwork that include pieces such as: \n\nPencil drawing\nAcrylic on canvas\nSpray paint art on poly tarp\nSculpture\nFashion (top 3 shirt designs for new school spirit logo)\n\nThere will be a silent auction to sell student artwork and all proceeds will benefit the art program. \n 
URL:https://mykeywestportal.com/event/collegiate-art-show/
LOCATION:Key West Lighthouse Museum\, 938 Whitehead Street\, Key West\, FL\, 33040\, United States
ATTACH;FMTTYPE=image/jpeg:https://mykeywestportal.com/wp-content/uploads/2018/04/Key_West_Collegiate_Art_Show_2018.jpg
END:VEVENT
BEGIN:VEVENT
DTSTART;TZID=UTC:20180420T190000
DTEND;TZID=UTC:20180420T190000
DTSTAMP:20260425T113737
CREATED:20180326T204105Z
LAST-MODIFIED:20180402T213901Z
UID:2259-1524250800-1524250800@mykeywestportal.com
SUMMARY:Conch Republic Independence Celebration Kick Off Party
DESCRIPTION:Includes Conch Shell Blowing Contest and live music. Hosted by Schooner Wharf Bar & Galley\, on the KW Historic Seaport. 202 William Street.
URL:https://mykeywestportal.com/event/conch-republic-independence-celebration-kick-off-party/
LOCATION:Schooner Wharf\, 202 William St\, Key West\, FL\, 33040\, United States
ATTACH;FMTTYPE=image/png:https://mykeywestportal.com/wp-content/uploads/2018/03/Conch_Republic_Independence_Day_Celebration_2018.png
END:VEVENT
BEGIN:VEVENT
DTSTART;TZID=UTC:20180421T090000
DTEND;TZID=UTC:20180421T120000
DTSTAMP:20260425T113737
CREATED:20180326T204432Z
LAST-MODIFIED:20180402T213844Z
UID:2261-1524301200-1524312000@mykeywestportal.com
SUMMARY:Beach Cleanup - CRIC
DESCRIPTION:The ladies of the Conch Republic CIA (Cuties In Action) and 82nd Aubornes have adopted Higgs Beach between White Street Pier and Reynolds Street Pier through Keep Key West Beautiful\, and will host a beach clean-up from 9 to 11 AM\, followed by a Bloody Mary Happy Hour at Saluté! on the Beach from 11 AM to NOON that features live island tunes by The Shanty Hounds. Organized by Dee Dee Green for the Conch Republic CIA... shhh! and the CR 82nd Aubornes. CASH BAR
URL:https://mykeywestportal.com/event/conch-republic-independence-celebration-beach-cleanup/
LOCATION:Higgs Beach\, Key West\, FL\, 33040\, United States
ATTACH;FMTTYPE=image/png:https://mykeywestportal.com/wp-content/uploads/2018/03/Conch_Republic_Independence_Day_Celebration_2018.png
END:VEVENT
BEGIN:VEVENT
DTSTART;TZID=UTC:20180128T100000
DTEND;TZID=UTC:20180128T140000
DTSTAMP:20260425T113737
CREATED:20180117T203734Z
LAST-MODIFIED:20180117T203734Z
UID:1788-1517133600-1517148000@mykeywestportal.com
SUMMARY:Key West Artisan Market
DESCRIPTION:An open-air bazaar filled with artists\, authors\, chef-made cuisine\, craftspeople\, performers and fresh produce representing the diversity of creativity\, ingenuity and locally made products of Key West. \nhttps://www.facebook.com/KeyWestArtisanMarket/
URL:https://mykeywestportal.com/event/key-west-artisan-market/
LOCATION:FL
ATTACH;FMTTYPE=image/jpeg:https://mykeywestportal.com/wp-content/uploads/2018/01/keywest_artisanmarket.jpg
END:VEVENT
BEGIN:VEVENT
DTSTART;TZID=UTC:20180421T100000
DTEND;TZID=UTC:20180421T170000
DTSTAMP:20260425T113737
CREATED:20180326T204700Z
LAST-MODIFIED:20180402T213814Z
UID:2263-1524304800-1524330000@mykeywestportal.com
SUMMARY:Art and Craft Fair - CRIC
DESCRIPTION:Local artists and craftsmen offer unique and handmade items you'll treasure! Sponsored by the Key West Cultural Preservation Society. Benefits KWHS seniors who will pursue college degrees in Art. Fair runs on Duval\, between Greene & Eaton Streets.
URL:https://mykeywestportal.com/event/conch-republic-independence-celebration-art-and-craft-fair/
LOCATION:Duval Street\, Key West\, FL\, 33040\, United States
ATTACH;FMTTYPE=image/png:https://mykeywestportal.com/wp-content/uploads/2018/03/Conch_Republic_Independence_Day_Celebration_2018.png
END:VEVENT
BEGIN:VEVENT
DTSTART;TZID=UTC:20180421T120000
DTEND;TZID=UTC:20180421T120000
DTSTAMP:20260425T113737
CREATED:20180326T204907Z
LAST-MODIFIED:20180402T213755Z
UID:2265-1524312000-1524312000@mykeywestportal.com
SUMMARY:Beachcomber Hat Contest - CRIC
DESCRIPTION:Show off your most fabulous hat made from your favorite\, wildest beach finds to win bragging rights and more! Best hat wins a $50 gift certificate to Saluté! Hosted by the Conch Republic CIA... shhh! and the Conch Republic 82nd Aubornes at Salute! on the Beach\, 1000 Atlantic Avenue.
URL:https://mykeywestportal.com/event/conch-republic-independence-celebration-beachcomber-hat-contest/
LOCATION:FL
ATTACH;FMTTYPE=image/png:https://mykeywestportal.com/wp-content/uploads/2018/03/Conch_Republic_Independence_Day_Celebration_2018.png
END:VEVENT
BEGIN:VEVENT
DTSTART;TZID=UTC:20180421T120000
DTEND;TZID=UTC:20180421T180000
DTSTAMP:20260425T113737
CREATED:20180416T223903Z
LAST-MODIFIED:20180416T223903Z
UID:2404-1524312000-1524333600@mykeywestportal.com
SUMMARY:NYAH Pool Party!
DESCRIPTION:Come see DJ Havana Child 12-4pm\nHappy Hour 4:20-5:20pm - $1 off ALL drinks \n3 pools\, 2 hot tubs\, 1 pool bar \n**21+ only  \n 
URL:https://mykeywestportal.com/event/nyah-pool-party/
LOCATION:NYAH\, 420 Margaret Street\, Key West\, FL\, 33040\, United States
ATTACH;FMTTYPE=image/jpeg:https://mykeywestportal.com/wp-content/uploads/2018/04/Pool_Party_NYAH_Key_West_April_2018-e1523903730216.jpg
END:VEVENT
BEGIN:VEVENT
DTSTART;TZID=UTC:20180421T120000
DTEND;TZID=UTC:20180421T200000
DTSTAMP:20260425T113737
CREATED:20180326T205120Z
LAST-MODIFIED:20180402T213736Z
UID:2267-1524312000-1524340800@mykeywestportal.com
SUMMARY:Community Unity Concert - CRIC
DESCRIPTION:Show your Community Unity at this free event at the new Key West Amphitheater. Featuring the KWHS Jazz Band\, The Bahama Village Music Program's Steel Drum Band\, and more local favorite performers. \nFamily-friendly fun activities include a visita  from Mo the Sloth and Chanel the Skunk of the MCSO's Animal Farm! \nBring your own lawn chairs and blankets; please leave coolers and pets at home. Benefits Michelle's Foundation. Sponsored by HTA\, US1 Radio\, and Tito's Vodka. 21 Quay Rd.
URL:https://mykeywestportal.com/event/conch-republic-independence-celebration-community-unity-concert/
LOCATION:Truman Waterfront Park Amphitheater\, 21 Quay Rd\, Key West\, FL\, 33040\, United States
ATTACH;FMTTYPE=image/png:https://mykeywestportal.com/wp-content/uploads/2018/03/Conch_Republic_Independence_Day_Celebration_2018.png
END:VEVENT
BEGIN:VEVENT
DTSTART;TZID=UTC:20180120T133000
DTEND;TZID=UTC:20180120T143000
DTSTAMP:20260425T113737
CREATED:20180115T013323Z
LAST-MODIFIED:20180115T013323Z
UID:1328-1516455000-1516458600@mykeywestportal.com
SUMMARY:2017-2018 Speaker Series
DESCRIPTION:Interested in learning more about the complex and fascinating environmental world of Key West and the Florida Keys? \nThen join us each month for our Speaker Series in The Nature Chapel. \n\n\n\n\n\n\n\n\n\n\n\n\nAdmission is $5 for non-members. Free for garden members! \nBe sure to come early for the Native Plant Sale! From 9 a.m.-noon\, we offer more than 150 species of butterfly- and bird-attracting native\, rare and endangered plants propagated and available in the Botanical Garden Nursery. A great way to create your customized Key West garden — and support the Key West Tropical Forest and Botanical Garden\, too. \n  \nHere’s the complete 2017-18 Speakers Series line-up: \n\n12-16-17: Keys Gardens: Before and After Irma — Robin Robinson\, Key West master gardener\, author and columnist\n1-20-18: Birding in Key West for Amateurs — Robyn Mayer\, Florida park ranger\, Fort Taylor State Park\n2-17-18: Greening the Keys — Alison Higgins\, Key West sustainability coordinator\n3-17-18: Trees of Key West and the city ordinances — Karen DiMaria\, Key West municipal arborist\n4-21-18: Understanding the Florida Keys and how that affects gardening — Susan Reutling\, master gardener and manager of the Tropical Garden Nursery\n5-19-18: Soil creation and remediation for the Florida Keys — Harry Crissy\, Monroe County extension agent\n6-16-18: To Be Announced\n\nhttps://keywest.garden/event/2017-2018-speaker-series/2018-01-20/ \nFor more info contact: info@keywest.garden
URL:https://mykeywestportal.com/event/2017-2018-speaker-series/
LOCATION:FL
ATTACH;FMTTYPE=image/jpeg:https://mykeywestportal.com/wp-content/uploads/2018/01/KWBTG_logo_botanicalgardens.jpg
END:VEVENT
BEGIN:VEVENT
DTSTART;TZID=UTC:20180421T140000
DTEND;TZID=UTC:20180421T170000
DTSTAMP:20260425T113737
CREATED:20180326T205458Z
LAST-MODIFIED:20180402T213716Z
UID:2269-1524319200-1524330000@mykeywestportal.com
SUMMARY:Drag Races - CRIC
DESCRIPTION:Come out and witness this zany Key West tradition! Benefits the Petronia Street Neighborhood Association. Races run between Petronia and Angela Streets on Duval\, starting at 801 Bourbon Bar. Sponsored by US1 Radio and Tito's Handmade Vodka.
URL:https://mykeywestportal.com/event/conch-republic-independence-celebration-drag-races/
LOCATION:801 Bourbon Bar\, 801 Duval St.\, Key West\, FL\, 33040\, United States
ATTACH;FMTTYPE=image/png:https://mykeywestportal.com/wp-content/uploads/2018/03/Conch_Republic_Independence_Day_Celebration_2018.png
END:VEVENT
BEGIN:VEVENT
DTSTART;TZID=UTC:20180421T210000
DTEND;TZID=UTC:20180421T210000
DTSTAMP:20260425T113737
CREATED:20180326T210010Z
LAST-MODIFIED:20180402T213653Z
UID:2272-1524344400-1524344400@mykeywestportal.com
SUMMARY:SPAM ALLSTARS - CRIC
DESCRIPTION:Don't miss this popular South Florida-based latin/funk/electronica band perform at a famous local music venue! Official after-party for the Community Unity event at Truman Waterfront. 601 Whitehead Street
URL:https://mykeywestportal.com/event/conch-republic-independence-celebration-spam-allstars/
LOCATION:Green Parrot\, 601 Whitehead Street\, Key West\, FL\, 33040\, United States
ATTACH;FMTTYPE=image/png:https://mykeywestportal.com/wp-content/uploads/2018/03/Conch_Republic_Independence_Day_Celebration_2018.png
END:VEVENT
BEGIN:VEVENT
DTSTART;TZID=UTC:20180128T130000
DTEND;TZID=UTC:20180128T150000
DTSTAMP:20260425T113737
CREATED:20240904T135536Z
LAST-MODIFIED:20240904T135536Z
UID:8087-1517144400-1517151600@mykeywestportal.com
SUMMARY:Sheriff's Animal Farm
DESCRIPTION:A great place to visit\, observe animals\, and in some cases - touch them. \nHere is a list of some of the animals: \n\nLarge aviary\nReptile exhibit\nRabbit warren\nFarm animals\nMo the Sloth\nMiniature horses\nAngus the steer\nChickens\nPigs\nGoats\nRabbits\nKinkajous\nKelsey the Lemur\nAlpacas\nAlbino python\nPeacocks and many tropical birds\n85 pound African Spurred Tortoise\n\nResources: \nMonroe County Sheriff's Animal Farm \nContact:  Jeanne Selander \nEmail:  jselander@keysso.net \n  \n 
URL:https://mykeywestportal.com/event/sheriffs-animal-farm/
LOCATION:FL
ATTACH;FMTTYPE=image/jpeg:https://mykeywestportal.com/wp-content/uploads/2018/01/monroecounty_animalfarm_sloth.jpg
END:VEVENT
BEGIN:VEVENT
DTSTART;TZID=UTC:20180422T140000
DTEND;TZID=UTC:20180422T170000
DTSTAMP:20260425T113737
CREATED:20180402T194013Z
LAST-MODIFIED:20180402T213621Z
UID:2292-1524405600-1524416400@mykeywestportal.com
SUMMARY:Vinyl Record Fair - CRIC
DESCRIPTION:Vinyl collectors arre invited to buy\, sell\, and trade NEW and VINTAGE items! \n\nDJ Lemiami  Spam will be spinning a variety of records all afternoon including Retro and Vintage:\n\nMiami R&B\nOld-school Reggae\nLatin\nAfrican\nBrazilian\n\n\nBenefits the Bahama Village Music Program\nCrosley Turntable Raffle
URL:https://mykeywestportal.com/event/conch-republic-independence-celebration-vinyl-record-fair/
LOCATION:Green Parrot\, 601 Whitehead Street\, Key West\, FL\, 33040\, United States
ATTACH;FMTTYPE=image/png:https://mykeywestportal.com/wp-content/uploads/2018/03/Conch_Republic_Independence_Day_Celebration_2018.png
END:VEVENT
BEGIN:VEVENT
DTSTART;TZID=UTC:20180422T180000
DTEND;TZID=UTC:20180422T200000
DTSTAMP:20260425T113737
CREATED:20180402T211415Z
LAST-MODIFIED:20180402T213605Z
UID:2297-1524420000-1524427200@mykeywestportal.com
SUMMARY:Sunset Sail Aboard - CRIC
DESCRIPTION:Sail on the Flagship of the Conch Republic Navy!! \nBoard the Schooner WOLF and relive the glorious age of sail and seafaring with Finbar Gittleman\, Conch Republic Supreme Commander and First Sea Lord Admiral. \n\nBoarding is 20 minutes prior to departure\nBYOB
URL:https://mykeywestportal.com/event/conch-republic-independence-celebration-sunset-sail-aboard/
LOCATION:KW Historic Seaport (E Dock)\, 201 William Street\, Key West\, FL\, 33040\, United States
ATTACH;FMTTYPE=image/png:https://mykeywestportal.com/wp-content/uploads/2018/03/Conch_Republic_Independence_Day_Celebration_2018.png
END:VEVENT
BEGIN:VEVENT
DTSTART;TZID=UTC:20180422T190000
DTEND;TZID=UTC:20180422T220000
DTSTAMP:20260425T113737
CREATED:20180402T213447Z
LAST-MODIFIED:20180402T213447Z
UID:2306-1524423600-1524434400@mykeywestportal.com
SUMMARY:Hot Havana Night! - CRIC
DESCRIPTION:PARTY OF THE YEAR! \n\nMusic provided by "Mojito Hot Salsa Band"\nCuban dance show\nSilent auction - compete for an authentic Cuban treasure\n1 Mojito included with admission\nCuban snack tray\nRaffle entry for a Cuban-made humidor\nother\n\nBenefits TREE Institute's projects in Cuba \n  \nAdmission: \n\nAdvance (prior to 12pm 4/21/18): $25\nAt the door: $35\nReserved Seating (Table for 4): $125\nwww.keystix.com
URL:https://mykeywestportal.com/event/hot-havana-night-cric/
LOCATION:Turtle Kraals\, 231 Margaret St\, Key West\, FL\, 3040\, United States
ATTACH;FMTTYPE=image/png:https://mykeywestportal.com/wp-content/uploads/2018/03/Conch_Republic_Independence_Day_Celebration_2018.png
END:VEVENT
BEGIN:VEVENT
DTSTART;TZID=UTC:20180422T200000
DTEND;TZID=UTC:20180422T220000
DTSTAMP:20260425T113737
CREATED:20180402T212440Z
LAST-MODIFIED:20180402T213547Z
UID:2302-1524427200-1524434400@mykeywestportal.com
SUMMARY:CR Royal Family Election & Investiture Party - CRIC
DESCRIPTION:Fundraiser benefiting the Conch Republic Foster Children's Fund for Wesley House
URL:https://mykeywestportal.com/event/conch-republic-independence-celebration-dr-royal-family-election-investiture-party/
LOCATION:Rick's & Dirty Harry's\, 202 Duval st\, Key West\, FL\, 33040\, United States
ATTACH;FMTTYPE=image/png:https://mykeywestportal.com/wp-content/uploads/2018/03/Conch_Republic_Independence_Day_Celebration_2018.png
END:VEVENT
BEGIN:VEVENT
DTSTART;TZID=UTC:20180423T100000
DTEND;TZID=UTC:20180423T140000
DTSTAMP:20260425T113737
CREATED:20180416T175246Z
LAST-MODIFIED:20180416T183155Z
UID:2363-1524477600-1524492000@mykeywestportal.com
SUMMARY:Bloody Mary Brunch - CRIC
DESCRIPTION:Come have a bloody mary at the Blue Macaw Island Eats! \n\nExpansive bloody mary bar with both classic and inventive menu options\nCash bar
URL:https://mykeywestportal.com/event/bloody-mary-brunch/
LOCATION:Blue Macaw Island Eats\, 804 Whitehead Street\, Key West\, FL\, 33040\, United States
ATTACH;FMTTYPE=image/png:https://mykeywestportal.com/wp-content/uploads/2018/03/Conch_Republic_Independence_Day_Celebration_2018.png
END:VEVENT
BEGIN:VEVENT
DTSTART;TZID=UTC:20180423T140000
DTEND;TZID=UTC:20180423T180000
DTSTAMP:20260425T113737
CREATED:20180416T180744Z
LAST-MODIFIED:20180416T183232Z
UID:2366-1524492000-1524506400@mykeywestportal.com
SUMMARY:Blocks and Brews Cocktail Party - CRIC
DESCRIPTION:Come out to support the SPCA!\nBring your furbaby\, enjoy a cold drink\, and help raise money for the Florida Keys SPCA! \nPet costume contest will include awards for: \n\nCutest\nUgliest\nYoungest\nOldest\nBest superhero
URL:https://mykeywestportal.com/event/blocks-and-brews-cocktail-party/
LOCATION:Mary Ellen's\, Applerouth Lane\, Key West\, FL\, 33040\, United States
ATTACH;FMTTYPE=image/png:https://mykeywestportal.com/wp-content/uploads/2018/03/Conch_Republic_Independence_Day_Celebration_2018.png
END:VEVENT
BEGIN:VEVENT
DTSTART;TZID=UTC:20180423T190000
DTEND;TZID=UTC:20180423T190000
DTSTAMP:20260425T113737
CREATED:20180416T182925Z
LAST-MODIFIED:20180416T182925Z
UID:2371-1524510000-1524510000@mykeywestportal.com
SUMMARY:Sunset Ceremony - CRIC
DESCRIPTION:Sunset ceremony will include: \n\nProclamation by the Prime Minister of the Conch Republic\,\nCR Military 21-Gun Salkute\n21- conch shell horn-blowing salute at sunset.
URL:https://mykeywestportal.com/event/sunset-ceremony-cric/
LOCATION:Mallory Square\, 400 Wall St\, Key West\, FL\, 33040\, United States
ATTACH;FMTTYPE=image/png:https://mykeywestportal.com/wp-content/uploads/2018/03/Conch_Republic_Independence_Day_Celebration_2018.png
END:VEVENT
BEGIN:VEVENT
DTSTART;TZID=UTC:20180104T100000
DTEND;TZID=UTC:20180104T113000
DTSTAMP:20260425T113737
CREATED:20180104T224754Z
LAST-MODIFIED:20180104T225036Z
UID:923-1515060000-1515065400@mykeywestportal.com
SUMMARY:Fort Adventures Parent and Me Class
DESCRIPTION:Every Tuesday and Thursday morning this fun and educational class will focus on a specific theme that includes art\, science\, math\, and building. After a playful group circle time that promotes creativity\, sensory exploration and problem solving\, Ms. Elizabeth will fill your morning with engaging activities. Enjoy the Imagination Playground\, water play and story time in the spectacular setting of the Martello tower\, one of six in the country. \nClasses are Free to Key West Art and Historical Society Members.
URL:https://mykeywestportal.com/event/fort-adventures-parent-and-me-class/
LOCATION:East Martello Tower\, 3501 S Roosevelt Blvd\, Key West\, FL\, 33040\, United States
ATTACH;FMTTYPE=image/jpeg:https://mykeywestportal.com/wp-content/uploads/2018/01/KWAHS_fort_martello_kids.jpg
ORGANIZER;CN="Key West Art and Historical Society":MAILTO:awilliams@kwahs.org
END:VEVENT
BEGIN:VEVENT
DTSTART;TZID=UTC:20180424T133000
DTEND;TZID=UTC:20180424T153000
DTSTAMP:20260425T113737
CREATED:20180416T183714Z
LAST-MODIFIED:20180416T183714Z
UID:2376-1524576600-1524583800@mykeywestportal.com
SUMMARY:Tall Ship Aboard CR Flagship WOLF - CRIC
DESCRIPTION:Come relive the glorious age of sail and seafaring with Conch Republic Supreme Commander & First Sea Lord Admiral\, Finbar Gittleman. \n\nBoarding is 20 minutes prior to departure\nBYOB\nTickets can be purchased by emailing SailAway@SchoonerWOLF.com or call 305-296-9694
URL:https://mykeywestportal.com/event/tall-ship-aboard-cr-flagship-wolf-cric/
LOCATION:Historic Seaport and Waterfront\, Key West\, FL\, 33040\, United States
ATTACH;FMTTYPE=image/png:https://mykeywestportal.com/wp-content/uploads/2018/03/Conch_Republic_Independence_Day_Celebration_2018.png
END:VEVENT
BEGIN:VEVENT
DTSTART;TZID=UTC:20180424T180000
DTEND;TZID=UTC:20180424T200000
DTSTAMP:20260425T113737
CREATED:20180416T184504Z
LAST-MODIFIED:20180416T184504Z
UID:2379-1524592800-1524600000@mykeywestportal.com
SUMMARY:Conch Republic Military Muster - CRIC
DESCRIPTION:Come out and party with ambassadors\, emmisaries\, and diplomats!\nIncluded: \n\nC-rations\n1st drink\n50/50 raffle\nCash bar\n\nEmail conchrepublicdispatch@gmail.com for more information \n 
URL:https://mykeywestportal.com/event/conch-republic-military-muster-cric/
LOCATION:The Gardens Hotel\, 526 Angela Street\, Key West\, FL\, 33040\, United States
ATTACH;FMTTYPE=image/png:https://mykeywestportal.com/wp-content/uploads/2018/03/Conch_Republic_Independence_Day_Celebration_2018.png
END:VEVENT
BEGIN:VEVENT
DTSTART;TZID=UTC:20180424T210000
DTEND;TZID=UTC:20180424T220000
DTSTAMP:20260425T113737
CREATED:20180416T184949Z
LAST-MODIFIED:20180416T184949Z
UID:2382-1524603600-1524607200@mykeywestportal.com
SUMMARY:"Great Bloody Sea Battle" Captain's Meeting - CRIC
DESCRIPTION:MANDATORY Captain's meeting for the re-enactment of the Conch Republic's Great Bloody Sea Battle \n***you must attend the meeting if you want to participate in the battle \n***vessels not registered will not be allowed to participate
URL:https://mykeywestportal.com/event/great-bloody-sea-battle-captains-meeting-cric/
LOCATION:The Schooner Warf Bar\, 202 William St\, Key West\, FL\, 33040\, United States
ATTACH;FMTTYPE=image/png:https://mykeywestportal.com/wp-content/uploads/2018/03/Conch_Republic_Independence_Day_Celebration_2018.png
END:VEVENT
BEGIN:VEVENT
DTSTART;TZID=UTC:20180425T133000
DTEND;TZID=UTC:20180425T153000
DTSTAMP:20260425T113737
CREATED:20180416T185450Z
LAST-MODIFIED:20180416T185450Z
UID:2384-1524663000-1524670200@mykeywestportal.com
SUMMARY:Tall Ship Aboard CR Flagship WOLF - CRIC
DESCRIPTION:Come relive the glorious age of sail and seafaring with Conch Republic Supreme Commander & First Sea Lord Admiral\, Finbar Gittleman. \n\nBoarding is 20 minutes prior to departure\nBYOB\nTickets can be purchased by emailing SailAway@SchoonerWOLF.com or call 305-296-9694
URL:https://mykeywestportal.com/event/tall-ship-aboard-cr-flagship-wolf-cric-2/
LOCATION:Historic Seaport and Waterfront\, Key West\, FL\, 33040\, United States
ATTACH;FMTTYPE=image/png:https://mykeywestportal.com/wp-content/uploads/2018/03/Conch_Republic_Independence_Day_Celebration_2018.png
END:VEVENT
BEGIN:VEVENT
DTSTART;TZID=UTC:20180104T090000
DTEND;TZID=UTC:20180104T140000
DTSTAMP:20260425T113737
CREATED:20180104T031906Z
LAST-MODIFIED:20180104T032755Z
UID:724-1515056400-1515074400@mykeywestportal.com
SUMMARY:Green Market
DESCRIPTION:Every Thursday  find an eclectic array of vendors at Key West Weekly Green Market at Bayview Park.\nLife can be very simple shopping for pre-made meals\, fresh produce\, delicious cheeses\, beautiful orchids\, some health and beauty needs at this small market. \nPlanning a party this season\, or while you’re in town with friends and family?  Why not have a Paella Party?  They’re serving Paella at the Green Market – they cater as well. \n        \n 
URL:https://mykeywestportal.com/event/green-market/
LOCATION:Bayview Park\, Truman Ave\, and Eisenhower Dr\, Key West\, FL\, 33040\, United States
ATTACH;FMTTYPE=image/jpeg:https://mykeywestportal.com/wp-content/uploads/2018/01/Mediterranean_Key_West_GreenMarket__MyKeyWestPortal.com_.jpg
END:VEVENT
BEGIN:VEVENT
DTSTART;TZID=UTC:20180104T100000
DTEND;TZID=UTC:20180104T113000
DTSTAMP:20260425T113737
CREATED:20180104T224754Z
LAST-MODIFIED:20180104T225036Z
UID:923-1515060000-1515065400@mykeywestportal.com
SUMMARY:Fort Adventures Parent and Me Class
DESCRIPTION:Every Tuesday and Thursday morning this fun and educational class will focus on a specific theme that includes art\, science\, math\, and building. After a playful group circle time that promotes creativity\, sensory exploration and problem solving\, Ms. Elizabeth will fill your morning with engaging activities. Enjoy the Imagination Playground\, water play and story time in the spectacular setting of the Martello tower\, one of six in the country. \nClasses are Free to Key West Art and Historical Society Members.
URL:https://mykeywestportal.com/event/fort-adventures-parent-and-me-class/
LOCATION:East Martello Tower\, 3501 S Roosevelt Blvd\, Key West\, FL\, 33040\, United States
ATTACH;FMTTYPE=image/jpeg:https://mykeywestportal.com/wp-content/uploads/2018/01/KWAHS_fort_martello_kids.jpg
ORGANIZER;CN="Key West Art and Historical Society":MAILTO:awilliams@kwahs.org
END:VEVENT
BEGIN:VEVENT
DTSTART;TZID=UTC:20180426T133000
DTEND;TZID=UTC:20180426T153000
DTSTAMP:20260425T113737
CREATED:20180416T191239Z
LAST-MODIFIED:20180416T191239Z
UID:2388-1524749400-1524756600@mykeywestportal.com
SUMMARY:Tall Ship Aboard CR Flagship WOLF - CRIC
DESCRIPTION:Come relive the glorious age of sail and seafaring with Conch Republic Supreme Commander & First Sea Lord Admiral\, Finbar Gittleman. \n\nBoarding is 20 minutes prior to departure\nBYOB\nTickets can be purchased by emailing SailAway@SchoonerWOLF.com or call 305-296-9694
URL:https://mykeywestportal.com/event/tall-ship-aboard-cr-flagship-wolf-cric-3/
LOCATION:Historic Seaport and Waterfront\, Key West\, FL\, 33040\, United States
ATTACH;FMTTYPE=image/png:https://mykeywestportal.com/wp-content/uploads/2018/03/Conch_Republic_Independence_Day_Celebration_2018.png
END:VEVENT
END:VCALENDAR