BEGIN:VCALENDAR
VERSION:2.0
PRODID:-//My Key West Portal is the Social Calendar for the Florida Keys and Key West - ECPv6.15.11//NONSGML v1.0//EN
CALSCALE:GREGORIAN
METHOD:PUBLISH
X-ORIGINAL-URL:https://mykeywestportal.com
X-WR-CALDESC:Events for My Key West Portal is the Social Calendar for the Florida Keys and Key West
REFRESH-INTERVAL;VALUE=DURATION:PT1H
X-Robots-Tag:noindex
X-PUBLISHED-TTL:PT1H
BEGIN:VTIMEZONE
TZID:America/Halifax
BEGIN:DAYLIGHT
TZOFFSETFROM:-0400
TZOFFSETTO:-0300
TZNAME:ADT
DTSTART:20170312T060000
END:DAYLIGHT
BEGIN:STANDARD
TZOFFSETFROM:-0300
TZOFFSETTO:-0400
TZNAME:AST
DTSTART:20171105T050000
END:STANDARD
BEGIN:DAYLIGHT
TZOFFSETFROM:-0400
TZOFFSETTO:-0300
TZNAME:ADT
DTSTART:20180311T060000
END:DAYLIGHT
BEGIN:STANDARD
TZOFFSETFROM:-0300
TZOFFSETTO:-0400
TZNAME:AST
DTSTART:20181104T050000
END:STANDARD
BEGIN:DAYLIGHT
TZOFFSETFROM:-0400
TZOFFSETTO:-0300
TZNAME:ADT
DTSTART:20190310T060000
END:DAYLIGHT
BEGIN:STANDARD
TZOFFSETFROM:-0300
TZOFFSETTO:-0400
TZNAME:AST
DTSTART:20191103T050000
END:STANDARD
END:VTIMEZONE
BEGIN:VTIMEZONE
TZID:UTC
BEGIN:STANDARD
TZOFFSETFROM:+0000
TZOFFSETTO:+0000
TZNAME:UTC
DTSTART:20170101T000000
END:STANDARD
END:VTIMEZONE
BEGIN:VEVENT
DTSTART;TZID=America/Halifax:20180806T090000
DTEND;TZID=America/Halifax:20180806T163000
DTSTAMP:20260425T082919
CREATED:20180721T115824Z
LAST-MODIFIED:20180721T115824Z
UID:4741-1533546000-1533573000@mykeywestportal.com
SUMMARY:Back to School Groove Dance Camp
DESCRIPTION:End your summer the right way!\nThis 5 day camp will teach your campers the basics of Hip Hop\, Tumbling\, & Musical Theater in a fun and creative way. \n  \nKids from Kindergarten - 8th grade are welcome
URL:https://mykeywestportal.com/event/back-to-school-groove-dance-camp/
LOCATION:Island Groove Dance and Fitness\, 31109 Ave. A Unit #5\, Big Pine Key\, FL\, 33043\, United States
ATTACH;FMTTYPE=image/jpeg:https://mykeywestportal.com/wp-content/uploads/2018/07/BackToSchool_Groove_DanceCamp_KeyWest.jpg
END:VEVENT
BEGIN:VEVENT
DTSTART;TZID=America/Halifax:20180531T100000
DTEND;TZID=America/Halifax:20180531T140000
DTSTAMP:20260425T082919
CREATED:20180528T164501Z
LAST-MODIFIED:20180528T164501Z
UID:3025-1527760800-1527775200@mykeywestportal.com
SUMMARY:Eat Fats for Energy Keto Mixer
DESCRIPTION:Weekly Keto mixer!!\n**Includes therapeutic samples and give-aways**
URL:https://mykeywestportal.com/event/eat-fats-for-energy-keto-mixer/
LOCATION:Bayview Park\, Truman Ave\, and Eisenhower Dr\, Key West\, FL\, 33040\, United States
ATTACH;FMTTYPE=image/jpeg:https://mykeywestportal.com/wp-content/uploads/2018/05/Keto_Royalty_Mixer_Key_West.jpg
END:VEVENT
BEGIN:VEVENT
DTSTART;TZID=America/Halifax:20180726T103000
DTEND;TZID=America/Halifax:20180726T113000
DTSTAMP:20260425T082919
CREATED:20180716T152657Z
LAST-MODIFIED:20180716T152657Z
UID:4540-1532601000-1532604600@mykeywestportal.com
SUMMARY:Toddler Movement Program
DESCRIPTION:Wiggles and Giggles\nThis new program is designed to get kids moving. Children ages 1-4 should come ready to jump\, tumble\, run\, dance\, do downward dog\, and over have FUN! \nParents and caregivers are encouraged to wear attire appropriate for tumbling and yoga. \n 
URL:https://mykeywestportal.com/event/toddler-movement-program-2/
LOCATION:On Your Toes Dance Studio\, 92451 Overseas Hwy\, Tavernier\, FL\, United States
ATTACH;FMTTYPE=image/jpeg:https://mykeywestportal.com/wp-content/uploads/2018/07/Wiggles_Giggles_KeyWest_KeysHealthyStart.jpg
END:VEVENT
BEGIN:VEVENT
DTSTART;TZID=America/Halifax:20180726T164500
DTEND;TZID=America/Halifax:20180726T181500
DTSTAMP:20260425T082919
CREATED:20180721T114620Z
LAST-MODIFIED:20180721T114620Z
UID:4729-1532623500-1532628900@mykeywestportal.com
SUMMARY:Summer Dance Session
DESCRIPTION:6 Week Dance Session\nJoin us for some summer fun! \nThis summer session is a great way to keep dancers moving during the summer. \nTry out the studio or even learn a new dance style. \n1 class per week: $80 \n2 classes per week: $150 \n  \nMusical Theater: 4:45-5:30 pm \nHip Hop & Pop: 5:30-6:15 pm
URL:https://mykeywestportal.com/event/summer-dance-session/
LOCATION:Island Groove Dance and Fitness\, 31109 Ave. A Unit #5\, Big Pine Key\, FL\, 33043\, United States
ATTACH;FMTTYPE=image/jpeg:https://mykeywestportal.com/wp-content/uploads/2018/07/Fitness_SummerDanceSession_KeyWest_Island-Groove.jpg
END:VEVENT
BEGIN:VEVENT
DTSTART;TZID=America/Halifax:20180809T170000
DTEND;TZID=America/Halifax:20180809T203000
DTSTAMP:20260425T082919
CREATED:20180625T175916Z
LAST-MODIFIED:20180625T175916Z
UID:3979-1533834000-1533846600@mykeywestportal.com
SUMMARY:Lobster Boil - Lobsterfest
DESCRIPTION:Lobster boil on the roof! \n\nEvery guest will receive a lobster boil with all the fixings\nCash bar available\nLive entertainment\n\n*Space is limited!
URL:https://mykeywestportal.com/event/lobster-boil-lobsterfest/
LOCATION:The Waterfront Brewery\, 201 William Street\, Key West\, FL\, 33040\, United States
ATTACH;FMTTYPE=image/jpeg:https://mykeywestportal.com/wp-content/uploads/2018/06/Lobsterfest_LobsterBoil_WaterfrontBrewery.jpg
END:VEVENT
BEGIN:VEVENT
DTSTART;TZID=America/Halifax:20180809T170000
DTEND;TZID=America/Halifax:20180809T203000
DTSTAMP:20260425T082919
CREATED:20180729T191015Z
LAST-MODIFIED:20180729T191015Z
UID:4833-1533834000-1533846600@mykeywestportal.com
SUMMARY:Lobster Boil - Lobster Fest
DESCRIPTION:Lobster boil on the roof! \nEach guest will receive their own lobster boil\, but a cash bar is also available. \nLive entertainment by Nick Norman Music \nBOOK TODAY!! ....space is limited
URL:https://mykeywestportal.com/event/lobster-boil-lobster-fest/
LOCATION:The Waterfront Brewery\, 201 William Street\, Key West\, FL\, 33040\, United States
END:VEVENT
BEGIN:VEVENT
DTSTART;TZID=UTC:20180524T180000
DTEND;TZID=UTC:20180524T230000
DTSTAMP:20260425T082919
CREATED:20180518T225214Z
LAST-MODIFIED:20180618T180725Z
UID:2605-1527184800-1527202800@mykeywestportal.com
SUMMARY:Bike Night
DESCRIPTION:Ride your bike to Mellow Cafe Key West and receive 50% food and a chance to win a FREE BIKE \n  \nEntertainment by Ike Kanakanui from 6-9pm \nRaffle:First Thursday of the month \n  \nPROMOTING SAFE BIKING IN KEY WEST!
URL:https://mykeywestportal.com/event/bike-night/
LOCATION:Mellow Cafe\, 1605 N Roosevelt Blvd\, Suite 1\, Key West\, FL\, 33040\, United States
ATTACH;FMTTYPE=image/jpeg:https://mykeywestportal.com/wp-content/uploads/2018/05/Mellow_Venture_Cafe_Gastropub_Bike_Night_Key_West.jpg
END:VEVENT
BEGIN:VEVENT
DTSTART;VALUE=DATE:20180810
DTEND;VALUE=DATE:20180811
DTSTAMP:20260425T082919
CREATED:20180729T192843Z
LAST-MODIFIED:20180729T192843Z
UID:4847-1533873600-1533945599@mykeywestportal.com
SUMMARY:Reef and Ritas
DESCRIPTION:Get out on the water during Lobsterfest and receive 10% off!! \n\nBook now on FuryCat.com and use the code LOBSTER10\n\n\nReef & Ritas: a 3 hr sail and snorkel that includes beer\, wine\, and margaritas\nChampagne Sunset Sail\nSnorkel and Sunset - Rum and Reggae\nJet Ski Tour\nParasailing\nDo it all! - Ultimate Adventure\nIsland Adventure Eco Tour\nDolphin Watch and Snorkel
URL:https://mykeywestportal.com/event/reef-and-ritas/
LOCATION:Key West\, 218 Whitehead Street\, Key West\, FL\, 33040\, United States
END:VEVENT
BEGIN:VEVENT
DTSTART;TZID=America/Halifax:20180625T080000
DTEND;TZID=America/Halifax:20180625T160000
DTSTAMP:20260425T082919
CREATED:20180619T152849Z
LAST-MODIFIED:20180619T153238Z
UID:3569-1529913600-1529942400@mykeywestportal.com
SUMMARY:KWSA Kids Camp
DESCRIPTION:Key West Sports Academy Kids Camp!\nEach week is filled with an obstacle course\, games\, arts and crafts\, snacks\, and more! \n**Please bring 2 bottles of water and a bag lunch each day \nREGISTER NOW for future weeks \n\n$100 deposit due at booking\n\nFull balance due 14 days before camp \nJune 25th-29th \n\nSecret Agents: Mystery Madness \n\nJuly 9th-13th \n\nAloha Moana: Island Paradise\n\nJuly 16th-20th \n\nUnder The Big Top: Circus Camp\n\nJuly 23rd-27th \n\nCandy Land \n\nJuly 30th-August 3rd \n\nSuper Hero Summit \n\nAugust 6th-10th \n\nA Week in the Wizarding World \n\nAugust 13th-17th \n\nSummer Safari \n\n  \nFull Day (8am-4pm): $230/week \n\nAges 5-12yrs\nKWSA members get a $15 discount each week\n\nHalf Day (8am-12pm OR 12pm-4pm): $140/week \n\nAges kindergarten - 12yrs
URL:https://mykeywestportal.com/event/kwsa-kids-camp/
LOCATION:Key West Sports Academy\, 700 Truman Ave\, Key West\, FL\, 33040\, United States
ATTACH;FMTTYPE=image/jpeg:https://mykeywestportal.com/wp-content/uploads/2018/06/kwsa_summer_camps_2018_key_west_sports_academy.jpg
ORGANIZER;CN="Key West Sports Academy":MAILTO:parties@keywestsportsacademy.com
END:VEVENT
BEGIN:VEVENT
DTSTART;TZID=America/Halifax:20180611T090000
DTEND;TZID=America/Halifax:20180611T160000
DTSTAMP:20260425T082919
CREATED:20180528T160905Z
LAST-MODIFIED:20180611T141045Z
UID:2967-1528707600-1528732800@mykeywestportal.com
SUMMARY:Sailing Camp 2018
DESCRIPTION:Sailing camp has 10 separate/week-long sessions!\nEach week will offer either a beginner\, intermediate\, or adventurous class. \n**All classes in RED are full. \n***Check website for update list if availability!!! \n\n6/11-6/15 : Beginner (9-17 yrs)\n6/18-6/22 : Beginner (9-17 yrs)\n6/25-6/29 : Intermediate (9-17)\n7/2-7-6 : Beginner (9-17)\n7/9-7/13 : Young beginner (6-10 yrs)\n7/16-7/20 : Adventure (7-17 yrs)\n7/23-7/27 : Intermediate (9-17 yrs)\n7/30-8/3 : Beginner (9-17 yrs)\n8/6-8/10 : Young beginner (6-10 yrs)\n8/13-8-17 : Adventure (7-17 yrs)\n\nThe instructors at the Center are certified through US Sailing. They have all instructed sailing on a variety of boats from 8' - 36' \nFor more information\, Contact: \n\nkwsceducation@gmail.com\nHeidi Ruse 804-832-4731\nBen Hermelin 314-349-9929
URL:https://mykeywestportal.com/event/sailing-camp-2018/
LOCATION:Key West Community Sailing Center\, 705 Palm Ave\, Key West\, FL\, 33040\, United States
ATTACH;FMTTYPE=image/jpeg:https://mykeywestportal.com/wp-content/uploads/2018/05/Youth_Sailing_Class_Key_West.jpg
END:VEVENT
BEGIN:VEVENT
DTSTART;TZID=America/Halifax:20180806T090000
DTEND;TZID=America/Halifax:20180806T160000
DTSTAMP:20260425T082919
CREATED:20180713T172052Z
LAST-MODIFIED:20180713T172052Z
UID:4436-1533546000-1533571200@mykeywestportal.com
SUMMARY:Cheerleading Camp
DESCRIPTION:KWSA Cheerleading Camp!\nDuring this camp\, you will rain with USASF certified coaches in Tumbling\, Stunting\, Jumps\, and Dance \nAges: 5+ \nCamp is from 9am - 4pm \n\nExtended hours 8am - 5pm is $50
URL:https://mykeywestportal.com/event/cheerleading-camp/
LOCATION:Key West Sports Academy\, 700 Truman Ave\, Key West\, FL\, 33040\, United States
ATTACH;FMTTYPE=image/jpeg:https://mykeywestportal.com/wp-content/uploads/2018/07/Cheerleader_CheerleadingCamp_KeyWestSportsAcademy.jpg
ORGANIZER;CN="Key West Sports Academy":MAILTO:parties@keywestsportsacademy.com
END:VEVENT
BEGIN:VEVENT
DTSTART;TZID=America/Halifax:20180806T090000
DTEND;TZID=America/Halifax:20180806T163000
DTSTAMP:20260425T082919
CREATED:20180721T115824Z
LAST-MODIFIED:20180721T115824Z
UID:4741-1533546000-1533573000@mykeywestportal.com
SUMMARY:Back to School Groove Dance Camp
DESCRIPTION:End your summer the right way!\nThis 5 day camp will teach your campers the basics of Hip Hop\, Tumbling\, & Musical Theater in a fun and creative way. \n  \nKids from Kindergarten - 8th grade are welcome
URL:https://mykeywestportal.com/event/back-to-school-groove-dance-camp/
LOCATION:Island Groove Dance and Fitness\, 31109 Ave. A Unit #5\, Big Pine Key\, FL\, 33043\, United States
ATTACH;FMTTYPE=image/jpeg:https://mykeywestportal.com/wp-content/uploads/2018/07/BackToSchool_Groove_DanceCamp_KeyWest.jpg
END:VEVENT
BEGIN:VEVENT
DTSTART;TZID=America/Halifax:20180629T110000
DTEND;TZID=America/Halifax:20180629T120000
DTSTAMP:20260425T082919
CREATED:20180625T134015Z
LAST-MODIFIED:20180713T153012Z
UID:3805-1530270000-1530273600@mykeywestportal.com
SUMMARY:Preschool Storytime
DESCRIPTION:Weekly Storytime!\n"Preschool Story-time is a fun early literacy program for children ages 3-5! \nJoin us for an hour of interactive stories\, songs\, rhymes\, and crafts. \nThe early literacy practices featured each week help build the foundation for a lifelong love of learning. \nStory-time offers an opportunity to experience early literacy practices in action\, to discover great books\, music\, and to socialize with other parents after Story-time."
URL:https://mykeywestportal.com/event/preschool-storytime-2/
LOCATION:Key West Library Youth\, 700 Fleming Street\, Key West
ATTACH;FMTTYPE=image/jpeg:https://mykeywestportal.com/wp-content/uploads/2018/06/preschool_Storytime_key_west_youth_library.jpg
END:VEVENT
BEGIN:VEVENT
DTSTART;TZID=America/Halifax:20180713T153000
DTEND;TZID=America/Halifax:20180713T163000
DTSTAMP:20260425T082919
CREATED:20180713T152220Z
LAST-MODIFIED:20180713T153051Z
UID:4354-1531495800-1531499400@mykeywestportal.com
SUMMARY:Lego Club
DESCRIPTION:LEGO CLUB\n**NO registration required \nIf you love Legos and being creative\, then join us every Friday to build some adventures! \n\nLegos are provided by the library\n\nLego donations are appreciated\n\n\n\n 
URL:https://mykeywestportal.com/event/lego-club/
LOCATION:FL
ATTACH;FMTTYPE=image/jpeg:https://mykeywestportal.com/wp-content/uploads/2018/07/ReShot_LegoClub_KeyWest_Library.jpg
END:VEVENT
BEGIN:VEVENT
DTSTART;TZID=America/Halifax:20180720T181500
DTEND;TZID=America/Halifax:20180720T191500
DTSTAMP:20260425T082919
CREATED:20180630T154230Z
LAST-MODIFIED:20180630T154230Z
UID:4241-1532110500-1532114100@mykeywestportal.com
SUMMARY:Younger Kids Capoeira Gymnastics
DESCRIPTION:Weekly Tumbling Classes \nWhat’s included: \n\nPhysical activity\, creative and dramatic play\, and music are key to lifelong and personal success.\nA rich combination of dance\, acrobatics\, self-defense techniques and music\, capoeira is a uniquely effective tool for activating the minds and bodies of children of all ages.\n\nPromotes physical fitness and health by increasing strength\, flexibility\, and endurance.\n\n\n\n  \nFriday: 4 yrs - 8 yrs \n"Capoeira Tumbling – An Afro- Brazilian Martial Art that cultivates self- transformation through physical\, mental\, and spiritual Reiki.Combining dance\, and self-defense\, it builds gymnastic skills and flexibility\, strength and a heightened awareness of one’s body. Practiced to the rhythm of ancient African instruments\, Capoeira encourages self-expression and resourcefulness--- it is an intense fitness program that can be adapted to any body or physical ability." \nhttps://www.facebook.com/events/240225256560108/?event_time_id=240229263226374
URL:https://mykeywestportal.com/event/younger-kids-capoeira-gymnastics-2/
LOCATION:Spirit Play Gymnasium\, 5800 Overseas Hwy\, Ste 40\, Marathon\, FL\, 33050\, United States
ATTACH;FMTTYPE=image/jpeg:https://mykeywestportal.com/wp-content/uploads/2018/06/SpiritPlayGymnasium_MarathonFlorida.jpg
END:VEVENT
BEGIN:VEVENT
DTSTART;TZID=America/Halifax:20180810T183000
DTEND;TZID=America/Halifax:20180810T183000
DTSTAMP:20260425T082919
CREATED:20180615T164156Z
LAST-MODIFIED:20180615T164156Z
UID:3384-1533925800-1533925800@mykeywestportal.com
SUMMARY:Beach Movie Night
DESCRIPTION:Summer Series Movie Night on the Beach!\nBig\nParty starts at 6:30pm \nMovie starts at 8pm \n\nDrink specials\nPopcorn\nBeach games\nMovie themed surprises
URL:https://mykeywestportal.com/event/beach-movie-night-2/
LOCATION:Lagerheads Beach Bar & Grill\, 0 Simonton St\, Key West\, FL\, 33040\, United States
ATTACH;FMTTYPE=image/jpeg:https://mykeywestportal.com/wp-content/uploads/2018/06/big_movie_night_lagerheads_key_west.jpg
END:VEVENT
BEGIN:VEVENT
DTSTART;TZID=America/Halifax:20180810T203000
DTEND;TZID=America/Halifax:20180810T203000
DTSTAMP:20260425T082919
CREATED:20180729T192052Z
LAST-MODIFIED:20180729T192052Z
UID:4842-1533933000-1533933000@mykeywestportal.com
SUMMARY:Duval Crawl - Lobsterfest
DESCRIPTION:Celebrate Lobsterfest in one of the best possible ways and join this craw to TWELVE bars! \nParticipants will receive an official Lobsterfest 2018 T-shirt\, souvenir Corona bottle opener/lanyard\, and drink specials! \nA portion of the proceeds will got towards the Key West High School's Scholarship Fund! \n**Packages available to pickup August 9th and 10th\, noon-7:30pm \n  \nBars Participating: \n\nBagatelle\nTiki House\nHard Rock Cafe\nGrand Cafe\nThe Sand Bar\nRick's\nDurty Harry's\nSmokin Tuna Saloon\nMargaritaville\nMary Ellen's\nWillie T's\nPinchers Crab Shack
URL:https://mykeywestportal.com/event/duval-crawl-lobsterfest/
LOCATION:Rick's & Dirty Harry's\, 202 Duval st\, Key West\, FL\, 33040\, United States
ATTACH;FMTTYPE=image/jpeg:https://mykeywestportal.com/wp-content/uploads/2018/07/LobsterFestival_DuvalCrawl.jpg
END:VEVENT
BEGIN:VEVENT
DTSTART;TZID=America/Halifax:20180629T230000
DTEND;TZID=America/Halifax:20180629T230000
DTSTAMP:20260425T082919
CREATED:20180625T150613Z
LAST-MODIFIED:20180625T150613Z
UID:3893-1530313200-1530313200@mykeywestportal.com
SUMMARY:Flashback Fridays
DESCRIPTION:Flashback Fridays with DJ Gyver!\nBe ready to dance to the best of the 80s & 90s hip hop and dance mash ups....Pretty much all of the old school hits before 1995! \n\n$2 "Snoop" approved gin and juice jell-O shots available\n\nThis party ends at 4 am\, so don't miss out!
URL:https://mykeywestportal.com/event/flashback-fridays/
LOCATION:Tiki House Key West\, 430 Greene St\, Key West\, FL\, 33040\, United States
ATTACH;FMTTYPE=image/jpeg:https://mykeywestportal.com/wp-content/uploads/2018/06/FlashbackFridays_DJGyver_KeyWest_TikiHouse.jpg
END:VEVENT
BEGIN:VEVENT
DTSTART;TZID=America/Halifax:20180806T090000
DTEND;TZID=America/Halifax:20180806T160000
DTSTAMP:20260425T082919
CREATED:20180713T172052Z
LAST-MODIFIED:20180713T172052Z
UID:4436-1533546000-1533571200@mykeywestportal.com
SUMMARY:Cheerleading Camp
DESCRIPTION:KWSA Cheerleading Camp!\nDuring this camp\, you will rain with USASF certified coaches in Tumbling\, Stunting\, Jumps\, and Dance \nAges: 5+ \nCamp is from 9am - 4pm \n\nExtended hours 8am - 5pm is $50
URL:https://mykeywestportal.com/event/cheerleading-camp/
LOCATION:Key West Sports Academy\, 700 Truman Ave\, Key West\, FL\, 33040\, United States
ATTACH;FMTTYPE=image/jpeg:https://mykeywestportal.com/wp-content/uploads/2018/07/Cheerleader_CheerleadingCamp_KeyWestSportsAcademy.jpg
ORGANIZER;CN="Key West Sports Academy":MAILTO:parties@keywestsportsacademy.com
END:VEVENT
BEGIN:VEVENT
DTSTART;TZID=America/Halifax:20180806T090000
DTEND;TZID=America/Halifax:20180806T163000
DTSTAMP:20260425T082919
CREATED:20180721T115824Z
LAST-MODIFIED:20180721T115824Z
UID:4741-1533546000-1533573000@mykeywestportal.com
SUMMARY:Back to School Groove Dance Camp
DESCRIPTION:End your summer the right way!\nThis 5 day camp will teach your campers the basics of Hip Hop\, Tumbling\, & Musical Theater in a fun and creative way. \n  \nKids from Kindergarten - 8th grade are welcome
URL:https://mykeywestportal.com/event/back-to-school-groove-dance-camp/
LOCATION:Island Groove Dance and Fitness\, 31109 Ave. A Unit #5\, Big Pine Key\, FL\, 33043\, United States
ATTACH;FMTTYPE=image/jpeg:https://mykeywestportal.com/wp-content/uploads/2018/07/BackToSchool_Groove_DanceCamp_KeyWest.jpg
END:VEVENT
BEGIN:VEVENT
DTSTART;TZID=America/Halifax:20180811T103000
DTEND;TZID=America/Halifax:20180811T103000
DTSTAMP:20260425T082919
CREATED:20180608T142925Z
LAST-MODIFIED:20180608T142957Z
UID:3229-1533983400-1533983400@mykeywestportal.com
SUMMARY:Open Season
DESCRIPTION:Kids Saturday Movie Club!\n"A domesticated grizzly bear finds that there's more to life than being a star tourist attraction\, when a fast-talking mule deer offers him a crash course in woodland living." \nAdmission: \n\nAges 12 and under: $1\nAges 13+ : $2
URL:https://mykeywestportal.com/event/open-season/
LOCATION:Tropic Cinema\, 416 Eaton Street\, Key West\, FL\, 33040\, United States
ATTACH;FMTTYPE=image/jpeg:https://mykeywestportal.com/wp-content/uploads/2018/06/Open_seasonm_Saturday_Movie_Series_tropic_key_west.jpg
END:VEVENT
BEGIN:VEVENT
DTSTART;TZID=America/Halifax:20180811T110000
DTEND;TZID=America/Halifax:20180811T150000
DTSTAMP:20260425T082919
CREATED:20180630T134903Z
LAST-MODIFIED:20180630T135017Z
UID:4171-1533985200-1533999600@mykeywestportal.com
SUMMARY:St. Mary's Alumni Mass & Banquet
DESCRIPTION:Come celebrate the 109th Alumni Banquet! \nThe class of 1968 will be having their 50th reunion as well. \n\n11 am - Mass\n12:30 pm - Banquet in activity center\n\n 
URL:https://mykeywestportal.com/event/st-marys-alumni-mass-banquet/
LOCATION:The Basilica of St. Mary Star of the Sea\, 700 Truman Ave\, Key West\, FL\, 33040\, United States
ATTACH;FMTTYPE=image/jpeg:https://mykeywestportal.com/wp-content/uploads/2018/06/StMaryStarOfTheSea_Alumni_Banquet.jpg
END:VEVENT
BEGIN:VEVENT
DTSTART;TZID=America/Halifax:20180811T120000
DTEND;TZID=America/Halifax:20180811T230000
DTSTAMP:20260425T082919
CREATED:20180729T193709Z
LAST-MODIFIED:20180729T193709Z
UID:4854-1533988800-1534028400@mykeywestportal.com
SUMMARY:Lobsterfest Street Fair and Concert
DESCRIPTION:Come join the Fun!\nThe 100-500 blocks of Duval Street will fill with arts\, crafts\, merchandise\, and LOBSTER cooked in so many different ways! \nDon's miss the FREE CONCERT that will be taking place from 1pm - 10:30pm \n\nActs include: Alphonse\, Cool Breeze\, and The DurtBags
URL:https://mykeywestportal.com/event/lobsterfest-street-fair-and-concert/
LOCATION:Duval Street\, Key West\, FL\, 33040\, United States
ATTACH;FMTTYPE=image/jpeg:https://mykeywestportal.com/wp-content/uploads/2018/07/LobsterFestival_DuvalCrawl-1.jpg
END:VEVENT
BEGIN:VEVENT
DTSTART;TZID=America/Halifax:20180811T140000
DTEND;TZID=America/Halifax:20180811T180000
DTSTAMP:20260425T082919
CREATED:20180721T112028Z
LAST-MODIFIED:20180721T112028Z
UID:4726-1533996000-1534010400@mykeywestportal.com
SUMMARY:Back to School Bonus Bash
DESCRIPTION:Have some fun before school starts again\nBack to School Bonus Bash is a FREE Event for all families\nThis event includes Open gym\, Back to School giveaways\, tours and evaluations\, class sign ups\, games\, and crafts! \n*Back to School Parents bash will be following at 6:30-9:30 ($25 members/ $35 non members when registered early)
URL:https://mykeywestportal.com/event/back-to-school-bonus-bash/
LOCATION:Key West Sports Academy\, 700 Truman Ave\, Key West\, FL\, 33040\, United States
ATTACH;FMTTYPE=image/jpeg:https://mykeywestportal.com/wp-content/uploads/2018/07/KeyWestSportsAcademy_BackToSchool_BonusBash.jpg
ORGANIZER;CN="Key West Sports Academy":MAILTO:parties@keywestsportsacademy.com
END:VEVENT
BEGIN:VEVENT
DTSTART;TZID=America/Halifax:20180714T150000
DTEND;TZID=America/Halifax:20180714T150000
DTSTAMP:20260425T082919
CREATED:20180713T142522Z
LAST-MODIFIED:20180713T152840Z
UID:4321-1531580400-1531580400@mykeywestportal.com
SUMMARY:Teen Times at the Library
DESCRIPTION:Teen Time activities vary depending on what everyone wants to do for the day. \nThe activities can be anything from a craft to a video game tournament. \nAges: 13-18 \n**Teens are welcome to come earlier if they wish
URL:https://mykeywestportal.com/event/teen-times-at-the-library/
LOCATION:Key West Library Youth\, 700 Fleming Street\, Key West
ATTACH;FMTTYPE=image/jpeg:https://mykeywestportal.com/wp-content/uploads/2018/07/teen_time_key_west_Summer_Reading.jpg
END:VEVENT
BEGIN:VEVENT
DTSTART;TZID=America/Halifax:20180721T180000
DTEND;TZID=America/Halifax:20180721T190000
DTSTAMP:20260425T082919
CREATED:20180625T172845Z
LAST-MODIFIED:20180625T172845Z
UID:3955-1532196000-1532199600@mykeywestportal.com
SUMMARY:Lobsterpalooza 2018
DESCRIPTION:Get ready for Mini Lobster Season!\nCaptain Chuck Meier will teach you the tips\, tricks\, and local laws that will help your success this Lobster Season. You could leave set up with all the gear you will need to catch some bugs
URL:https://mykeywestportal.com/event/lobsterpalooza2018/
LOCATION:Diver's Direct\, 535 Greene St\, Key West\, FL\, 33040\, United States
ATTACH;FMTTYPE=image/jpeg:https://mykeywestportal.com/wp-content/uploads/2018/06/Lobsterpalooza_Divers_Direct_KeyWest.jpg
END:VEVENT
BEGIN:VEVENT
DTSTART;TZID=America/Halifax:20180806T090000
DTEND;TZID=America/Halifax:20180806T160000
DTSTAMP:20260425T082919
CREATED:20180713T172052Z
LAST-MODIFIED:20180713T172052Z
UID:4436-1533546000-1533571200@mykeywestportal.com
SUMMARY:Cheerleading Camp
DESCRIPTION:KWSA Cheerleading Camp!\nDuring this camp\, you will rain with USASF certified coaches in Tumbling\, Stunting\, Jumps\, and Dance \nAges: 5+ \nCamp is from 9am - 4pm \n\nExtended hours 8am - 5pm is $50
URL:https://mykeywestportal.com/event/cheerleading-camp/
LOCATION:Key West Sports Academy\, 700 Truman Ave\, Key West\, FL\, 33040\, United States
ATTACH;FMTTYPE=image/jpeg:https://mykeywestportal.com/wp-content/uploads/2018/07/Cheerleader_CheerleadingCamp_KeyWestSportsAcademy.jpg
ORGANIZER;CN="Key West Sports Academy":MAILTO:parties@keywestsportsacademy.com
END:VEVENT
BEGIN:VEVENT
DTSTART;TZID=America/Halifax:20180806T090000
DTEND;TZID=America/Halifax:20180806T163000
DTSTAMP:20260425T082919
CREATED:20180721T115824Z
LAST-MODIFIED:20180721T115824Z
UID:4741-1533546000-1533573000@mykeywestportal.com
SUMMARY:Back to School Groove Dance Camp
DESCRIPTION:End your summer the right way!\nThis 5 day camp will teach your campers the basics of Hip Hop\, Tumbling\, & Musical Theater in a fun and creative way. \n  \nKids from Kindergarten - 8th grade are welcome
URL:https://mykeywestportal.com/event/back-to-school-groove-dance-camp/
LOCATION:Island Groove Dance and Fitness\, 31109 Ave. A Unit #5\, Big Pine Key\, FL\, 33043\, United States
ATTACH;FMTTYPE=image/jpeg:https://mykeywestportal.com/wp-content/uploads/2018/07/BackToSchool_Groove_DanceCamp_KeyWest.jpg
END:VEVENT
BEGIN:VEVENT
DTSTART;TZID=America/Halifax:20180812T100000
DTEND;TZID=America/Halifax:20180812T120000
DTSTAMP:20260425T082919
CREATED:20180729T195026Z
LAST-MODIFIED:20180729T195026Z
UID:4857-1534068000-1534075200@mykeywestportal.com
SUMMARY:LobsterFest Brunch
DESCRIPTION:Sunday Brunch!\nFood choices include: \n\nLobster eggs scramble\nBiscuits and lobster gravy\nLobster enchiladas\nBottomless mimosas\nBloody Marys\nMore!\n\nBe sure too book soon!!
URL:https://mykeywestportal.com/event/lobsterfest-brunch/
LOCATION:First Flight Island Restaurant & Brewery\, 301 Whitehead St\, Key West\, FL\, 33040\, United States
END:VEVENT
BEGIN:VEVENT
DTSTART;TZID=America/Halifax:20180805T100000
DTEND;TZID=America/Halifax:20180805T170000
DTSTAMP:20260425T082919
CREATED:20180730T132854Z
LAST-MODIFIED:20180820T173253Z
UID:4882-1533463200-1533488400@mykeywestportal.com
SUMMARY:Sandbar Sunday Pool Parties
DESCRIPTION:Pool Party!\nJoin us at the Marker pool for $4 Islamorada beer specials with DJ Jimmy Jamz!
URL:https://mykeywestportal.com/event/sandbar-sunday-pool-parties/
LOCATION:The Marker\, 200 William Street\, Key West\, FL\, 33040\, United States
ATTACH;FMTTYPE=image/jpeg:https://mykeywestportal.com/wp-content/uploads/2018/07/SandbarSunday_KeyWest_TheMarker-1.jpg
END:VEVENT
END:VCALENDAR