BEGIN:VCALENDAR
VERSION:2.0
PRODID:-//My Key West Portal is the Social Calendar for the Florida Keys and Key West - ECPv6.15.11//NONSGML v1.0//EN
CALSCALE:GREGORIAN
METHOD:PUBLISH
X-WR-CALNAME:My Key West Portal is the Social Calendar for the Florida Keys and Key West
X-ORIGINAL-URL:https://mykeywestportal.com
X-WR-CALDESC:Events for My Key West Portal is the Social Calendar for the Florida Keys and Key West
REFRESH-INTERVAL;VALUE=DURATION:PT1H
X-Robots-Tag:noindex
X-PUBLISHED-TTL:PT1H
BEGIN:VTIMEZONE
TZID:America/New_York
BEGIN:DAYLIGHT
TZOFFSETFROM:-0500
TZOFFSETTO:-0400
TZNAME:EDT
DTSTART:20230312T070000
END:DAYLIGHT
BEGIN:STANDARD
TZOFFSETFROM:-0400
TZOFFSETTO:-0500
TZNAME:EST
DTSTART:20231105T060000
END:STANDARD
BEGIN:DAYLIGHT
TZOFFSETFROM:-0500
TZOFFSETTO:-0400
TZNAME:EDT
DTSTART:20240310T070000
END:DAYLIGHT
BEGIN:STANDARD
TZOFFSETFROM:-0400
TZOFFSETTO:-0500
TZNAME:EST
DTSTART:20241103T060000
END:STANDARD
BEGIN:DAYLIGHT
TZOFFSETFROM:-0500
TZOFFSETTO:-0400
TZNAME:EDT
DTSTART:20250309T070000
END:DAYLIGHT
BEGIN:STANDARD
TZOFFSETFROM:-0400
TZOFFSETTO:-0500
TZNAME:EST
DTSTART:20251102T060000
END:STANDARD
END:VTIMEZONE
BEGIN:VEVENT
DTSTART;TZID=America/New_York:20240516T140000
DTEND;TZID=America/New_York:20240516T190000
DTSTAMP:20260425T081434
CREATED:20240514T192253Z
LAST-MODIFIED:20240514T192253Z
UID:7920-1715868000-1715886000@mykeywestportal.com
SUMMARY:Truman Waterfront Farmers Market
DESCRIPTION:The Key West Farmers Market offers a diverse range of vendors every week\, including fresh produce\, artisanal goods\, food trucks\, and more.\nVisitors can also explore nearby attractions like the: \nUSCG Ingham Museum \nTruman Waterfront Park \nFort Zachary Taylor Historic State Park \nPets are welcome\, and there are restrooms and picnic areas available.\nVisitors are encouraged to bring their own blankets and chairs for comfort and sustainability is emphasized with a zero-waste policy and a ban on single-use plastics. \nVolunteers are welcome to help ensure everyone has a great experience.
URL:https://mykeywestportal.com/event/truman-waterfront-farmers-market-2/
LOCATION:Truman Waterfront Park Amphitheater\, 21 Quay Rd\, Key West\, FL\, 33040\, United States
CATEGORIES:Market
ATTACH;FMTTYPE=image/jpeg:https://mykeywestportal.com/wp-content/uploads/2024/03/Truman-Waterfron-Farmers-Market-mykeywestportal.jpg
END:VEVENT
END:VCALENDAR