BEGIN:VCALENDAR
VERSION:2.0
PRODID:-//My Key West Portal is the Social Calendar for the Florida Keys and Key West - ECPv6.15.11//NONSGML v1.0//EN
CALSCALE:GREGORIAN
METHOD:PUBLISH
X-WR-CALNAME:My Key West Portal is the Social Calendar for the Florida Keys and Key West
X-ORIGINAL-URL:https://mykeywestportal.com
X-WR-CALDESC:Events for My Key West Portal is the Social Calendar for the Florida Keys and Key West
REFRESH-INTERVAL;VALUE=DURATION:PT1H
X-Robots-Tag:noindex
X-PUBLISHED-TTL:PT1H
BEGIN:VTIMEZONE
TZID:America/New_York
BEGIN:DAYLIGHT
TZOFFSETFROM:-0500
TZOFFSETTO:-0400
TZNAME:EDT
DTSTART:20230312T070000
END:DAYLIGHT
BEGIN:STANDARD
TZOFFSETFROM:-0400
TZOFFSETTO:-0500
TZNAME:EST
DTSTART:20231105T060000
END:STANDARD
BEGIN:DAYLIGHT
TZOFFSETFROM:-0500
TZOFFSETTO:-0400
TZNAME:EDT
DTSTART:20240310T070000
END:DAYLIGHT
BEGIN:STANDARD
TZOFFSETFROM:-0400
TZOFFSETTO:-0500
TZNAME:EST
DTSTART:20241103T060000
END:STANDARD
BEGIN:DAYLIGHT
TZOFFSETFROM:-0500
TZOFFSETTO:-0400
TZNAME:EDT
DTSTART:20250309T070000
END:DAYLIGHT
BEGIN:STANDARD
TZOFFSETFROM:-0400
TZOFFSETTO:-0500
TZNAME:EST
DTSTART:20251102T060000
END:STANDARD
END:VTIMEZONE
BEGIN:VEVENT
DTSTART;TZID=America/New_York:20240427T170000
DTEND;TZID=America/New_York:20240427T220000
DTSTAMP:20260424T021412
CREATED:20240418T194205Z
LAST-MODIFIED:20240418T194205Z
UID:7897-1714237200-1714255200@mykeywestportal.com
SUMMARY:1st Annual Conch Republic Brawl On Duval
DESCRIPTION:Get ready for an electrifying night of amateur boxing in support of Key West PAL (Police Activities League)!\n(in front of Ricks.) \nJoin as talented amateur boxers step into the ring to showcase their skills and determination. \nBy attending this event\, you're not only in for an exciting evening of sportsmanship and athleticism\, but you're also contributing to a vital cause.  \nKey West PAL plays a crucial role in providing positive recreational and educational opportunities for local youth\, helping them build confidence\, leadership skills\, and positive relationships with law enforcement. \nYour support will directly benefit the youth of Key West\, empowering them to reach their full potential and become future leaders in our community. \nSo come out\, cheer on the boxers\, and show your support for Key West PAL. Let's make a difference together!
URL:https://mykeywestportal.com/event/1st-annual-conch-republic-brawl-on-duval/
LOCATION:Rick's & Dirty Harry's\, 202 Duval st\, Key West\, FL\, 33040\, United States
CATEGORIES:Community,Festival
ATTACH;FMTTYPE=image/jpeg:https://mykeywestportal.com/wp-content/uploads/2024/04/1st-Annual-CONCH-REPUBLIC-BRAWL-ON-DUVAL-APR-27-MyKeyWestPortal.jpg
END:VEVENT
BEGIN:VEVENT
DTSTART;TZID=America/New_York:20240427T130000
DTEND;TZID=America/New_York:20240427T180000
DTSTAMP:20260424T021412
CREATED:20240418T193531Z
LAST-MODIFIED:20240418T193552Z
UID:7894-1714222800-1714240800@mykeywestportal.com
SUMMARY:42nd Annual Conch Republic Blue Ribbon Bed Races
DESCRIPTION:Experience the epitome of fun with "The most fun you can have with your clothes on" at the zany bed race on Duval between Olivia and Southard.\nGather your team and get ready to decorate your own bed to compete for prizes in this uproarious race. \nArrive early to mingle with the teams and admire the crazy\, colorful beds vying for the coveted 'BLUE RIBBON.' Plus\, know that your participation supports a worthy cause—proceeds benefit Key West’s Sister Season\, "Locals Helping Locals." \nDon't miss out on this chance to be part of an unforgettable event while giving back to the community. \nJoin  and let the laughter begin! \nFor more info\, visit: SisterSeason.org.
URL:https://mykeywestportal.com/event/42nd-annual-conch-republic-blue-ribbon-bed-races/
LOCATION:Duval Central\, 207 Duval Central\, Key West\, FL\, 33040\, United States
CATEGORIES:Community,Festival
ATTACH;FMTTYPE=image/jpeg:https://mykeywestportal.com/wp-content/uploads/2024/04/42nd-Annual-Conch-Republic-Blue-Ribbon-Bed-Races-APR-27-MyKeyWestPortal.jpg
END:VEVENT
BEGIN:VEVENT
DTSTART;TZID=America/New_York:20240426T210000
DTEND;TZID=America/New_York:20240426T210000
DTSTAMP:20260424T021412
CREATED:20240418T192906Z
LAST-MODIFIED:20240418T192906Z
UID:7891-1714165200-1714165200@mykeywestportal.com
SUMMARY:42nd Annual “Surrender Ceremony & Victory Party” Conch Republic Sea Battle
DESCRIPTION:Step into history at the Historic Seaport and witness the uproarious 'Tongue-in-Cheek' Surrender Ceremony of the US Coasties to the CR Armed Forces—a farce that's not to be missed!\nExperience the hilarity and excitement of this unique event\, where laughter and entertainment are guaranteed. \nBest of all\, admission is free for all to enjoy! \nFor more information and to be part of this unforgettable experience\, visit SchoonerWharf.com. \nDon't miss out on the chance to witness history in the making and join in the fun at the Historic Seaport!
URL:https://mykeywestportal.com/event/42nd-annual-surrender-ceremony-victory-party-conch-republic-sea-battle/
LOCATION:Schooner Wharf\, 202 William St\, Key West\, FL\, 33040\, United States
CATEGORIES:Community,Festival
ATTACH;FMTTYPE=image/jpeg:https://mykeywestportal.com/wp-content/uploads/2024/04/2024-SWB-Great-Battle-Surrender-Ceremony-Victory-Party-APR-26-MyKeyWestPortal.jpg
END:VEVENT
BEGIN:VEVENT
DTSTART;TZID=America/New_York:20240426T190000
DTEND;TZID=America/New_York:20240426T190000
DTSTAMP:20260424T021412
CREATED:20240418T192233Z
LAST-MODIFIED:20240418T192233Z
UID:7888-1714158000-1714158000@mykeywestportal.com
SUMMARY:42nd Annual Reenactment Of The Great Sea Battle Of The Conch Republic
DESCRIPTION:Immerse yourself in the heart of the action as the Battle of Key West Harbor takes center stage in our celebration.\nThis epic and uproarious harbor battle brings together the Conch Republic’s Military Forces (Air Force\, Army & Navy) and a colorful array of CR Privateers\, facing off against their formidable opponent: a United States Coast Guard Cutter. \nSponsored by the Conch Republic Military Forces\, USCG Station Key West\, and TikiManRadio.com\, this event promises non-stop excitement and entertainment. \nFor the best views of the action\, head to the Mallory Square Sunset Celebration. And the best part? \nAdmission is completely free! \nDon’t miss your chance to witness this thrilling showdown and be part of the festivities. Join and experience the thrill of the Battle of Key West Harbor! \n \n 
URL:https://mykeywestportal.com/event/42nd-annual-reenactment-of-the-great-sea-battle-of-the-conch-republic/
LOCATION:Mallory Square\, 400 Wall St\, Key West\, FL\, 33040\, United States
CATEGORIES:Community,Festival
ATTACH;FMTTYPE=image/jpeg:https://mykeywestportal.com/wp-content/uploads/2024/04/2024-CR-Naval-Parade-Great-Battle-Reenactment-APR-26-MyKeyWestPortal-1.jpg
END:VEVENT
BEGIN:VEVENT
DTSTART;TZID=America/New_York:20240426T190000
DTEND;TZID=America/New_York:20240426T190000
DTSTAMP:20260424T021412
CREATED:20240418T190937Z
LAST-MODIFIED:20240418T190937Z
UID:7884-1714158000-1714158000@mykeywestportal.com
SUMMARY:42nd Annual CR Independence Naval Parade
DESCRIPTION:Witness the awe-inspiring sight of the majestic Conch Republic Naval Fleet\, Privateers\, Charter Boats\, and Private vessels as they gracefully sail past the Mallory Square Sunset Celebration.\nThen\, join in the excitement as they prepare for battle and cheer them on with enthusiasm. \nYou can enjoy the spectacle from the shore\, secure passage on a passenger boat to be part of the parade\, or even join the parade aboard your own vessel adorned with vibrant Conch Republic flags.  \nIt's an opportunity to celebrate 42 Years of FUN-Dependence at sea in style! \nBest of all\, participation is completely free. \nDon't miss this chance to be part of an unforgettable maritime celebration. \nSet sail with us and make memories that will last a lifetime!
URL:https://mykeywestportal.com/event/42nd-annual-cr-independence-naval-parade/
LOCATION:Key West Harbor\, Key West Harbor\, Key West\, FL\, 33040\, United States
CATEGORIES:Community,Festival
ATTACH;FMTTYPE=image/jpeg:https://mykeywestportal.com/wp-content/uploads/2024/04/2024-CR-Naval-Parade-Great-Battle-Reenactment-APR-26-MyKeyWestPortal.jpg
END:VEVENT
BEGIN:VEVENT
DTSTART;TZID=America/New_York:20240425T210000
DTEND;TZID=America/New_York:20240425T210000
DTSTAMP:20260424T021412
CREATED:20240418T190206Z
LAST-MODIFIED:20240418T190242Z
UID:7880-1714078800-1714078800@mykeywestportal.com
SUMMARY:Parade After-Party & Awards Ceremony
DESCRIPTION:Immerse yourself in the magic of dancing to fantastic live music beneath the twinkling stars\, surrounded by esteemed Conch Republic Dignitaries\, Military High Command\, Pirates\, and Patriots.\nGet ready to showcase your creativity and originality with parade prizes awarded for the Best "Conch-cept\," Most Original\, and Most Creative entries. \nFor more details and to be a part of this unforgettable experience\, visit SchoonerWharf.com.  \nDon't miss out on the chance to make memories that will last a lifetime!
URL:https://mykeywestportal.com/event/parade-after-party-awards-ceremony/
LOCATION:Schooner Wharf\, 202 William St\, Key West\, FL\, 33040\, United States
CATEGORIES:Community,Festival
ATTACH;FMTTYPE=image/jpeg:https://mykeywestportal.com/wp-content/uploads/2024/04/2024-SWB-After-Parade-Party-Awards-Ceremony-APR-25-MyKeyWestPortal.jpg
END:VEVENT
BEGIN:VEVENT
DTSTART;TZID=America/New_York:20240425T200000
DTEND;TZID=America/New_York:20240425T210000
DTSTAMP:20260424T021412
CREATED:20240418T185824Z
LAST-MODIFIED:20240418T185824Z
UID:7877-1714075200-1714078800@mykeywestportal.com
SUMMARY:World's Looooongest Parade
DESCRIPTION:Don't miss the WORLD'S LONGEST PARADE on Duval Street!\nThis iconic and vibrant parade celebrates the independence of the Conch Republic\, stretching from the Atlantic Ocean to the Gulf of Mexico\, concluding at Schooner Wharf Bar in the Key West Historic Seaport. \nArrive early to meet the parade participants and their distinctive and quirky modes of transportation. \nParticipation is free! \nRegister your float\, marching unit\, or vehicle and be a part of this unforgettable parade experience! \nSign up online now.
URL:https://mykeywestportal.com/event/worlds-looooongest-parade/
LOCATION:Duval Central\, 207 Duval Central\, Key West\, FL\, 33040\, United States
CATEGORIES:Community,Festival
ATTACH;FMTTYPE=image/jpeg:https://mykeywestportal.com/wp-content/uploads/2024/04/2024-Worlds-Loooongest-Parade-APR-25-MyKeyWestPortal.jpg
END:VEVENT
BEGIN:VEVENT
DTSTART;TZID=America/New_York:20240425T173000
DTEND;TZID=America/New_York:20240425T190000
DTSTAMP:20260424T021412
CREATED:20240418T185249Z
LAST-MODIFIED:20240418T185249Z
UID:7874-1714066200-1714071600@mykeywestportal.com
SUMMARY:Parade Pre-Party & CR Military Commissioning Ceremony
DESCRIPTION:Mix and mingle with Admirals\, Generals\, Pirates\, and Parade Participants while enjoying live music and refreshing drinks against a stunning ocean backdrop.\nBrought to you by The Mansion on the Sea and the Conch Republic Military Forces. \nFor further details\, please visit ConchRepublic.com.
URL:https://mykeywestportal.com/event/parade-pre-party-cr-military-commissioning-ceremony/
LOCATION:The Mansion on the Sea\, 1400 Duval St\, Key West\, FL\, 33040\, United States
CATEGORIES:Community,Festival
ATTACH;FMTTYPE=image/jpeg:https://mykeywestportal.com/wp-content/uploads/2024/04/2024-CRMF-Parade-Pre-Party-Commissioning-Ceremony-Mansion-on-the-Sea-APR-25-MyKeyWestPortal.jpg
END:VEVENT
BEGIN:VEVENT
DTSTART;TZID=America/New_York:20240423T173000
DTEND;TZID=America/New_York:20240423T183000
DTSTAMP:20260424T021412
CREATED:20240418T184625Z
LAST-MODIFIED:20240418T184625Z
UID:7870-1713893400-1713897000@mykeywestportal.com
SUMMARY:42nd Independence Day Ceremony
DESCRIPTION:Join the festivities alongside Conch Republic Military Brass and esteemed Dignitaries\, where you'll be treated to live performances by Sir CW Colt and Dani Hoy.\nThe ceremony will feature traditional elements such as the Conch Shell Salute\, CR Pledge of Allegiance\, CR Battle Hymn\, Cannon Fire\, and a 21 Gun Salute. \nReserve your advanced seating for the Ceremony & Muster Conch-Tail Party for an enhanced experience. \nFor additional information\, reach out to cutiesinaction@gmail.com.
URL:https://mykeywestportal.com/event/42nd-independence-day-ceremony/
LOCATION:Truman Waterfront Park\, Southard St\, Key West\, FL\, 33040\, United States
CATEGORIES:Community,Festival
ATTACH;FMTTYPE=image/jpeg:https://mykeywestportal.com/wp-content/uploads/2024/04/2024-CR-Independence-Day-Ceremony-APR-23-MyKeyWestPortal-1.jpg
END:VEVENT
BEGIN:VEVENT
DTSTART;TZID=America/New_York:20240423T170000
DTEND;TZID=America/New_York:20240423T200000
DTSTAMP:20260424T021412
CREATED:20240418T184023Z
LAST-MODIFIED:20240418T184023Z
UID:7867-1713891600-1713902400@mykeywestportal.com
SUMMARY:Conch Republic Military Muster & Conch-Tail Party
DESCRIPTION:Rub elbows with Conch Republic Military Admirals\, Generals\, Ambassadors\, and Island Dignitaries at an exclusive event where you can sip on Truth Serum and savor the renowned "Auborne Skies."\nJoin forces with the CIA-Sshhh! Cuties in Action and the 82nd Auborne as they rally support for the Wesley House CR Foster Children’s Fund and the Flagship WOLF Preservation Society. \nGenerously sponsored by Jersey Mike’s and the Key West First Legal Rum Distillery\, don't miss the chance to hop aboard their COUNTER-INTELLIGENCE PARTY BUS for refreshing beverages. \nIndulge in live entertainment featuring performances by Sir CW Colt and Dani Hoy\, and try your luck at winning big with a 50/50 Raffle. \nFor more details\, contact cutiesinaction@gmail.com. \nDon't wait—join the elite for an evening of excitement\, camaraderie\, and giving back to the community!
URL:https://mykeywestportal.com/event/conch-republic-military-muster-conch-tail-party/
LOCATION:Truman Waterfront Park\, Southard St\, Key West\, FL\, 33040\, United States
CATEGORIES:Community,Festival
ATTACH;FMTTYPE=image/jpeg:https://mykeywestportal.com/wp-content/uploads/2024/04/2024-CR-Military-Muster-APR-23-MyKeyWestPortal.jpg
END:VEVENT
BEGIN:VEVENT
DTSTART;TZID=America/New_York:20240421T170000
DTEND;TZID=America/New_York:20240421T193000
DTSTAMP:20260424T021412
CREATED:20240418T170308Z
LAST-MODIFIED:20240418T170308Z
UID:7864-1713718800-1713727800@mykeywestportal.com
SUMMARY:Jazz In The Gardens
DESCRIPTION:Immerse yourself in the captivating ambiance of a lush tropical garden\, where every sip of wine is accompanied by the enchanting melodies of world-renowned jazz artists.\nIt's the ultimate destination to unwind and indulge in an evening of exquisite music and fine wine. \nBest of all\, this extraordinary experience comes to you completely free of charge. \nFor more information and to discover the magic awaiting you\, visit GardensHotel.com. \nDon't miss out on this opportunity to elevate your senses and create unforgettable memories in paradise.
URL:https://mykeywestportal.com/event/jazz-in-the-gardens/
LOCATION:The Gardens Hotel\, 526 Angela Street\, Key West\, FL\, 33040\, United States
CATEGORIES:Community,Festival
ATTACH;FMTTYPE=image/jpeg:https://mykeywestportal.com/wp-content/uploads/2024/04/Jazz-In-The-Gardens-MyKeyWestPortal.jpg
END:VEVENT
BEGIN:VEVENT
DTSTART;TZID=America/New_York:20240421T130000
DTEND;TZID=America/New_York:20240421T160000
DTSTAMP:20260424T021412
CREATED:20240418T165458Z
LAST-MODIFIED:20240418T165458Z
UID:7860-1713704400-1713715200@mykeywestportal.com
SUMMARY:Party Like A Conch Star
DESCRIPTION:Embark on an unforgettable adventure under the sun and party like a genuine Conch Star!\nIndulge in exclusive drinks and groove to the rhythms of a talented DJ. \nWith generous sponsorship from Mutiny Island Vodka and Liquor Split\, this event is your ticket to an epic celebration—all completely free for everyone to savor.  \nDon't miss out on the chance to create memories that will last a lifetime. \nJoin and let the good times roll!
URL:https://mykeywestportal.com/event/party-like-a-conch-star/
LOCATION:The Gates Hotel\, 3824 N Roosevelt Blvd\, Key West\, FL\, 33040\, United States
CATEGORIES:Community,Festival
ATTACH;FMTTYPE=image/png:https://mykeywestportal.com/wp-content/uploads/2024/04/Party-Like-A-Conch-Star-at-The-Gates-Hotel-MyKeyWestPortal.com_.png
END:VEVENT
BEGIN:VEVENT
DTSTART;TZID=America/New_York:20240421T110000
DTEND;TZID=America/New_York:20240421T150000
DTSTAMP:20260424T021412
CREATED:20240325T183016Z
LAST-MODIFIED:20240325T183016Z
UID:7664-1713697200-1713711600@mykeywestportal.com
SUMMARY:Willie Wonka's Chocolate Festival
DESCRIPTION:Willie Wonka's Chocolate Festival is a Fundraiser for the Cancer Foundation of the Florida Keys. "What We Raise Stays!"\nJoin us for a fantastically decadent event. \nEnjoy a day of desserts\, and fun all for a great cause. This annual event supports our mission to help needy Cancer patients with their living expenses while in treatment. \nStop by the Southernmost House on Sunday\, April 21st for a day of chocolate fountains\, lollipops\, and more.  \nSee you there! \n \n 
URL:https://mykeywestportal.com/event/willie-wonkas-chocolate-festival/
LOCATION:The Mansion on the Sea\, 1400 Duval St\, Key West\, FL\, 33040\, United States
CATEGORIES:Festival,Fundraiser
ATTACH;FMTTYPE=image/jpeg:https://mykeywestportal.com/wp-content/uploads/2024/03/Willie-Wonkas-Chocolate-Festival-MyKeyWestPortal.jpg
END:VEVENT
BEGIN:VEVENT
DTSTART;TZID=America/New_York:20240420T140000
DTEND;TZID=America/New_York:20240420T180000
DTSTAMP:20260424T021412
CREATED:20240418T164940Z
LAST-MODIFIED:20240418T164940Z
UID:7855-1713621600-1713636000@mykeywestportal.com
SUMMARY:40TH Annual CR Drag Races On Duval
DESCRIPTION:Get ready to glam up and step into the spotlight\, or come out to cheer on the fiercest drag queens in town as they compete in a thrilling series of races and obstacle courses!\nIt's a high-energy event filled with excitement and laughter that you won't want to miss. \nWhether you're strutting your stuff in your finest heels and frock or cheering from the sidelines\, this is an experience you'll never forget.  \nFor more information and to join in on the fun\, call 305-747-0343 now. \nLet's make this event one for the books—see you there!
URL:https://mykeywestportal.com/event/40th-annual-cr-drag-races-on-duval/
LOCATION:Bourbon Street Pub\, 724 Duval St\, Key West\, FL\, 33040\, United States
CATEGORIES:Community,Festival
ATTACH;FMTTYPE=image/jpeg:https://mykeywestportal.com/wp-content/uploads/2024/04/2024-CR-Drag-Races-on-Duval-APRIL-20-MyKeyWestPortal.jpg
END:VEVENT
BEGIN:VEVENT
DTSTART;TZID=America/New_York:20240420T130000
DTEND;TZID=America/New_York:20240420T190000
DTSTAMP:20260424T021412
CREATED:20240418T164528Z
LAST-MODIFIED:20240418T164528Z
UID:7853-1713618000-1713639600@mykeywestportal.com
SUMMARY:Conch Crawl in Old Town Key West
DESCRIPTION:Join the excitement of the Conch Crawl in Old Town Key West and don't miss out on the fun!\nDive into an unforgettable adventure as you explore seven historic saloons\, each offering its own unique atmosphere and libations. \nSponsored by esteemed brands like Key West Trading Company and Mutiny Island Vodka\, this event promises an experience like no other. \nAfterward\, keep the party going at the Conch Crawl After Party at Salty Frog's Bar & Grill\, featuring live music\, giveaways\, and mouthwatering food specials. \nDon't wait—get your tickets now and prepare for an epic adventure through the heart of Key West!
URL:https://mykeywestportal.com/event/conch-crawl-in-old-town-key-west/
LOCATION:801 Bourbon Bar\, 801 Duval St.\, Key West\, FL\, 33040\, United States
CATEGORIES:Community,Festival
ATTACH;FMTTYPE=image/jpeg:https://mykeywestportal.com/wp-content/uploads/2024/04/2024-Conch-Crawl-Pub-Stroll-APR-20-MyKeyWestPortal.jpg
END:VEVENT
BEGIN:VEVENT
DTSTART;TZID=America/New_York:20240420T100000
DTEND;TZID=America/New_York:20240420T150000
DTSTAMP:20260424T021412
CREATED:20240418T163514Z
LAST-MODIFIED:20240418T163514Z
UID:7846-1713607200-1713625200@mykeywestportal.com
SUMMARY:14th Annual Ocean Fest At Truman Waterfront Park
DESCRIPTION:Underwater and outdoor enthusiasts\, eco-travelers\, and families are invited to join in celebrating the marine environment at Mote’s Ocean Fest: A Community Celebration.\nMeet scientists and engage with conservationists and organizations from across Florida. \nThis event serves as a fundraiser for Mote Marine Laboratory’s coral reef restoration and research programs. \nFor further details\, please reach out to Taylor Berard\, Lower Keys Community Engagement Coordinator\, at 813-428-2520 or tberard@mote.org.
URL:https://mykeywestportal.com/event/14th-annual-ocean-fest-at-truman-waterfront-park/
LOCATION:Truman Waterfront Park\, Southard St\, Key West\, FL\, 33040\, United States
CATEGORIES:Community,Festival
ATTACH;FMTTYPE=image/png:https://mykeywestportal.com/wp-content/uploads/2024/04/14th-Annual-Ocean-Fest-At-Truman-Waterfront-Park-MyKeyWestPortal.com_.png
END:VEVENT
BEGIN:VEVENT
DTSTART;TZID=America/New_York:20240420T080000
DTEND;TZID=America/New_York:20240420T130000
DTSTAMP:20260424T021412
CREATED:20240418T161814Z
LAST-MODIFIED:20240418T161814Z
UID:7842-1713600000-1713618000@mykeywestportal.com
SUMMARY:2nd Annual Stock Island Earth Day Clean-Up
DESCRIPTION:Participate in a community clean-up to celebrate Earth Day!\nThe clean-up will be ongoing throughout the morning\, so feel free to join in whenever you're available. We'll provide vests\, pokers\, and buckets. \nChildren must be accompanied by adults for the clean-up. \nThis event is sponsored by the Conch Republic Independence Celebration 2024. \nI Love Stock Island\, and the Stock Island Association.
URL:https://mykeywestportal.com/event/2nd-annual-stock-island-earth-day-clean-up/
LOCATION:Bernstein Park\, 6751 5th Street\, Stock Island\, FL\, 33040\, United States
CATEGORIES:Community,Festival
ATTACH;FMTTYPE=image/jpeg:https://mykeywestportal.com/wp-content/uploads/2024/04/EARTH-DAY-CLEAN-UP-Stock-Island-MyKeyWestPortal.jpg
END:VEVENT
BEGIN:VEVENT
DTSTART;TZID=America/New_York:20240419T193000
DTEND;TZID=America/New_York:20240419T233000
DTSTAMP:20260424T021412
CREATED:20240418T160830Z
LAST-MODIFIED:20240418T160830Z
UID:7839-1713555000-1713569400@mykeywestportal.com
SUMMARY:Kick-off Party & Conch Shell Blowing Contest
DESCRIPTION:Prepare for the 42nd Conch Republic Independence Celebration with the rallying cry: Long Live the Conch Republic!\nSchooner Wharf Bar serves as the official party headquarters\, hosting a multitude of events to honor our island's rich and diverse patriotism. \nLet's not forget our motto: \n“We seceded where others failed!” Embracing our unique identity\, we revel in the fun of “Fun-Dependence!”
URL:https://mykeywestportal.com/event/kick-off-party-conch-shell-blowing-contest/
LOCATION:Schooner Wharf\, 202 William St\, Key West\, FL\, 33040\, United States
CATEGORIES:Community,Festival
ATTACH;FMTTYPE=image/jpeg:https://mykeywestportal.com/wp-content/uploads/2024/04/2024-SWB-Kick-Off-Party-Conch-Shell-Horn-Blowing-ContestC-Ceremony-MyKeyWestPortal.jpg
END:VEVENT
BEGIN:VEVENT
DTSTART;TZID=America/New_York:20240419T170000
DTEND;TZID=America/New_York:20240419T180000
DTSTAMP:20260424T021412
CREATED:20240418T155809Z
LAST-MODIFIED:20240418T155809Z
UID:7836-1713546000-1713549600@mykeywestportal.com
SUMMARY:Opening Ceremony & Raising Of The Colors
DESCRIPTION:Attend the OPENING CEREMONY & FLAG RAISING!\nA cheerful event marking the 42nd anniversary of our independence. The ceremony features the CR Pledge of Allegiance\, renditions of the Battle Hymn\, and a Conch Shell-Horn Salute. \nDon't miss out on the CR CIA – Shhh! Counter-Intelligence Party Bus for refreshments\, and indulge in live entertainment courtesy of Sir CW Colt\, the Royal Minstrel of the CR.
URL:https://mykeywestportal.com/event/opening-ceremony-raising-of-the-colors/
LOCATION:Mallory Square\, 400 Wall St\, Key West\, FL\, 33040\, United States
CATEGORIES:Community,Festival
ATTACH;FMTTYPE=image/jpeg:https://mykeywestportal.com/wp-content/uploads/2024/04/2024-Raising-of-the-Colors-Opening-CRIC-Ceremony-MyKeyWestPortal.jpg
END:VEVENT
BEGIN:VEVENT
DTSTART;TZID=America/New_York:20240419T080000
DTEND;TZID=America/New_York:20240419T090000
DTSTAMP:20260424T021412
CREATED:20240418T155153Z
LAST-MODIFIED:20240418T155153Z
UID:7832-1713513600-1713517200@mykeywestportal.com
SUMMARY:Conchy Beach Cleanup
DESCRIPTION:Join the CONCHY BEACH CLEANUP!\nat the Key West Bocce Court parking lot\, located at 1801 White Street\, across from the Atlantic Ocean.  \nPartnering with KW Ploggers\, Keep Key West Beautiful\, and CR Green Ops \nThis early morning cleanup is open to all and free to participate in.
URL:https://mykeywestportal.com/event/conchy-beach-cleanup/
LOCATION:Key West Bocce Court\, 1801 White Street\, Key West\, FL\, 33040\, United States
CATEGORIES:Community,Festival
ATTACH;FMTTYPE=image/jpeg:https://mykeywestportal.com/wp-content/uploads/2024/04/CONCHY-BEACH-CLEANUP-MyKeyWestPortal.jpg
END:VEVENT
BEGIN:VEVENT
DTSTART;TZID=America/New_York:20240330T120000
DTEND;TZID=America/New_York:20240330T150000
DTSTAMP:20260424T021412
CREATED:20240318T202250Z
LAST-MODIFIED:20240318T202250Z
UID:7627-1711800000-1711810800@mykeywestportal.com
SUMMARY:ADULT Easter Egg Hunt @ 22&Co
DESCRIPTION:Join  for our annual ADULT Easter Egg Hunt on Saturday!\nCheck-in begins at 12pm at 22&Co\, followed by the hunt throughout Aquaplex starting at 1pm.\nExpect fantastic prizes and don't forget to dress up – costumes are encouraged! \n This event is for ADULTS ONLY!
URL:https://mykeywestportal.com/event/adult-easter-egg-hunt-22co/
LOCATION:22&Co.\, 218 1/2 Duval St.\, Key West\, FL\, 33040\, United States
CATEGORIES:Community,Festival
ATTACH;FMTTYPE=image/jpeg:https://mykeywestportal.com/wp-content/uploads/2024/03/ADULT-Easter-Egg-Hunt-@-22Co-MyKeyWestPortal.jpg
END:VEVENT
BEGIN:VEVENT
DTSTART;TZID=America/New_York:20240330T100000
DTEND;TZID=America/New_York:20240330T140000
DTSTAMP:20260424T021412
CREATED:20240318T194409Z
LAST-MODIFIED:20240318T194409Z
UID:7623-1711792800-1711807200@mykeywestportal.com
SUMMARY:Easter Eggstravaganza @ Sigbee Park
DESCRIPTION:All MWR authorized patrons with a valid military ID are welcome to join for our Easter Eggstravaganza at the Sigsbee Community Center .\nThe Egg Hunt kicks off at 10:30 a.m. with the Easter Bunny making an appearance to mingle with attendees! \nAfter the hunt\, head to the USO food truck for complimentary food.\nEnjoy giveaways and crafts suitable for children of all ages.
URL:https://mykeywestportal.com/event/easter-eggstravaganza-sigbee-park/
LOCATION:Sigbee Park\, 913 Felton Rd\, Key West\, FL\, 33040\, United States
CATEGORIES:Community,Festival
ATTACH;FMTTYPE=image/jpeg:https://mykeywestportal.com/wp-content/uploads/2024/03/Easter-Eggstravaganza-at-SigbeePark-MyKeyWestPortal.jpg
END:VEVENT
BEGIN:VEVENT
DTSTART;TZID=America/New_York:20240318T080000
DTEND;TZID=America/New_York:20240318T170000
DTSTAMP:20260424T021412
CREATED:20240318T204728Z
LAST-MODIFIED:20240318T204728Z
UID:7634-1710748800-1710781200@mykeywestportal.com
SUMMARY:Easter At Somo
DESCRIPTION:Join at the Sandbar for an unforgettable Easter Egg Hunt!\nThere will be plenty of candy-filled and prize-filled eggs\, along with activities such as Slime Time and Legos. \nAdults can enjoy a bloody may/mimosa bar.
URL:https://mykeywestportal.com/event/easter-at-somo/
LOCATION:Southernmost Beach Resort\, 1319 Duval Street\, Key West\, FL\, 33040\, United States
CATEGORIES:Community,Festival
ATTACH;FMTTYPE=image/jpeg:https://mykeywestportal.com/wp-content/uploads/2024/03/Easter-at-somo-MyKeyWestPortal.jpg
END:VEVENT
END:VCALENDAR