BEGIN:VCALENDAR
VERSION:2.0
PRODID:-//My Key West Portal is the Social Calendar for the Florida Keys and Key West - ECPv6.15.11//NONSGML v1.0//EN
CALSCALE:GREGORIAN
METHOD:PUBLISH
X-WR-CALNAME:My Key West Portal is the Social Calendar for the Florida Keys and Key West
X-ORIGINAL-URL:https://mykeywestportal.com
X-WR-CALDESC:Events for My Key West Portal is the Social Calendar for the Florida Keys and Key West
REFRESH-INTERVAL;VALUE=DURATION:PT1H
X-Robots-Tag:noindex
X-PUBLISHED-TTL:PT1H
BEGIN:VTIMEZONE
TZID:America/New_York
BEGIN:DAYLIGHT
TZOFFSETFROM:-0500
TZOFFSETTO:-0400
TZNAME:EDT
DTSTART:20230312T070000
END:DAYLIGHT
BEGIN:STANDARD
TZOFFSETFROM:-0400
TZOFFSETTO:-0500
TZNAME:EST
DTSTART:20231105T060000
END:STANDARD
BEGIN:DAYLIGHT
TZOFFSETFROM:-0500
TZOFFSETTO:-0400
TZNAME:EDT
DTSTART:20240310T070000
END:DAYLIGHT
BEGIN:STANDARD
TZOFFSETFROM:-0400
TZOFFSETTO:-0500
TZNAME:EST
DTSTART:20241103T060000
END:STANDARD
BEGIN:DAYLIGHT
TZOFFSETFROM:-0500
TZOFFSETTO:-0400
TZNAME:EDT
DTSTART:20250309T070000
END:DAYLIGHT
BEGIN:STANDARD
TZOFFSETFROM:-0400
TZOFFSETTO:-0500
TZNAME:EST
DTSTART:20251102T060000
END:STANDARD
END:VTIMEZONE
BEGIN:VEVENT
DTSTART;TZID=America/New_York:20240418T180000
DTEND;TZID=America/New_York:20240418T210000
DTSTAMP:20260425T075501
CREATED:20240418T145620Z
LAST-MODIFIED:20240418T145721Z
UID:7773-1713463200-1713474000@mykeywestportal.com
SUMMARY:Walk on White Art Walk
DESCRIPTION:Walk on White is a monthly art walk held in Key West\, Florida's White Street Gallery District.\nSince its inception in 1999\, it has taken place on the third Thursday of every month\, boasting the participation of over 25 local businesses. \nWhat to Anticipate: \n\nOpenings of exhibitions\nStudios of artists open to visitors\nDemonstrations of pottery throwing\nLocally crafted artwork\nExclusive events\nComplimentary beverages\n\nDiscover Local Art: \nWalk on White presents an excellent opportunity to delve into Key West's local art scene. Visitors can explore a diverse range of art forms\, including paintings\, sculptures\, jewelry\, and pottery\, ensuring there's something to captivate every taste. \nFree Drinks: \nParticipating businesses offer complimentary beverages during Walk on White\, providing a delightful chance to unwind\, appreciate the art\, and mingle with fellow art enthusiasts. \nSpecial Occasions: \nWalk on White frequently hosts special events like live musical performances\, artist discussions\, and workshops. These occasions offer valuable insights into the local art community and provide opportunities to connect with artists firsthand.
URL:https://mykeywestportal.com/event/walk-on-white-art-walk/
LOCATION:White Street Gallery District\, White Street Gallery District\, Key West\, FL\, 33040\, United States
CATEGORIES:Community
ATTACH;FMTTYPE=image/jpeg:https://mykeywestportal.com/wp-content/uploads/2024/04/Walk-on-White-Art-Walk-MyKeyWestPortal.jpg
END:VEVENT
END:VCALENDAR