BEGIN:VCALENDAR
VERSION:2.0
PRODID:-//My Key West Portal is the Social Calendar for the Florida Keys and Key West - ECPv6.15.11//NONSGML v1.0//EN
CALSCALE:GREGORIAN
METHOD:PUBLISH
X-ORIGINAL-URL:https://mykeywestportal.com
X-WR-CALDESC:Events for My Key West Portal is the Social Calendar for the Florida Keys and Key West
REFRESH-INTERVAL;VALUE=DURATION:PT1H
X-Robots-Tag:noindex
X-PUBLISHED-TTL:PT1H
BEGIN:VTIMEZONE
TZID:America/New_York
BEGIN:DAYLIGHT
TZOFFSETFROM:-0500
TZOFFSETTO:-0400
TZNAME:EDT
DTSTART:20230312T070000
END:DAYLIGHT
BEGIN:STANDARD
TZOFFSETFROM:-0400
TZOFFSETTO:-0500
TZNAME:EST
DTSTART:20231105T060000
END:STANDARD
BEGIN:DAYLIGHT
TZOFFSETFROM:-0500
TZOFFSETTO:-0400
TZNAME:EDT
DTSTART:20240310T070000
END:DAYLIGHT
BEGIN:STANDARD
TZOFFSETFROM:-0400
TZOFFSETTO:-0500
TZNAME:EST
DTSTART:20241103T060000
END:STANDARD
BEGIN:DAYLIGHT
TZOFFSETFROM:-0500
TZOFFSETTO:-0400
TZNAME:EDT
DTSTART:20250309T070000
END:DAYLIGHT
BEGIN:STANDARD
TZOFFSETFROM:-0400
TZOFFSETTO:-0500
TZNAME:EST
DTSTART:20251102T060000
END:STANDARD
END:VTIMEZONE
BEGIN:VEVENT
DTSTART;TZID=America/New_York:20240626T080000
DTEND;TZID=America/New_York:20240627T170000
DTSTAMP:20260424T121555
CREATED:20240620T213802Z
LAST-MODIFIED:20240620T214110Z
UID:8026-1719388800-1719507600@mykeywestportal.com
SUMMARY:Islamorada Fishing Club Captain's Cup Dolphin Tournament
DESCRIPTION:Teams of up to four anglers will compete for top prizes based on the total combined weight of their three best fish.\nIf up to 25 boats register\, the first prize cash winnings can reach $25\,000.\n\nThe tournament activities will take place at the Islamorada Fishing Club.
URL:https://mykeywestportal.com/event/islamorada-fishing-club-captains-cup-dolphin-tournament/
LOCATION:The Islamorada Fishing Club\, 80939 Overseas Highway\, Islamorada\, FL\, 33036\, United States
CATEGORIES:Community
ATTACH;FMTTYPE=image/png:https://mykeywestportal.com/wp-content/uploads/2024/06/Islamorada-Fishing-Club-Captains-Cup-Dolphin-Tournament-MyKeyWestPortal.png
END:VEVENT
END:VCALENDAR