BEGIN:VCALENDAR
VERSION:2.0
PRODID:-//My Key West Portal is the Social Calendar for the Florida Keys and Key West - ECPv6.15.11//NONSGML v1.0//EN
CALSCALE:GREGORIAN
METHOD:PUBLISH
X-WR-CALNAME:My Key West Portal is the Social Calendar for the Florida Keys and Key West
X-ORIGINAL-URL:https://mykeywestportal.com
X-WR-CALDESC:Events for My Key West Portal is the Social Calendar for the Florida Keys and Key West
REFRESH-INTERVAL;VALUE=DURATION:PT1H
X-Robots-Tag:noindex
X-PUBLISHED-TTL:PT1H
BEGIN:VTIMEZONE
TZID:America/New_York
BEGIN:DAYLIGHT
TZOFFSETFROM:-0500
TZOFFSETTO:-0400
TZNAME:EDT
DTSTART:20230312T070000
END:DAYLIGHT
BEGIN:STANDARD
TZOFFSETFROM:-0400
TZOFFSETTO:-0500
TZNAME:EST
DTSTART:20231105T060000
END:STANDARD
BEGIN:DAYLIGHT
TZOFFSETFROM:-0500
TZOFFSETTO:-0400
TZNAME:EDT
DTSTART:20240310T070000
END:DAYLIGHT
BEGIN:STANDARD
TZOFFSETFROM:-0400
TZOFFSETTO:-0500
TZNAME:EST
DTSTART:20241103T060000
END:STANDARD
BEGIN:DAYLIGHT
TZOFFSETFROM:-0500
TZOFFSETTO:-0400
TZNAME:EDT
DTSTART:20250309T070000
END:DAYLIGHT
BEGIN:STANDARD
TZOFFSETFROM:-0400
TZOFFSETTO:-0500
TZNAME:EST
DTSTART:20251102T060000
END:STANDARD
END:VTIMEZONE
BEGIN:VEVENT
DTSTART;TZID=America/New_York:20240428T100000
DTEND;TZID=America/New_York:20240428T140000
DTSTAMP:20260424T071849
CREATED:20240418T195143Z
LAST-MODIFIED:20240418T195719Z
UID:7903-1714298400-1714312800@mykeywestportal.com
SUMMARY:Key West Artisan Market
DESCRIPTION:Join at the local hotspot where community spirit thrives!\nDiscover unique treasures from talented local artists\, indulge in delicious offerings from specialty food vendors\, and groove to the rhythm of live music—all in one vibrant setting. \nBest of all\, admission is completely free! \nIt's the perfect opportunity to support local artisans\, savor mouthwatering delicacies\, and immerse yourself in the lively atmosphere that makes our community truly special. \nDon't miss out on this chance to connect with neighbors\, celebrate local talent\, and experience the heart and soul of our community. \nSee you there! \nFor more info\, visit: KeysAritisanMarket.com.
URL:https://mykeywestportal.com/event/key-west-artisan-market-3/
LOCATION:Higgs Beach\, Key West\, FL\, 33040\, United States
CATEGORIES:Community,Festival
ATTACH;FMTTYPE=image/jpeg:https://mykeywestportal.com/wp-content/uploads/2024/04/2024-CR-KW-Artisan-Market-APR-28-MyKeyWestPortal.jpg
END:VEVENT
BEGIN:VEVENT
DTSTART;TZID=America/New_York:20240428T130000
DTEND;TZID=America/New_York:20240428T160000
DTSTAMP:20260424T071849
CREATED:20240418T200342Z
LAST-MODIFIED:20240418T200342Z
UID:7906-1714309200-1714320000@mykeywestportal.com
SUMMARY:39th Annual Schooner Wharf Wreckers Race Series Cup Race Series
DESCRIPTION:Set sail on a memorable adventure aboard a majestic schooner\, sloop\, or multi-hull vessel\, and experience the beauty of the waters off Key West like never before.\nOur 'all-in-fun race series' pays homage to the rich tradition of the wreckers during the 1800s\, adding an exciting and historical twist to your afternoon at sea. \nFeel the wind in your hair\, breathe in the salty sea air\, and take in breathtaking views as you participate in this exhilarating race. \nWhether you're an experienced sailor or a novice\, there's something for everyone to enjoy on this delightful voyage. \nDon't miss your chance to be part of this unforgettable experience. \nJoin for an afternoon of fun\, adventure\, and a nod to Key West's fascinating maritime history. \nFor more info\, visit: SchoonerWharf.com. \n \n 
URL:https://mykeywestportal.com/event/39th-annual-schooner-wharf-wreckers-race-series-cup-race-series/
LOCATION:Sand Key Lighthouse\, SW of\, Key West\, FL\, 33040\, United States
CATEGORIES:Community,Festival
ATTACH;FMTTYPE=image/jpeg:https://mykeywestportal.com/wp-content/uploads/2024/04/2024-SWB-Wreckers-Racel-APR-28-MyKeyWestPortal.jpg
END:VEVENT
BEGIN:VEVENT
DTSTART;TZID=America/New_York:20240428T170000
DTEND;TZID=America/New_York:20240428T193000
DTSTAMP:20260424T071849
CREATED:20240418T200731Z
LAST-MODIFIED:20240418T200731Z
UID:7912-1714323600-1714332600@mykeywestportal.com
SUMMARY:Jazz In The Gardens
DESCRIPTION:Immerse yourself in the captivating ambiance of a lush tropical garden\, where every sip of wine is accompanied by the enchanting melodies of world-renowned jazz artists.\nIt's the ultimate destination to unwind and indulge in an evening of exquisite music and fine wine. \nBest of all\, this extraordinary experience comes to you completely free of charge. \nFor more information and to discover the magic awaiting you\, visit GardensHotel.com. \nDon't miss out on this opportunity to elevate your senses and create unforgettable memories in paradise.
URL:https://mykeywestportal.com/event/jazz-in-the-gardens-2/
LOCATION:The Gardens Hotel\, 526 Angela Street\, Key West\, FL\, 33040\, United States
CATEGORIES:Community,Festival
ATTACH;FMTTYPE=image/jpeg:https://mykeywestportal.com/wp-content/uploads/2024/04/Jazz-In-The-Gardens-MyKeyWestPortal.jpg
END:VEVENT
BEGIN:VEVENT
DTSTART;TZID=America/New_York:20240428T190000
DTEND;TZID=America/New_York:20240428T190000
DTSTAMP:20260424T071849
CREATED:20240418T201904Z
LAST-MODIFIED:20240418T201904Z
UID:7914-1714330800-1714330800@mykeywestportal.com
SUMMARY:37th Annual Schooner Wharf Wreckers Race Series Cup “Awards Party & Ceremony
DESCRIPTION:Experience the excitement of the race firsthand as you enjoy a BBQ dinner and live music while watching video highlights of the event.  \nIt's the perfect way to unwind and celebrate the achievements of the participants while enjoying delicious food and fantastic entertainment. \nPlus\, don't forget about the coveted prizes awaiting the first-place finishers in each of our six classes. \nFrom schooners to classic vessels\, multihulls to monohulls of varying sizes\, there's a category for everyone to compete in and a chance to claim victory. \nJoin for an unforgettable evening filled with camaraderie\, music\, and the thrill of the race.  \nFor more info\, visit: SchoonerWharf.com. \n 
URL:https://mykeywestportal.com/event/37th-annual-schooner-wharf-wreckers-race-series-cup-awards-party-ceremony/
LOCATION:Schooner Wharf\, 202 William St\, Key West\, FL\, 33040\, United States
CATEGORIES:Community,Festival
ATTACH;FMTTYPE=image/jpeg:https://mykeywestportal.com/wp-content/uploads/2024/04/conch-republic-key-west-logo-MyKeyWestPortal.com_-1.jpeg
END:VEVENT
END:VCALENDAR