BEGIN:VCALENDAR
VERSION:2.0
PRODID:-//My Key West Portal is the Social Calendar for the Florida Keys and Key West - ECPv6.15.11//NONSGML v1.0//EN
CALSCALE:GREGORIAN
METHOD:PUBLISH
X-ORIGINAL-URL:https://mykeywestportal.com
X-WR-CALDESC:Events for My Key West Portal is the Social Calendar for the Florida Keys and Key West
REFRESH-INTERVAL;VALUE=DURATION:PT1H
X-Robots-Tag:noindex
X-PUBLISHED-TTL:PT1H
BEGIN:VTIMEZONE
TZID:America/New_York
BEGIN:DAYLIGHT
TZOFFSETFROM:-0500
TZOFFSETTO:-0400
TZNAME:EDT
DTSTART:20230312T070000
END:DAYLIGHT
BEGIN:STANDARD
TZOFFSETFROM:-0400
TZOFFSETTO:-0500
TZNAME:EST
DTSTART:20231105T060000
END:STANDARD
BEGIN:DAYLIGHT
TZOFFSETFROM:-0500
TZOFFSETTO:-0400
TZNAME:EDT
DTSTART:20240310T070000
END:DAYLIGHT
BEGIN:STANDARD
TZOFFSETFROM:-0400
TZOFFSETTO:-0500
TZNAME:EST
DTSTART:20241103T060000
END:STANDARD
BEGIN:DAYLIGHT
TZOFFSETFROM:-0500
TZOFFSETTO:-0400
TZNAME:EDT
DTSTART:20250309T070000
END:DAYLIGHT
BEGIN:STANDARD
TZOFFSETFROM:-0400
TZOFFSETTO:-0500
TZNAME:EST
DTSTART:20251102T060000
END:STANDARD
END:VTIMEZONE
BEGIN:VEVENT
DTSTART;TZID=America/New_York:20240423T170000
DTEND;TZID=America/New_York:20240423T200000
DTSTAMP:20260424T072227
CREATED:20240418T184023Z
LAST-MODIFIED:20240418T184023Z
UID:7867-1713891600-1713902400@mykeywestportal.com
SUMMARY:Conch Republic Military Muster & Conch-Tail Party
DESCRIPTION:Rub elbows with Conch Republic Military Admirals\, Generals\, Ambassadors\, and Island Dignitaries at an exclusive event where you can sip on Truth Serum and savor the renowned "Auborne Skies."\nJoin forces with the CIA-Sshhh! Cuties in Action and the 82nd Auborne as they rally support for the Wesley House CR Foster Children’s Fund and the Flagship WOLF Preservation Society. \nGenerously sponsored by Jersey Mike’s and the Key West First Legal Rum Distillery\, don't miss the chance to hop aboard their COUNTER-INTELLIGENCE PARTY BUS for refreshing beverages. \nIndulge in live entertainment featuring performances by Sir CW Colt and Dani Hoy\, and try your luck at winning big with a 50/50 Raffle. \nFor more details\, contact cutiesinaction@gmail.com. \nDon't wait—join the elite for an evening of excitement\, camaraderie\, and giving back to the community!
URL:https://mykeywestportal.com/event/conch-republic-military-muster-conch-tail-party/
LOCATION:Truman Waterfront Park\, Southard St\, Key West\, FL\, 33040\, United States
CATEGORIES:Community,Festival
ATTACH;FMTTYPE=image/jpeg:https://mykeywestportal.com/wp-content/uploads/2024/04/2024-CR-Military-Muster-APR-23-MyKeyWestPortal.jpg
END:VEVENT
BEGIN:VEVENT
DTSTART;TZID=America/New_York:20240423T173000
DTEND;TZID=America/New_York:20240423T183000
DTSTAMP:20260424T072227
CREATED:20240418T184625Z
LAST-MODIFIED:20240418T184625Z
UID:7870-1713893400-1713897000@mykeywestportal.com
SUMMARY:42nd Independence Day Ceremony
DESCRIPTION:Join the festivities alongside Conch Republic Military Brass and esteemed Dignitaries\, where you'll be treated to live performances by Sir CW Colt and Dani Hoy.\nThe ceremony will feature traditional elements such as the Conch Shell Salute\, CR Pledge of Allegiance\, CR Battle Hymn\, Cannon Fire\, and a 21 Gun Salute. \nReserve your advanced seating for the Ceremony & Muster Conch-Tail Party for an enhanced experience. \nFor additional information\, reach out to cutiesinaction@gmail.com.
URL:https://mykeywestportal.com/event/42nd-independence-day-ceremony/
LOCATION:Truman Waterfront Park\, Southard St\, Key West\, FL\, 33040\, United States
CATEGORIES:Community,Festival
ATTACH;FMTTYPE=image/jpeg:https://mykeywestportal.com/wp-content/uploads/2024/04/2024-CR-Independence-Day-Ceremony-APR-23-MyKeyWestPortal-1.jpg
END:VEVENT
BEGIN:VEVENT
DTSTART;TZID=America/New_York:20240423T190000
DTEND;TZID=America/New_York:20240423T210000
DTSTAMP:20260424T072227
CREATED:20240325T203258Z
LAST-MODIFIED:20240325T203258Z
UID:7701-1713898800-1713906000@mykeywestportal.com
SUMMARY:Pink Full Moon Lighted Bike Ride
DESCRIPTION:Gathering at the end of Edward B. Knight / White Street Pier for the Pink Full Moon ride.\nThe ride will commence at 7:30 PM\, just in time to catch the sunset at 7:53 PM and witness the moonrise. \nJoin us for an evening of riding and socializing as we celebrate under the Pink full moon. \nAll ages and skill levels are welcome! Dress code: Pink attire is encouraged to commemorate the occasion.\n Please ensure your bike is equipped with as many lights as possible for safety. This includes regular bike lights\, decorative lights\, wheel lights\, and any other illuminated accessories. \nIf you have bike-mounted music\, feel free to bring it along. \nDon't have any of these? No worries! You're still welcome to join us for the ride.
URL:https://mykeywestportal.com/event/pink-full-moon-lighted-bike-ride/
LOCATION:White Street Pier\, 1800 White St.\, Key West\, FL\, 33040\, United States
CATEGORIES:Community
ATTACH;FMTTYPE=image/jpeg:https://mykeywestportal.com/wp-content/uploads/2024/03/Pink-Full-Moon-Lighted-Bike-Ride-MyKeyWestPortal.jpg
END:VEVENT
END:VCALENDAR