BEGIN:VCALENDAR
VERSION:2.0
PRODID:-//My Key West Portal is the Social Calendar for the Florida Keys and Key West - ECPv6.15.11//NONSGML v1.0//EN
CALSCALE:GREGORIAN
METHOD:PUBLISH
X-WR-CALNAME:My Key West Portal is the Social Calendar for the Florida Keys and Key West
X-ORIGINAL-URL:https://mykeywestportal.com
X-WR-CALDESC:Events for My Key West Portal is the Social Calendar for the Florida Keys and Key West
REFRESH-INTERVAL;VALUE=DURATION:PT1H
X-Robots-Tag:noindex
X-PUBLISHED-TTL:PT1H
BEGIN:VTIMEZONE
TZID:America/New_York
BEGIN:DAYLIGHT
TZOFFSETFROM:-0500
TZOFFSETTO:-0400
TZNAME:EDT
DTSTART:20230312T070000
END:DAYLIGHT
BEGIN:STANDARD
TZOFFSETFROM:-0400
TZOFFSETTO:-0500
TZNAME:EST
DTSTART:20231105T060000
END:STANDARD
BEGIN:DAYLIGHT
TZOFFSETFROM:-0500
TZOFFSETTO:-0400
TZNAME:EDT
DTSTART:20240310T070000
END:DAYLIGHT
BEGIN:STANDARD
TZOFFSETFROM:-0400
TZOFFSETTO:-0500
TZNAME:EST
DTSTART:20241103T060000
END:STANDARD
BEGIN:DAYLIGHT
TZOFFSETFROM:-0500
TZOFFSETTO:-0400
TZNAME:EDT
DTSTART:20250309T070000
END:DAYLIGHT
BEGIN:STANDARD
TZOFFSETFROM:-0400
TZOFFSETTO:-0500
TZNAME:EST
DTSTART:20251102T060000
END:STANDARD
END:VTIMEZONE
BEGIN:VEVENT
DTSTART;TZID=America/New_York:20240413T053000
DTEND;TZID=America/New_York:20240413T180000
DTSTAMP:20260424T071937
CREATED:20240318T212406Z
LAST-MODIFIED:20240318T212406Z
UID:7646-1712986200-1713031200@mykeywestportal.com
SUMMARY:Dry Tortugas National Park
DESCRIPTION:Join for a thrilling birding adventure led by expert field guides Michael Bothers & Mitchell Harris.\nThe Dry Tortugas\, with its seven small islands\, is a vital stopover for migratory birds traveling between South America and the US\, making it a hotspot on the Great Florida Birding Trail. \nEncounter a diverse range of avian species\, including the: \n\nruby-throated hummingbird\nperegrine falcon\nyellow-billed cuckoo\n\nWith over 300 bird species\, spring is optimal for birdwatching\, but every season promises remarkable sightings.\n Keep an eye out for rare species like: \n\nRoseate and Bridled Terns\nMasked and Brown Boobies\nRed-Necked Phalarope\nRed-Footed Boobie\nDouble-Crested Cormorants\nBrown Pelicans\nFrigate Birds\nCaribbean Short-Eared Owl\nWhite-Tailed Tropicbird\nShiny Cowbird\nGolden Warbler\n\nIncluded in the trip are breakfast snacks\, a box lunch\, entrance fees to Dry Tortugas National Park and Fort Jefferson.  \nSnacks and drinks are available for purchase. \nDon't miss the chance to witness the magnificent birdlife of Dry Tortugas!
URL:https://mykeywestportal.com/event/dry-tortugas-national-park/
LOCATION:Dry Tortugas National Park\, 100 Grinnell Street\, Key West\, FL\, 33040\, United States
CATEGORIES:Community
ATTACH;FMTTYPE=image/jpeg:https://mykeywestportal.com/wp-content/uploads/2024/03/Dry-Tortugas-National-Park-MyKeyWestPortal.jpg
END:VEVENT
END:VCALENDAR