BEGIN:VCALENDAR
VERSION:2.0
PRODID:-//My Key West Portal is the Social Calendar for the Florida Keys and Key West - ECPv6.15.11//NONSGML v1.0//EN
CALSCALE:GREGORIAN
METHOD:PUBLISH
X-WR-CALNAME:My Key West Portal is the Social Calendar for the Florida Keys and Key West
X-ORIGINAL-URL:https://mykeywestportal.com
X-WR-CALDESC:Events for My Key West Portal is the Social Calendar for the Florida Keys and Key West
REFRESH-INTERVAL;VALUE=DURATION:PT1H
X-Robots-Tag:noindex
X-PUBLISHED-TTL:PT1H
BEGIN:VTIMEZONE
TZID:America/New_York
BEGIN:DAYLIGHT
TZOFFSETFROM:-0500
TZOFFSETTO:-0400
TZNAME:EDT
DTSTART:20230312T070000
END:DAYLIGHT
BEGIN:STANDARD
TZOFFSETFROM:-0400
TZOFFSETTO:-0500
TZNAME:EST
DTSTART:20231105T060000
END:STANDARD
BEGIN:DAYLIGHT
TZOFFSETFROM:-0500
TZOFFSETTO:-0400
TZNAME:EDT
DTSTART:20240310T070000
END:DAYLIGHT
BEGIN:STANDARD
TZOFFSETFROM:-0400
TZOFFSETTO:-0500
TZNAME:EST
DTSTART:20241103T060000
END:STANDARD
BEGIN:DAYLIGHT
TZOFFSETFROM:-0500
TZOFFSETTO:-0400
TZNAME:EDT
DTSTART:20250309T070000
END:DAYLIGHT
BEGIN:STANDARD
TZOFFSETFROM:-0400
TZOFFSETTO:-0500
TZNAME:EST
DTSTART:20251102T060000
END:STANDARD
END:VTIMEZONE
BEGIN:VEVENT
DTSTART;TZID=America/New_York:20240331T063000
DTEND;TZID=America/New_York:20240331T210000
DTSTAMP:20260424T085749
CREATED:20240318T203112Z
LAST-MODIFIED:20240318T203112Z
UID:7631-1711866600-1711918800@mykeywestportal.com
SUMMARY:Easter Sunrise Service @ Higgs Beach Key West
DESCRIPTION:All are invited to join  for the magnificent Higgs Beach Sunrise Service.\nGather with friends and family to welcome the sunrise with live music\, meditation\, and inspiring readings\, as we honor the significance of this special day in this picturesque outdoor setting.\nCelebrate our spiritual essence this Easter! \nMeet at the pavilion in front of Salute Restaurant. \nBring a chair or blanket\, along with a flashlight\, cup of coffee\, and a sweater as it can be cooler and windy on the Atlantic side at that hour.
URL:https://mykeywestportal.com/event/easter-sunrise-service-higgs-beach-key-west/
LOCATION:Higgs Beach\, Key West\, FL\, 33040\, United States
CATEGORIES:Community
ATTACH;FMTTYPE=image/jpeg:https://mykeywestportal.com/wp-content/uploads/2024/03/Easter-Sunrise-Service-at-Higgs-Beach-Key-West-MyKeyWestPortal.jpg
END:VEVENT
BEGIN:VEVENT
DTSTART;TZID=America/New_York:20240331T160000
DTEND;TZID=America/New_York:20240331T200000
DTSTAMP:20260424T085749
CREATED:20240325T195507Z
LAST-MODIFIED:20240325T195507Z
UID:7686-1711900800-1711915200@mykeywestportal.com
SUMMARY:Easter Bonnet Tea Dance
DESCRIPTION:"Bigger the Better Easter Bonnet" contest\, where your creativity takes center stage!\nWhether your style is elegant or outrageous\, let your Easter bonnet be a reflection of your unique flair\, adorned with all the frills you desire. \nNot only will you stand out as the grandest lady at the Tea Dance\, but you also have the chance to win fantastic prizes!  \nDon't miss this opportunity to showcase your creativity and potentially win a fabulous prize! \n \n 
URL:https://mykeywestportal.com/event/easter-bonnet-tea-dance/
LOCATION:La Te Da\, 1125Duval Strees
CATEGORIES:Community
ATTACH;FMTTYPE=image/jpeg:https://mykeywestportal.com/wp-content/uploads/2024/03/Easter-Bonnet-Tea-Dance-MyKeyWestPortal.jpg
END:VEVENT
END:VCALENDAR