BEGIN:VCALENDAR
VERSION:2.0
PRODID:-//My Key West Portal is the Social Calendar for the Florida Keys and Key West - ECPv6.15.11//NONSGML v1.0//EN
CALSCALE:GREGORIAN
METHOD:PUBLISH
X-WR-CALNAME:My Key West Portal is the Social Calendar for the Florida Keys and Key West
X-ORIGINAL-URL:https://mykeywestportal.com
X-WR-CALDESC:Events for My Key West Portal is the Social Calendar for the Florida Keys and Key West
REFRESH-INTERVAL;VALUE=DURATION:PT1H
X-Robots-Tag:noindex
X-PUBLISHED-TTL:PT1H
BEGIN:VTIMEZONE
TZID:America/New_York
BEGIN:DAYLIGHT
TZOFFSETFROM:-0500
TZOFFSETTO:-0400
TZNAME:EDT
DTSTART:20230312T070000
END:DAYLIGHT
BEGIN:STANDARD
TZOFFSETFROM:-0400
TZOFFSETTO:-0500
TZNAME:EST
DTSTART:20231105T060000
END:STANDARD
BEGIN:DAYLIGHT
TZOFFSETFROM:-0500
TZOFFSETTO:-0400
TZNAME:EDT
DTSTART:20240310T070000
END:DAYLIGHT
BEGIN:STANDARD
TZOFFSETFROM:-0400
TZOFFSETTO:-0500
TZNAME:EST
DTSTART:20241103T060000
END:STANDARD
BEGIN:DAYLIGHT
TZOFFSETFROM:-0500
TZOFFSETTO:-0400
TZNAME:EDT
DTSTART:20250309T070000
END:DAYLIGHT
BEGIN:STANDARD
TZOFFSETFROM:-0400
TZOFFSETTO:-0500
TZNAME:EST
DTSTART:20251102T060000
END:STANDARD
END:VTIMEZONE
BEGIN:VEVENT
DTSTART;TZID=America/New_York:20240329T160000
DTEND;TZID=America/New_York:20240329T180000
DTSTAMP:20260424T085753
CREATED:20240318T191917Z
LAST-MODIFIED:20240318T193643Z
UID:7615-1711728000-1711735200@mykeywestportal.com
SUMMARY:Grown- Up Easter Egg Hunt @ Sunset Green Event Lawn
DESCRIPTION:Experience an exhilarating twist on Easter in Key West with an exclusive Adult Easter Egg Hunt.\nEnjoy live music\, delectable cuisine\, and refreshing beverages in a lively atmosphere. \nHunt for eggs filled with prizes. \nIncluding the chance to win a one-night stay at 24 North Hotel if you discover the golden egg.
URL:https://mykeywestportal.com/event/grown-up-easter-egg-hunt/
LOCATION:Sunset Green Event Lawn at The Keys Collection\, 3820 N Roosevelt Blvd\, Key West\, FL\, 33040\, United States
CATEGORIES:Community
ATTACH;FMTTYPE=image/jpeg:https://mykeywestportal.com/wp-content/uploads/2024/03/grown-up-easter-egg-hunt-MyKeyWestPortal.jpg
END:VEVENT
BEGIN:VEVENT
DTSTART;TZID=America/New_York:20240329T173000
DTEND;TZID=America/New_York:20240329T210000
DTSTAMP:20260424T085753
CREATED:20240325T202313Z
LAST-MODIFIED:20240325T202313Z
UID:7697-1711733400-1711746000@mykeywestportal.com
SUMMARY:Dive Into Art and Music @ Safe Harbor Angler House
DESCRIPTION:Join the History of Diving Museum and Rainbow Full of Sound for a special benefit concert\, art exhibition\, and musical tribute honoring the legendary musician\, artist\, and avid diver Jerry Garcia of the Grateful Dead!\nThis ticketed event offers a diverse range of activities including live music\, an art sale\, dinner\, dancing\, and more. \n Attendees will have the opportunity to participate in silent auctions\, sales\, and raffles featuring limited-edition museum-quality Giclee prints generously donated by the Jerry Garcia Foundation.  \nAll proceeds from the event will support the History of Diving Museum's Featured Exhibits\, expanded student outreach\, and community programs. \nFor additional information\, visit www.divingmuseum.org.
URL:https://mykeywestportal.com/event/dive-into-art-and-music-safe-harbor-angler-house/
LOCATION:Safe Harbor Angler House\, 80500 Overseas Hwy\, Islamorada\, FL\, 33036\, United States
CATEGORIES:Community,Fundraiser
ATTACH;FMTTYPE=image/jpeg:https://mykeywestportal.com/wp-content/uploads/2024/03/Dive-Into-Artand-Music-MyKeyWestPortal.jpg
END:VEVENT
BEGIN:VEVENT
DTSTART;TZID=America/New_York:20240329T180000
DTEND;TZID=America/New_York:20240329T200000
DTSTAMP:20260424T085753
CREATED:20240325T204726Z
LAST-MODIFIED:20240325T204837Z
UID:7707-1711735200-1711742400@mykeywestportal.com
SUMMARY:Key West Woodcarving Society Exhibition @ Williams Hall
DESCRIPTION:The inaugural event hosted by the Key West Woodworking Society is set to showcase the talents of local artists who specialize in woodworking\, encompassing sculpture and the traditional Italgio style unique to the island.\nThis exhibition serves as a celebration of our island's rich woodworking heritage\, offering a glimpse into the remarkable pieces crafted by members of our community. \nIt presents a distinct opportunity to witness the significance of preserving our cherished island traditions. \nThe lineup of featured local artists includes: \n\nAndy Thurber\nJorge Marrero\nMichael Marrero\nDanny Soldano\,\nGarth Holtkamp\nWayne Garcia\nPattie Kemp\nMario Suarez\nIsaac Valdez\nCatherine Solmo\nJeff Ware
URL:https://mykeywestportal.com/event/key-west-woodcarving-society-exhibition-williams-hall/
LOCATION:Williams Hall\, 729 Fleming Street\, Key West\, FL\, 33040\, United States
CATEGORIES:Community
ATTACH;FMTTYPE=image/jpeg:https://mykeywestportal.com/wp-content/uploads/2024/03/Key-West-Woodcarving-Society-Exhibition-@-Williams-Hall-MyKeyWestPortal.jpg
END:VEVENT
END:VCALENDAR