BEGIN:VCALENDAR
VERSION:2.0
PRODID:-//My Key West Portal is the Social Calendar for the Florida Keys and Key West - ECPv6.15.11//NONSGML v1.0//EN
CALSCALE:GREGORIAN
METHOD:PUBLISH
X-WR-CALNAME:My Key West Portal is the Social Calendar for the Florida Keys and Key West
X-ORIGINAL-URL:https://mykeywestportal.com
X-WR-CALDESC:Events for My Key West Portal is the Social Calendar for the Florida Keys and Key West
REFRESH-INTERVAL;VALUE=DURATION:PT1H
X-Robots-Tag:noindex
X-PUBLISHED-TTL:PT1H
BEGIN:VTIMEZONE
TZID:America/New_York
BEGIN:DAYLIGHT
TZOFFSETFROM:-0500
TZOFFSETTO:-0400
TZNAME:EDT
DTSTART:20230312T070000
END:DAYLIGHT
BEGIN:STANDARD
TZOFFSETFROM:-0400
TZOFFSETTO:-0500
TZNAME:EST
DTSTART:20231105T060000
END:STANDARD
BEGIN:DAYLIGHT
TZOFFSETFROM:-0500
TZOFFSETTO:-0400
TZNAME:EDT
DTSTART:20240310T070000
END:DAYLIGHT
BEGIN:STANDARD
TZOFFSETFROM:-0400
TZOFFSETTO:-0500
TZNAME:EST
DTSTART:20241103T060000
END:STANDARD
BEGIN:DAYLIGHT
TZOFFSETFROM:-0500
TZOFFSETTO:-0400
TZNAME:EDT
DTSTART:20250309T070000
END:DAYLIGHT
BEGIN:STANDARD
TZOFFSETFROM:-0400
TZOFFSETTO:-0500
TZNAME:EST
DTSTART:20251102T060000
END:STANDARD
END:VTIMEZONE
BEGIN:VEVENT
DTSTART;TZID=America/New_York:20240326T090000
DTEND;TZID=America/New_York:20240326T150000
DTSTAMP:20260424T085747
CREATED:20240325T181931Z
LAST-MODIFIED:20240325T181931Z
UID:7659-1711443600-1711465200@mykeywestportal.com
SUMMARY:Community Foundation of the Florida Keys Leadership Success Academy
DESCRIPTION:Registration is still open for the Leadership Success Academy (LSA)\, a signature nonprofit training event taking place on March 26-27 at Islander Resort in Islamorada.\nThe LSA provides essential board training\, covering topics such as governance\, strategic planning\, fundraising\, and financial management. Renowned nonprofit expert Alex Counts will be among the coaches\, traveling from Baltimore to instruct Florida Keys nonprofit leaders. \nA highlight of this year's event will be a presentation by AH Monroe's executive director Scott Pridgen and Florida Keys Outreach Coalition's board chair Sam Kaufman\, who will share insights into their organizations' recent merger. Additionally\, presenters Kate Banick\, Bob Gold\, and Martha Roesler will offer expertise in various areas.  \nFor more information and registration\, visit www.cffk.org/lsa.
URL:https://mykeywestportal.com/event/community-foundation-of-the-florida-keys-leadership-success-academy/
LOCATION:Islander Resort\, 82100 Overseas Hwy\, Islamorada\, FL\, 33036\, United States
CATEGORIES:Community
ATTACH;FMTTYPE=image/jpeg:https://mykeywestportal.com/wp-content/uploads/2024/03/Community-Foundation-of-the-Florida-Keys-Leadership-Success-Academy-MyKeyWestPortal.jpg
END:VEVENT
BEGIN:VEVENT
DTSTART;TZID=America/New_York:20240327T173000
DTEND;TZID=America/New_York:20240327T200000
DTSTAMP:20260424T085747
CREATED:20240325T200255Z
LAST-MODIFIED:20240325T200332Z
UID:7689-1711560600-1711569600@mykeywestportal.com
SUMMARY:Happy Hour Run
DESCRIPTION:Join  for a refreshing morning of activity!\nWhether you prefer a brisk run or a leisurely stroll\, we invite you to join us for either option. \nFollowing your chosen exercise\, take advantage of the opportunity to unwind and socialize while enjoying delicious food and drinks at affordable prices.\nIt's a perfect way to start your day on a healthy note and connect with others in our community. \nLooking forward to seeing you there!
URL:https://mykeywestportal.com/event/happy-hour-run/
LOCATION:Old Town tavern & Beer\, 900 Duval Street\, Key West\, FL\, 33040\, United States
CATEGORIES:Community
ATTACH;FMTTYPE=image/jpeg:https://mykeywestportal.com/wp-content/uploads/2024/03/Happy-Hour-Run-MyKeyWestPortal.jpg
END:VEVENT
END:VCALENDAR