BEGIN:VCALENDAR
VERSION:2.0
PRODID:-//My Key West Portal is the Social Calendar for the Florida Keys and Key West - ECPv6.15.11//NONSGML v1.0//EN
CALSCALE:GREGORIAN
METHOD:PUBLISH
X-WR-CALNAME:My Key West Portal is the Social Calendar for the Florida Keys and Key West
X-ORIGINAL-URL:https://mykeywestportal.com
X-WR-CALDESC:Events for My Key West Portal is the Social Calendar for the Florida Keys and Key West
REFRESH-INTERVAL;VALUE=DURATION:PT1H
X-Robots-Tag:noindex
X-PUBLISHED-TTL:PT1H
BEGIN:VTIMEZONE
TZID:America/New_York
BEGIN:DAYLIGHT
TZOFFSETFROM:-0500
TZOFFSETTO:-0400
TZNAME:EDT
DTSTART:20230312T070000
END:DAYLIGHT
BEGIN:STANDARD
TZOFFSETFROM:-0400
TZOFFSETTO:-0500
TZNAME:EST
DTSTART:20231105T060000
END:STANDARD
BEGIN:DAYLIGHT
TZOFFSETFROM:-0500
TZOFFSETTO:-0400
TZNAME:EDT
DTSTART:20240310T070000
END:DAYLIGHT
BEGIN:STANDARD
TZOFFSETFROM:-0400
TZOFFSETTO:-0500
TZNAME:EST
DTSTART:20241103T060000
END:STANDARD
BEGIN:DAYLIGHT
TZOFFSETFROM:-0500
TZOFFSETTO:-0400
TZNAME:EDT
DTSTART:20250309T070000
END:DAYLIGHT
BEGIN:STANDARD
TZOFFSETFROM:-0400
TZOFFSETTO:-0500
TZNAME:EST
DTSTART:20251102T060000
END:STANDARD
END:VTIMEZONE
BEGIN:VEVENT
DTSTART;TZID=America/New_York:20240325T180000
DTEND;TZID=America/New_York:20240325T210000
DTSTAMP:20260424T085748
CREATED:20240318T185738Z
LAST-MODIFIED:20240318T185738Z
UID:7609-1711389600-1711400400@mykeywestportal.com
SUMMARY:Key West 250th Anniversary with the opening of a time capsule in 2072
DESCRIPTION:Celebrate the Key West 250th Anniversary with the opening of a time capsule in 2072!\nThis event will continue to be updated until then\, with the anticipation that future generations\, now children\, will open the capsule and recount our story when they are in their 60s. \n \n 
URL:https://mykeywestportal.com/event/key-west-250th-anniversary-with-the-opening-of-a-time-capsule-in-2072/
LOCATION:Mallory Square\, 400 Wall St\, Key West\, FL\, 33040\, United States
CATEGORIES:Community
ATTACH;FMTTYPE=image/jpeg:https://mykeywestportal.com/wp-content/uploads/2024/03/Celebrate-the-Key-West-250th-Anniversary-with-the-opening-of-a-time-capsule-in-2072-MyKeyWestPortal-.jpg
END:VEVENT
END:VCALENDAR