BEGIN:VCALENDAR
VERSION:2.0
PRODID:-//My Key West Portal is the Social Calendar for the Florida Keys and Key West - ECPv6.15.11//NONSGML v1.0//EN
CALSCALE:GREGORIAN
METHOD:PUBLISH
X-WR-CALNAME:My Key West Portal is the Social Calendar for the Florida Keys and Key West
X-ORIGINAL-URL:https://mykeywestportal.com
X-WR-CALDESC:Events for My Key West Portal is the Social Calendar for the Florida Keys and Key West
REFRESH-INTERVAL;VALUE=DURATION:PT1H
X-Robots-Tag:noindex
X-PUBLISHED-TTL:PT1H
BEGIN:VTIMEZONE
TZID:America/New_York
BEGIN:DAYLIGHT
TZOFFSETFROM:-0500
TZOFFSETTO:-0400
TZNAME:EDT
DTSTART:20210314T070000
END:DAYLIGHT
BEGIN:STANDARD
TZOFFSETFROM:-0400
TZOFFSETTO:-0500
TZNAME:EST
DTSTART:20211107T060000
END:STANDARD
BEGIN:DAYLIGHT
TZOFFSETFROM:-0500
TZOFFSETTO:-0400
TZNAME:EDT
DTSTART:20220313T070000
END:DAYLIGHT
BEGIN:STANDARD
TZOFFSETFROM:-0400
TZOFFSETTO:-0500
TZNAME:EST
DTSTART:20221106T060000
END:STANDARD
BEGIN:DAYLIGHT
TZOFFSETFROM:-0500
TZOFFSETTO:-0400
TZNAME:EDT
DTSTART:20230312T070000
END:DAYLIGHT
BEGIN:STANDARD
TZOFFSETFROM:-0400
TZOFFSETTO:-0500
TZNAME:EST
DTSTART:20231105T060000
END:STANDARD
END:VTIMEZONE
BEGIN:VEVENT
DTSTART;VALUE=DATE:20220725
DTEND;VALUE=DATE:20220809
DTSTAMP:20260425T223904
CREATED:20220618T153836Z
LAST-MODIFIED:20220622T160647Z
UID:6238-1658721600-1659931199@mykeywestportal.com
SUMMARY:2022 Florida Back-to-School Sales Tax Holiday
DESCRIPTION:Save the dates: Monday\, July 25th to August 7th\, 2022!\n\nThat's 14 Days of Tax-Free Saving in Florida.\nPlan on saving on back-to-school purchases.\n\nThank you Florida!\n  \nClick the link below for tax-free details: \nRead More: \nAnnual Florida Tax Holiday and Exemption Periods \nDepart of Florida Revenue - Tax Information Publication (TIP) for 2022 Back-to-School Sales Tax Holiday \n \n  \n  \n  \n  \n  \n  \n  \n  \n  \n  \n  \n  \n  \n  \n  \n  \n  \n  \n  \n  \n  \n  \n  \n  \n  \n  \n  \n  \n  \n 
URL:https://mykeywestportal.com/event/2022-florida-back-to-school-sales-tax-holiday/
LOCATION:State Of Florida
CATEGORIES:Community,MyKeyWestPortal.com News
ATTACH;FMTTYPE=image/jpeg:https://mykeywestportal.com/wp-content/uploads/2022/06/mykeywestportal-family-in-car-annual-florida-tax-holiday.jpg
END:VEVENT
END:VCALENDAR