BEGIN:VCALENDAR
VERSION:2.0
PRODID:-//My Key West Portal is the Social Calendar for the Florida Keys and Key West - ECPv6.15.11//NONSGML v1.0//EN
CALSCALE:GREGORIAN
METHOD:PUBLISH
X-WR-CALNAME:My Key West Portal is the Social Calendar for the Florida Keys and Key West
X-ORIGINAL-URL:https://mykeywestportal.com
X-WR-CALDESC:Events for My Key West Portal is the Social Calendar for the Florida Keys and Key West
REFRESH-INTERVAL;VALUE=DURATION:PT1H
X-Robots-Tag:noindex
X-PUBLISHED-TTL:PT1H
BEGIN:VTIMEZONE
TZID:UTC
BEGIN:STANDARD
TZOFFSETFROM:+0000
TZOFFSETTO:+0000
TZNAME:UTC
DTSTART:20170101T000000
END:STANDARD
END:VTIMEZONE
BEGIN:VTIMEZONE
TZID:America/New_York
BEGIN:DAYLIGHT
TZOFFSETFROM:-0500
TZOFFSETTO:-0400
TZNAME:EDT
DTSTART:20230312T070000
END:DAYLIGHT
BEGIN:STANDARD
TZOFFSETFROM:-0400
TZOFFSETTO:-0500
TZNAME:EST
DTSTART:20231105T060000
END:STANDARD
BEGIN:DAYLIGHT
TZOFFSETFROM:-0500
TZOFFSETTO:-0400
TZNAME:EDT
DTSTART:20240310T070000
END:DAYLIGHT
BEGIN:STANDARD
TZOFFSETFROM:-0400
TZOFFSETTO:-0500
TZNAME:EST
DTSTART:20241103T060000
END:STANDARD
BEGIN:DAYLIGHT
TZOFFSETFROM:-0500
TZOFFSETTO:-0400
TZNAME:EDT
DTSTART:20250309T070000
END:DAYLIGHT
BEGIN:STANDARD
TZOFFSETFROM:-0400
TZOFFSETTO:-0500
TZNAME:EST
DTSTART:20251102T060000
END:STANDARD
END:VTIMEZONE
BEGIN:VEVENT
DTSTART;TZID=UTC:20180106T080000
DTEND;TZID=UTC:20180106T120000
DTSTAMP:20260424T071540
CREATED:20180104T213958Z
LAST-MODIFIED:20220621T013558Z
UID:870-1515225600-1515240000@mykeywestportal.com
SUMMARY:1st Saturday of the Month Hazardous Waste Drop Off
DESCRIPTION:This Household Hazardous Waste and Electronics Drop-off Day provides a safe and environmentally sound way to get rid of hard-to-dispose-of items. \nImportant Musts: \n  \n1. City of Key West Residents Only \n2. No Businesses \n  \n  \n  \n\nAccepting: Household Chemicals and Electronics\nGasoline (up to 5 gallons in a leakproof container)\nPaints\nStains\nPreservatives\nPesticides\nFertilizers\nRoofing Compounds\nWaste oil and Cooking oil\nResins and Solvents\nAdhesives and Caulks\nCorrosives and Acids\nCleaning Products\nAutomotive Fluids\nElectronics are also be accepted: microwaves\, TVs\, computers\, game systems\, speakers\, telephones\, circuit boards\, etc.\n\nFor more information contact the City of Key West: at 305-809-3776\, or Waste Management: at 305-296-8297. \n \n  \n  \n 
URL:https://mykeywestportal.com/event/1st-saturday-of-the-month-hazardous-waste-drop-off/
LOCATION:Indigenous Park\, 1801 White Street\, Key West\, FL\, 33040\, United States
CATEGORIES:Community
ATTACH;FMTTYPE=image/jpeg:https://mykeywestportal.com/wp-content/uploads/2018/01/MyKeyWestPortal-Hazardous-Waste-Drop-Off-Waste-Management-Key-West.jpg
END:VEVENT
BEGIN:VEVENT
DTSTART;TZID=America/New_York:20240507T180000
DTEND;TZID=America/New_York:20240507T180000
DTSTAMP:20260424T071540
CREATED:20240416T175621Z
LAST-MODIFIED:20240416T175621Z
UID:7751-1715104800-1715104800@mykeywestportal.com
SUMMARY:Miss Island Queen 2024
DESCRIPTION:Join for an unforgettable evening hosted by Kirby Myers\, founder of Miss Island Queen\, alongside Key West favorite Landon Bradbary!\nThis marks the 3rd annual Miss Island Queen event\, promising more showcases of drag talent and pageantry\, with six local celebrity contestants competing for the coveted crown. \nGet ready for a night brimming with laughter\, excitement\, and surprises you won't want to miss! \nEach contestant has their own unique link and QR code for fundraising\, and your support can make all the difference. The contestant who raises the most funds will claim the title of Miss Island Queen 2024! \nAll proceeds from this event benefit the programs of Samuel's House\, a 501(c)3 emergency homeless shelter dedicated to supporting women and children in Monroe County. \nYour generosity helps provide essential assistance\, including basic needs and housing\, to families in need. \nLet's unite to make a difference and crown the next Miss Island Queen!
URL:https://mykeywestportal.com/event/miss-island-queen-2024/
LOCATION:Key West Theater\, 512 Eaton St\, Key West\, FL\, 33040\, United States
CATEGORIES:Community,Fundraiser
ATTACH;FMTTYPE=image/jpeg:https://mykeywestportal.com/wp-content/uploads/2024/04/Miss-Island-Queen-2024-MyKeyWestPortal.jpg
END:VEVENT
BEGIN:VEVENT
DTSTART;TZID=America/New_York:20240418T180000
DTEND;TZID=America/New_York:20240418T210000
DTSTAMP:20260424T071540
CREATED:20240418T145620Z
LAST-MODIFIED:20240418T145721Z
UID:7773-1713463200-1713474000@mykeywestportal.com
SUMMARY:Walk on White Art Walk
DESCRIPTION:Walk on White is a monthly art walk held in Key West\, Florida's White Street Gallery District.\nSince its inception in 1999\, it has taken place on the third Thursday of every month\, boasting the participation of over 25 local businesses. \nWhat to Anticipate: \n\nOpenings of exhibitions\nStudios of artists open to visitors\nDemonstrations of pottery throwing\nLocally crafted artwork\nExclusive events\nComplimentary beverages\n\nDiscover Local Art: \nWalk on White presents an excellent opportunity to delve into Key West's local art scene. Visitors can explore a diverse range of art forms\, including paintings\, sculptures\, jewelry\, and pottery\, ensuring there's something to captivate every taste. \nFree Drinks: \nParticipating businesses offer complimentary beverages during Walk on White\, providing a delightful chance to unwind\, appreciate the art\, and mingle with fellow art enthusiasts. \nSpecial Occasions: \nWalk on White frequently hosts special events like live musical performances\, artist discussions\, and workshops. These occasions offer valuable insights into the local art community and provide opportunities to connect with artists firsthand.
URL:https://mykeywestportal.com/event/walk-on-white-art-walk/
LOCATION:White Street Gallery District\, White Street Gallery District\, Key West\, FL\, 33040\, United States
CATEGORIES:Community
ATTACH;FMTTYPE=image/jpeg:https://mykeywestportal.com/wp-content/uploads/2024/04/Walk-on-White-Art-Walk-MyKeyWestPortal.jpg
END:VEVENT
BEGIN:VEVENT
DTSTART;TZID=America/New_York:20240517T090000
DTEND;TZID=America/New_York:20240519T120000
DTSTAMP:20260424T071540
CREATED:20240318T213111Z
LAST-MODIFIED:20240514T192850Z
UID:7650-1715936400-1716120000@mykeywestportal.com
SUMMARY:FL Homeschool
DESCRIPTION:Join for a team-building travel adventure\, open to Roadschoolers\, HomeSchoolers\, and UnSchoolers!\nFamilies will be grouped into teams to explore the upper\, middle\, and lower keys\, with activities including snorkeling on a catamaran and learning about the haunted history of the island chain. \nThe itinerary includes group events\, team challenges\, most meals\, a Sunset Paint Party\, trivia games\, and superlatives for all participants.
URL:https://mykeywestportal.com/event/fl-homeschool/
LOCATION:Southernmost Point of the Continental United States\, 401 South St\, Key West\, FL\, 33040\, United States
CATEGORIES:Community
ATTACH;FMTTYPE=image/jpeg:https://mykeywestportal.com/wp-content/uploads/2024/03/FL-Homeschool-MyKeyWestPortal.jpg
END:VEVENT
BEGIN:VEVENT
DTSTART;TZID=America/New_York:20240518T120000
DTEND;TZID=America/New_York:20240518T160000
DTSTAMP:20260424T071540
CREATED:20240514T202233Z
LAST-MODIFIED:20240514T202233Z
UID:7961-1716033600-1716048000@mykeywestportal.com
SUMMARY:LionFish Derby
DESCRIPTION:Join us for CFK Academy's inaugural LionFish Derby and educational event!\nFeaturing LionFish experts\, local vendors\, nonprofit organizations\, and culinary delights. \nThe competition kicks off at sunrise\, with all fish needing to be checked in by 3:00 PM at the measuring table located at the College of the Florida Keys. \nLate entries will not be accepted. \nTeams of up to 4 can participate for $40\, with prizes awarded for the smallest\, largest\, and most LionFish caught.\nRegister at keystix.com.
URL:https://mykeywestportal.com/event/lionfish-derby/
LOCATION:The College of the Florida Keys\, 5901 College Rd\, Key West\, FL\, 33040\, United States
CATEGORIES:Community
ATTACH;FMTTYPE=image/jpeg:https://mykeywestportal.com/wp-content/uploads/2024/05/lionderby-MyKeyWestPortal.jpg
END:VEVENT
BEGIN:VEVENT
DTSTART;TZID=America/New_York:20240518T180000
DTEND;TZID=America/New_York:20240518T180000
DTSTAMP:20260424T071540
CREATED:20240514T200558Z
LAST-MODIFIED:20240514T200558Z
UID:7957-1716055200-1716055200@mykeywestportal.com
SUMMARY:Florida Keys FREE Community Concert
DESCRIPTION:Nashville-based WKND WORSHIP COLLECTIVE is hosting a free community worship night at Layton Community Baptist Church on Long Key.\nDoors open at 6 PM\, and the event starts at 6:30 PM. The worship night is open to all ages\, wheelchair accessible\, and will provide free snacks. \nWKND WORSHIP COLLECTIVE consists of worship leaders and songwriters currently working on new songs for the Church\, which they will debut at this event.\nMelanie Waldman\, a singer/songwriter who recently released her project "Stories & Songs\," will also perform. \nMelanie travels to churches and conferences\, combining her music with a powerful message of hope and offering a spiritual care program called “Replacing the Lies.”\nMore about her ministry can be found at www.melaniewaldman.com.
URL:https://mykeywestportal.com/event/florida-keys-free-community-concert/
LOCATION:Layton Community Baptist Church\, 128 S Layton Dr\, Layton\, FL\, 33001\, United States
CATEGORIES:Community
ATTACH;FMTTYPE=image/jpeg:https://mykeywestportal.com/wp-content/uploads/2024/05/Florida-Keys-FREE-Community-Concert-LiveMusicEveryDay.com-KeyWest-.jpg
END:VEVENT
BEGIN:VEVENT
DTSTART;TZID=America/New_York:20240523T190000
DTEND;TZID=America/New_York:20240523T190000
DTSTAMP:20260424T071540
CREATED:20240417T154638Z
LAST-MODIFIED:20240417T160701Z
UID:7754-1716490800-1716490800@mykeywestportal.com
SUMMARY:Flower Full Moon Bike Ride
DESCRIPTION:Gather at the end of Edward B. Knight / White Street Pier!\nWe'll set off at 7:30 pm to catch the sunset at 8:07 pm and the moonrise afterward. \nJoin for a fun evening of riding and socializing - all ages and abilities are welcome! \nDress up in flower prints to celebrate the Flower Full Moon\, and don't forget to deck out your bike with as many lights as possible. \nFrom regular bike lights to decorative ones\, wheel lights\, and anything that lights up or glows safely. \nBring along bike-mounted music if you have it\, and even if you don't\, you're still welcome to join the ride. \nThe route will be announced later. \nIf you're late\, you can usually find the group here: http://glympse.com/!SSR. \nPlease note that this is a casual ride with informal marshaling. While we'll "take the lane" at times\, we'll also make space for passing cars\, so please follow the marshals and the group's vibe. \nRide at your own risk\, and let's enjoy a relaxed ride with friends\, both old and new! \n 
URL:https://mykeywestportal.com/event/flower-full-moon-bike-ride/
LOCATION:White Street Pier\, 1800 White St.\, Key West\, FL\, 33040\, United States
CATEGORIES:Community
ATTACH;FMTTYPE=image/jpeg:https://mykeywestportal.com/wp-content/uploads/2024/04/Flower-Full-Moon-Bike-Ride-MyKeyWestPortal-1.jpg
END:VEVENT
BEGIN:VEVENT
DTSTART;TZID=America/New_York:20240524T140000
DTEND;TZID=America/New_York:20240526T170000
DTSTAMP:20260424T071540
CREATED:20240515T201856Z
LAST-MODIFIED:20240515T201856Z
UID:7974-1716559200-1716742800@mykeywestportal.com
SUMMARY:Annual Buy A Teacher A Drink Day/Weekend!
DESCRIPTION:Annual Buy A Teacher A Drink Day/Weekend!\n Our hardworking teachers certainly deserve the paychecks of NFL players – so let's show our appreciation by treating them to a drink! \nHere's the deal: you can contribute by dropping off cash or using your card at 22&Co\, and we'll add it to the teachers' tab. \nIf you're not in town\, you can Venmo any amount to @tutuandco-keywest\, and your donation will go towards the tab. \nTeachers\, just bring your Monroe County School ID to enjoy a drink on us!
URL:https://mykeywestportal.com/event/annual-buy-a-teacher-a-drink-day-weekend/
LOCATION:22&Co\, 504 Angela St\, Key West\, FL\, 33040\, United States
CATEGORIES:Community,Fundraiser
ATTACH;FMTTYPE=image/jpeg:https://mykeywestportal.com/wp-content/uploads/2024/05/Annual-Buy-A-Teacher-A-Drink-Day-Weekend-MyKeyWestPortal.jpg
END:VEVENT
BEGIN:VEVENT
DTSTART;TZID=America/New_York:20240525T183000
DTEND;TZID=America/New_York:20240525T213000
DTSTAMP:20260424T071540
CREATED:20240523T214453Z
LAST-MODIFIED:20240523T214453Z
UID:7987-1716661800-1716672600@mykeywestportal.com
SUMMARY:Village Square: Sizzling Summer Fashion Show
DESCRIPTION:The Village Square fashion show showcases the newest styles from Miss Monroe\, The Otherside\, and boutiques such as Mayu\, Wild Lily\, and Evolve.\nEnjoy music by DJ Chili\, a cash bar offering wine\, beer\, and sangria\, a fun photo booth\, and delicious food from Bad Boy Burrito.
URL:https://mykeywestportal.com/event/village-square-sizzling-summer-fashion-show/
LOCATION:Village Sqaure\, 81868 Overseas Highway\, Islamorada\, FL\, FL 33036\, United States
CATEGORIES:Community
ATTACH;FMTTYPE=image/jpeg:https://mykeywestportal.com/wp-content/uploads/2024/05/Sizling-summer-MyKeyWestPortal.com_.jpeg
END:VEVENT
BEGIN:VEVENT
DTSTART;TZID=America/New_York:20240525T190000
DTEND;TZID=America/New_York:20240525T190000
DTSTAMP:20260424T071540
CREATED:20240523T213601Z
LAST-MODIFIED:20240523T213601Z
UID:7983-1716663600-1716663600@mykeywestportal.com
SUMMARY:Florida Keys Wild Bird Rehabilitation Center: Summer Movie Night Featuring "Hoot"
DESCRIPTION:Celebrate the beginning of Summer Movie Night at the Laura Quinn Wild Bird Sanctuary with a showing of "Hoot."\nThis family-friendly film tells the story of kids uniting to protect burrowing owls\, based on Carl Hiaasen's book\, and includes a cameo by Jimmy Buffett as the high school science teacher. \nunitedflo
URL:https://mykeywestportal.com/event/florida-keys-wild-bird-rehabilitation-center-summer-movie-night-featuring-hoot/
LOCATION:Florida Keys Wild Bird Rehabilitation Center\, 93600 Overseas Hwy\, Tavernier\, FL\, 33070-281\, United States
CATEGORIES:Community
ATTACH;FMTTYPE=image/jpeg:https://mykeywestportal.com/wp-content/uploads/2024/05/hoot-MyKeyWestPortal.jpg
END:VEVENT
BEGIN:VEVENT
DTSTART;TZID=America/New_York:20240526T130000
DTEND;TZID=America/New_York:20240526T150000
DTSTAMP:20260424T071540
CREATED:20240418T144728Z
LAST-MODIFIED:20240418T144728Z
UID:7769-1716728400-1716735600@mykeywestportal.com
SUMMARY:Monroe County Sheriff’s Office Children’s Animal Farm
DESCRIPTION:The Monroe County Sheriff’s Office Children’s Animal Farm is located within the premises of the Monroe County Sheriff’s Office Stock Island Detention Center.\nManaged by the Sheriff’s Office\, the Animal Farm displays a wide variety of animals. \nTypical farm animals like: \n\nminiature horses\nAngus the steer\nchickens\npigs\ngoats\nrabbits\n\nExotic animals such as: \n\nMo the Sloth\na Kinkajou\nKelsey the Lemur\nalpacas (Snowflake\, Arabella\, Lilo\, and Stitch)\nan albino python\npeacocks\nnumerous tropical birds\n\nEstablished in 1994\, the farm initially occupied an open area beneath the jail facility. The Stock Island Detention Center\, built to withstand a Category Five Hurricane\, is elevated on stilts approximately 11 feet above ground level. \nBelow the building\, there is employee parking and a secure fenced area designated for inmate evacuation in case of a fire. It was in this initially unused gravel space within the evacuation area that the farm was established.
URL:https://mykeywestportal.com/event/monroe-county-sheriffs-office-childrens-animal-farm/
LOCATION:Monroe County Sheriff's Office Animal Farm\, 5501 College Road\, Key West\, FL\, 33040\, United States
CATEGORIES:Community
ATTACH;FMTTYPE=image/jpeg:https://mykeywestportal.com/wp-content/uploads/2024/04/Monroe-County-Sheriffs-Office-Childrens-Animal-Farm-MyKeyWestPortal.jpg
END:VEVENT
BEGIN:VEVENT
DTSTART;TZID=America/New_York:20240526T130000
DTEND;TZID=America/New_York:20240526T210000
DTSTAMP:20260424T071540
CREATED:20240523T215109Z
LAST-MODIFIED:20240523T215109Z
UID:7991-1716728400-1716757200@mykeywestportal.com
SUMMARY:Caribbean Club: Memorial Day Weekend BBQ to Benefit Disabled Veterans
DESCRIPTION:Join us at the Caribbean Club for the 2nd annual BBQ Fundraiser\, organized by the Lady’s Auxiliary of the American Legion Post 333\, supporting Team River Runner and their work with disabled veterans. All proceeds from the delicious food will benefit this important cause.\n\n\n\n\n\n\n\n\n\n\nEnjoy live music throughout the day\, starting with: \n\nEddie James at 1pm\nJenny Kelly at 3pm\nDead Bronco performing old school honky tonk from 5 to 9pm.\n\nThis event supports Team River Runner’s OuttaSight program\, where visually impaired veterans and their guides learn sea kayaking skills in Key Largo’s warm\, welcoming community. \nWhile the VA Adaptive Sports Grant Program covers some costs\, Team River Runner relies on community support for travel\, lodging\, and food. Come join us for a fun-filled Sunday with great food and music\, all for a wonderful cause.
URL:https://mykeywestportal.com/event/caribbean-club-memorial-day-weekend-bbq-to-benefit-disabled-veterans/
CATEGORIES:Community,Festival
ATTACH;FMTTYPE=image/jpeg:https://mykeywestportal.com/wp-content/uploads/2024/05/2nd-annual-BBQ-Fundraiser-MyKeyWestPortal.jpg
END:VEVENT
END:VCALENDAR