BEGIN:VCALENDAR
VERSION:2.0
PRODID:-//My Key West Portal is the Social Calendar for the Florida Keys and Key West - ECPv6.15.11//NONSGML v1.0//EN
CALSCALE:GREGORIAN
METHOD:PUBLISH
X-WR-CALNAME:My Key West Portal is the Social Calendar for the Florida Keys and Key West
X-ORIGINAL-URL:https://mykeywestportal.com
X-WR-CALDESC:Events for My Key West Portal is the Social Calendar for the Florida Keys and Key West
REFRESH-INTERVAL;VALUE=DURATION:PT1H
X-Robots-Tag:noindex
X-PUBLISHED-TTL:PT1H
BEGIN:VTIMEZONE
TZID:America/New_York
BEGIN:DAYLIGHT
TZOFFSETFROM:-0500
TZOFFSETTO:-0400
TZNAME:EDT
DTSTART:20230312T070000
END:DAYLIGHT
BEGIN:STANDARD
TZOFFSETFROM:-0400
TZOFFSETTO:-0500
TZNAME:EST
DTSTART:20231105T060000
END:STANDARD
BEGIN:DAYLIGHT
TZOFFSETFROM:-0500
TZOFFSETTO:-0400
TZNAME:EDT
DTSTART:20240310T070000
END:DAYLIGHT
BEGIN:STANDARD
TZOFFSETFROM:-0400
TZOFFSETTO:-0500
TZNAME:EST
DTSTART:20241103T060000
END:STANDARD
BEGIN:DAYLIGHT
TZOFFSETFROM:-0500
TZOFFSETTO:-0400
TZNAME:EDT
DTSTART:20250309T070000
END:DAYLIGHT
BEGIN:STANDARD
TZOFFSETFROM:-0400
TZOFFSETTO:-0500
TZNAME:EST
DTSTART:20251102T060000
END:STANDARD
END:VTIMEZONE
BEGIN:VEVENT
DTSTART;TZID=America/New_York:20240621T080000
DTEND;TZID=America/New_York:20240621T170000
DTSTAMP:20260424T065815
CREATED:20240621T215533Z
LAST-MODIFIED:20240621T215533Z
UID:8050-1718956800-1718989200@mykeywestportal.com
SUMMARY:Key West 4th of July Fireworks Celebration
DESCRIPTION:Since 1976\, the Rotary Club of Key West has hosted the island's annual fireworks display.\nThe show\, set to launch from the Edward B. Knight Pier at 1800 White St. overlooking the Atlantic Ocean\, begins at 9 p.m.\nA free Patriotic Party kicks off at 5 p.m. featuring music\, and food and drinks available for purchase\, including burgers and hot dogs. \nProceeds support the Rotary Club’s scholarship fund.
URL:https://mykeywestportal.com/event/key-west-4th-of-july-fireworks-celebration/
LOCATION:Edward B Knight/White Street Pier\, 1801 White Street\, Key West\, FL\, 33040\, United States
CATEGORIES:Community,Fundraiser
ATTACH;FMTTYPE=image/webp:https://mykeywestportal.com/wp-content/uploads/2024/06/Key-West-4th-of-July-Fireworks-Celebration.webp
END:VEVENT
BEGIN:VEVENT
DTSTART;TZID=America/New_York:20240621T080000
DTEND;TZID=America/New_York:20240621T170000
DTSTAMP:20260424T065815
CREATED:20240621T215831Z
LAST-MODIFIED:20240621T215831Z
UID:8053-1718956800-1718989200@mykeywestportal.com
SUMMARY:Key Largo 4th of July Parade
DESCRIPTION:Key Largo's 48th annual 4th of July Parade will be held from 10 a.m. to noon in the northbound lanes of US 1.\nThe parade features patriotically decorated floats\, including boats\, cars\, and bicycles\, with participation from local schools and community groups. \nThe route runs along US 1 from mile marker 98.2 at Anthony's clothing store north to the Diver's Direct plaza.  \nA longstanding tradition involves "Super Soaker" water guns\, with float participants spraying the crowd to help them "cool off." \nIf you prefer to stay dry\, it's best to stand towards the back of the viewing area along the highway.
URL:https://mykeywestportal.com/event/key-largo-4th-of-july-parade/
LOCATION:Key Largo\, Northbound Lane of US 1
CATEGORIES:Community,Festival
ATTACH;FMTTYPE=image/jpeg:https://mykeywestportal.com/wp-content/uploads/2024/06/Key-Largo-4th-of-July-Parade-MyKeyWestPortal.com_.jpeg
END:VEVENT
BEGIN:VEVENT
DTSTART;TZID=America/New_York:20240621T130000
DTEND;TZID=America/New_York:20240621T130000
DTSTAMP:20260424T065815
CREATED:20240620T212132Z
LAST-MODIFIED:20240620T212132Z
UID:8018-1718974800-1718974800@mykeywestportal.com
SUMMARY:John Pennekamp Coral Reef State Park: Learn About Coral Restoration
DESCRIPTION:Join the Coral Restoration Foundation team  in the John Pennekamp Coral Reef State Park Visitor Center auditorium for an insightful presentation on coral science and the restoration efforts in the Florida Keys.\n\n\n\n\n\n\n\n\n\n\n\n This event is free with regular park admission. \nLocated at mile marker 102.5.
URL:https://mykeywestportal.com/event/john-pennekamp-coral-reef-state-park-learn-about-coral-restoration/
LOCATION:John Pennekamp Coral Reef State Park\, Key Largo\, FL\, 33037\, United States
CATEGORIES:Community
ATTACH;FMTTYPE=image/jpeg:https://mykeywestportal.com/wp-content/uploads/2024/06/coral-restoration-MyKeyWestPortal.jpg
END:VEVENT
BEGIN:VEVENT
DTSTART;TZID=America/New_York:20240621T193000
DTEND;TZID=America/New_York:20240622T000000
DTSTAMP:20260424T065815
CREATED:20240620T211325Z
LAST-MODIFIED:20240620T211325Z
UID:8014-1718998200-1719014400@mykeywestportal.com
SUMMARY:Island Grill: Full Moon Party with Kiss Army Live
DESCRIPTION:Get ready to rock with "KISS Army" live in concert under the stars at Island Grill's upcoming Full Moon Party!\nThe KISS tribute band will perform iconic hits of the legendary group in full KISS makeup and costumes. \nTickets can be purchased online\, with VIP and Platinum service options available. Located at mile marker 85.5 on the oceanside.
URL:https://mykeywestportal.com/event/island-grill-full-moon-party-with-kiss-army-live/
LOCATION:Island Grill\, 85501 Overseas Highway\, Islamorada\, FL\, 33036\, United States
CATEGORIES:Community,Meet the Artist
ATTACH;FMTTYPE=image/jpeg:https://mykeywestportal.com/wp-content/uploads/2024/06/Kiss-Army-MyKeyWestPortal.com_.jpeg
END:VEVENT
END:VCALENDAR