BEGIN:VCALENDAR
VERSION:2.0
PRODID:-//My Key West Portal is the Social Calendar for the Florida Keys and Key West - ECPv6.15.11//NONSGML v1.0//EN
CALSCALE:GREGORIAN
METHOD:PUBLISH
X-ORIGINAL-URL:https://mykeywestportal.com
X-WR-CALDESC:Events for My Key West Portal is the Social Calendar for the Florida Keys and Key West
REFRESH-INTERVAL;VALUE=DURATION:PT1H
X-Robots-Tag:noindex
X-PUBLISHED-TTL:PT1H
BEGIN:VTIMEZONE
TZID:America/New_York
BEGIN:DAYLIGHT
TZOFFSETFROM:-0500
TZOFFSETTO:-0400
TZNAME:EDT
DTSTART:20230312T070000
END:DAYLIGHT
BEGIN:STANDARD
TZOFFSETFROM:-0400
TZOFFSETTO:-0500
TZNAME:EST
DTSTART:20231105T060000
END:STANDARD
BEGIN:DAYLIGHT
TZOFFSETFROM:-0500
TZOFFSETTO:-0400
TZNAME:EDT
DTSTART:20240310T070000
END:DAYLIGHT
BEGIN:STANDARD
TZOFFSETFROM:-0400
TZOFFSETTO:-0500
TZNAME:EST
DTSTART:20241103T060000
END:STANDARD
BEGIN:DAYLIGHT
TZOFFSETFROM:-0500
TZOFFSETTO:-0400
TZNAME:EDT
DTSTART:20250309T070000
END:DAYLIGHT
BEGIN:STANDARD
TZOFFSETFROM:-0400
TZOFFSETTO:-0500
TZNAME:EST
DTSTART:20251102T060000
END:STANDARD
END:VTIMEZONE
BEGIN:VEVENT
DTSTART;TZID=America/New_York:20240614T150000
DTEND;TZID=America/New_York:20240614T160000
DTSTAMP:20260424T065935
CREATED:20240417T161742Z
LAST-MODIFIED:20240417T161742Z
UID:7765-1718377200-1718380800@mykeywestportal.com
SUMMARY:Key West Landings- Paddlers\, Runners\, & Cyclist
DESCRIPTION:Come to Key West and join  in celebrating and welcoming our Castaways upon their arrival.\nThey'll be landing at Simonton Beach\, right by the Hyatt Centric. \nPaddlers are expected at 3 pm\, Runners at 3:45\, and Cyclists at 4:00.\nWe're coordinating the landings for one big celebration. We'd love for you to be a part of it in Key West!
URL:https://mykeywestportal.com/event/key-west-landings-paddlers-runners-cyclist/
LOCATION:Simonton Street Beach\, Simonton St\, Key West\, FL\, 33040\, United States
CATEGORIES:Community
ATTACH;FMTTYPE=image/jpeg:https://mykeywestportal.com/wp-content/uploads/2024/04/Key-West-Landings-Paddlers-Runners-Cyclist-MyKeyWestPortal.jpg
END:VEVENT
END:VCALENDAR