BEGIN:VCALENDAR
VERSION:2.0
PRODID:-//My Key West Portal is the Social Calendar for the Florida Keys and Key West - ECPv6.15.11//NONSGML v1.0//EN
CALSCALE:GREGORIAN
METHOD:PUBLISH
X-WR-CALNAME:My Key West Portal is the Social Calendar for the Florida Keys and Key West
X-ORIGINAL-URL:https://mykeywestportal.com
X-WR-CALDESC:Events for My Key West Portal is the Social Calendar for the Florida Keys and Key West
REFRESH-INTERVAL;VALUE=DURATION:PT1H
X-Robots-Tag:noindex
X-PUBLISHED-TTL:PT1H
BEGIN:VTIMEZONE
TZID:America/New_York
BEGIN:DAYLIGHT
TZOFFSETFROM:-0500
TZOFFSETTO:-0400
TZNAME:EDT
DTSTART:20230312T070000
END:DAYLIGHT
BEGIN:STANDARD
TZOFFSETFROM:-0400
TZOFFSETTO:-0500
TZNAME:EST
DTSTART:20231105T060000
END:STANDARD
BEGIN:DAYLIGHT
TZOFFSETFROM:-0500
TZOFFSETTO:-0400
TZNAME:EDT
DTSTART:20240310T070000
END:DAYLIGHT
BEGIN:STANDARD
TZOFFSETFROM:-0400
TZOFFSETTO:-0500
TZNAME:EST
DTSTART:20241103T060000
END:STANDARD
BEGIN:DAYLIGHT
TZOFFSETFROM:-0500
TZOFFSETTO:-0400
TZNAME:EDT
DTSTART:20250309T070000
END:DAYLIGHT
BEGIN:STANDARD
TZOFFSETFROM:-0400
TZOFFSETTO:-0500
TZNAME:EST
DTSTART:20251102T060000
END:STANDARD
END:VTIMEZONE
BEGIN:VEVENT
DTSTART;TZID=America/New_York:20240608T083000
DTEND;TZID=America/New_York:20240608T170000
DTSTAMP:20260424T065815
CREATED:20240318T214425Z
LAST-MODIFIED:20240318T214425Z
UID:7655-1717835400-1717866000@mykeywestportal.com
SUMMARY:Annual Swim Around Key West
DESCRIPTION:The Swim Around Key West!\nhosted by The College of the Florida Keys\noffers a safe open water event spanning 12.5 miles. \nStarting at Higgs Beach\, swimmers navigate through various points including the Key West Harbor\, Fleming Key Channel\, Sigsbee\, and Cow Key Bridge\, before finishing back at Higgs Beach. \nThe College of the Florida Keys has been organizing this race since 1986\, ensuring safety with lifeguards and safety boat rescue crews stationed along the course\, overseen by the Power Squadron.
URL:https://mykeywestportal.com/event/annual-swim-around-key-west/
LOCATION:Higgs Beach\, Key West\, FL\, 33040\, United States
CATEGORIES:Community
ATTACH;FMTTYPE=image/jpeg:https://mykeywestportal.com/wp-content/uploads/2024/03/Annual-swimaround-Key-West-MyKeyWestPortal.jpg
END:VEVENT
END:VCALENDAR