BEGIN:VCALENDAR
VERSION:2.0
PRODID:-//My Key West Portal is the Social Calendar for the Florida Keys and Key West - ECPv6.15.11//NONSGML v1.0//EN
CALSCALE:GREGORIAN
METHOD:PUBLISH
X-WR-CALNAME:My Key West Portal is the Social Calendar for the Florida Keys and Key West
X-ORIGINAL-URL:https://mykeywestportal.com
X-WR-CALDESC:Events for My Key West Portal is the Social Calendar for the Florida Keys and Key West
REFRESH-INTERVAL;VALUE=DURATION:PT1H
X-Robots-Tag:noindex
X-PUBLISHED-TTL:PT1H
BEGIN:VTIMEZONE
TZID:America/New_York
BEGIN:DAYLIGHT
TZOFFSETFROM:-0500
TZOFFSETTO:-0400
TZNAME:EDT
DTSTART:20230312T070000
END:DAYLIGHT
BEGIN:STANDARD
TZOFFSETFROM:-0400
TZOFFSETTO:-0500
TZNAME:EST
DTSTART:20231105T060000
END:STANDARD
BEGIN:DAYLIGHT
TZOFFSETFROM:-0500
TZOFFSETTO:-0400
TZNAME:EDT
DTSTART:20240310T070000
END:DAYLIGHT
BEGIN:STANDARD
TZOFFSETFROM:-0400
TZOFFSETTO:-0500
TZNAME:EST
DTSTART:20241103T060000
END:STANDARD
BEGIN:DAYLIGHT
TZOFFSETFROM:-0500
TZOFFSETTO:-0400
TZNAME:EDT
DTSTART:20250309T070000
END:DAYLIGHT
BEGIN:STANDARD
TZOFFSETFROM:-0400
TZOFFSETTO:-0500
TZNAME:EST
DTSTART:20251102T060000
END:STANDARD
END:VTIMEZONE
BEGIN:VEVENT
DTSTART;TZID=America/New_York:20240416T080000
DTEND;TZID=America/New_York:20240416T170000
DTSTAMP:20260424T033200
CREATED:20240416T161713Z
LAST-MODIFIED:20240416T161713Z
UID:7729-1713254400-1713286800@mykeywestportal.com
SUMMARY:Hemingway in A Funny Way
DESCRIPTION:Comedy Key West presents a unique tribute show to the humorous aspects of Ernest Hemingway's life and works. \nHosted by comedian James Scott Patterson\, the hour-long performance delves into Hemingway's childhood\, writing career\, adventures\, and penchant for drinking. \nSet just blocks away from Hemingway's former residence and his favorite bar\, Sloppy Joe’s\, the show blends tragic-comic elements with witty anecdotes. \nAttendees can enjoy a happy hour from 5:30 to 6:30\, featuring a complimentary glass of Hemingway’s preferred wine. \nJames Scott Patterson\, a seasoned standup comedian and writer\, brings his comedic talent to this entertaining exploration of one of Key West’s most iconic figures. \nComedy Club Key West \n 
URL:https://mykeywestportal.com/event/hemingway-in-a-funny-way/
LOCATION:Comedy Club Key West\, 218 Whitehead Street\, Key West\, FL\, 33040\, United States
CATEGORIES:Community
ATTACH;FMTTYPE=image/png:https://mykeywestportal.com/wp-content/uploads/2024/04/Hemingway-in-A-funnyWay-MyKeyWestPortal.com_.png
END:VEVENT
END:VCALENDAR