BEGIN:VCALENDAR
VERSION:2.0
PRODID:-//My Key West Portal is the Social Calendar for the Florida Keys and Key West - ECPv6.15.11//NONSGML v1.0//EN
CALSCALE:GREGORIAN
METHOD:PUBLISH
X-ORIGINAL-URL:https://mykeywestportal.com
X-WR-CALDESC:Events for My Key West Portal is the Social Calendar for the Florida Keys and Key West
REFRESH-INTERVAL;VALUE=DURATION:PT1H
X-Robots-Tag:noindex
X-PUBLISHED-TTL:PT1H
BEGIN:VTIMEZONE
TZID:America/New_York
BEGIN:DAYLIGHT
TZOFFSETFROM:-0500
TZOFFSETTO:-0400
TZNAME:EDT
DTSTART:20230312T070000
END:DAYLIGHT
BEGIN:STANDARD
TZOFFSETFROM:-0400
TZOFFSETTO:-0500
TZNAME:EST
DTSTART:20231105T060000
END:STANDARD
BEGIN:DAYLIGHT
TZOFFSETFROM:-0500
TZOFFSETTO:-0400
TZNAME:EDT
DTSTART:20240310T070000
END:DAYLIGHT
BEGIN:STANDARD
TZOFFSETFROM:-0400
TZOFFSETTO:-0500
TZNAME:EST
DTSTART:20241103T060000
END:STANDARD
BEGIN:DAYLIGHT
TZOFFSETFROM:-0500
TZOFFSETTO:-0400
TZNAME:EDT
DTSTART:20250309T070000
END:DAYLIGHT
BEGIN:STANDARD
TZOFFSETFROM:-0400
TZOFFSETTO:-0500
TZNAME:EST
DTSTART:20251102T060000
END:STANDARD
END:VTIMEZONE
BEGIN:VEVENT
DTSTART;TZID=America/New_York:20240330T090000
DTEND;TZID=America/New_York:20240330T110000
DTSTAMP:20260424T051801
CREATED:20240325T201253Z
LAST-MODIFIED:20240325T201253Z
UID:7694-1711789200-1711796400@mykeywestportal.com
SUMMARY:7th Annual Easter Egg Roll
DESCRIPTION:Prepare for an egg-cellent time at the 7th Annual Easter Egg Roll!\nPresented by the Key West Harry S. Truman Foundation!\nJoin  on the charming lawn of the historic Harry S. Truman Little White House for a morning filled with family-friendly fun and excitement. \nThis free event welcomes guests of all ages and offers a delightful array of entertainment. \nEngage your imagination with arts and crafts\, and embark on an exciting egg hunt adventure. \nBe sure to capture memories with the star of the show\, the Easter Bunny!
URL:https://mykeywestportal.com/event/7th-annual-easter-egg-roll/
LOCATION:Truman Little White House\, 111 Front Street\, Key West\, FL\, 33040\, United States
CATEGORIES:Community,Fundraiser
ATTACH;FMTTYPE=image/jpeg:https://mykeywestportal.com/wp-content/uploads/2024/03/7th-Annual-Easter-Egg-Roll-MyKeyWestPortal.jpg
END:VEVENT
BEGIN:VEVENT
DTSTART;TZID=America/New_York:20240330T100000
DTEND;TZID=America/New_York:20240330T140000
DTSTAMP:20260424T051801
CREATED:20240318T194409Z
LAST-MODIFIED:20240318T194409Z
UID:7623-1711792800-1711807200@mykeywestportal.com
SUMMARY:Easter Eggstravaganza @ Sigbee Park
DESCRIPTION:All MWR authorized patrons with a valid military ID are welcome to join for our Easter Eggstravaganza at the Sigsbee Community Center .\nThe Egg Hunt kicks off at 10:30 a.m. with the Easter Bunny making an appearance to mingle with attendees! \nAfter the hunt\, head to the USO food truck for complimentary food.\nEnjoy giveaways and crafts suitable for children of all ages.
URL:https://mykeywestportal.com/event/easter-eggstravaganza-sigbee-park/
LOCATION:Sigbee Park\, 913 Felton Rd\, Key West\, FL\, 33040\, United States
CATEGORIES:Community,Festival
ATTACH;FMTTYPE=image/jpeg:https://mykeywestportal.com/wp-content/uploads/2024/03/Easter-Eggstravaganza-at-SigbeePark-MyKeyWestPortal.jpg
END:VEVENT
BEGIN:VEVENT
DTSTART;TZID=America/New_York:20240330T120000
DTEND;TZID=America/New_York:20240330T150000
DTSTAMP:20260424T051801
CREATED:20240318T202250Z
LAST-MODIFIED:20240318T202250Z
UID:7627-1711800000-1711810800@mykeywestportal.com
SUMMARY:ADULT Easter Egg Hunt @ 22&Co
DESCRIPTION:Join  for our annual ADULT Easter Egg Hunt on Saturday!\nCheck-in begins at 12pm at 22&Co\, followed by the hunt throughout Aquaplex starting at 1pm.\nExpect fantastic prizes and don't forget to dress up – costumes are encouraged! \n This event is for ADULTS ONLY!
URL:https://mykeywestportal.com/event/adult-easter-egg-hunt-22co/
LOCATION:22&Co.\, 218 1/2 Duval St.\, Key West\, FL\, 33040\, United States
CATEGORIES:Community,Festival
ATTACH;FMTTYPE=image/jpeg:https://mykeywestportal.com/wp-content/uploads/2024/03/ADULT-Easter-Egg-Hunt-@-22Co-MyKeyWestPortal.jpg
END:VEVENT
BEGIN:VEVENT
DTSTART;TZID=America/New_York:20240330T170000
DTEND;TZID=America/New_York:20240330T200000
DTSTAMP:20260424T051801
CREATED:20240325T204008Z
LAST-MODIFIED:20240325T204008Z
UID:7704-1711818000-1711828800@mykeywestportal.com
SUMMARY:Dancing on the Keys @ The Studios of Key West
DESCRIPTION:"Dancing on the Keys" \nA Classical Music Happy Hour Soirée presented by The Music Room! \nJoin for an afternoon filled with musical delight as our talented young performers showcase the vibrant dance music of Chopin\, Moszkowski\, Piazzolla\, Heller\, Granados\, Tchaikovsky\, and more!  \nFrom elegant waltzes to spirited tangos\, this concert guarantees to get everyone moving and grooving. \nAdmission is complimentary\, courtesy of sponsors Mike and Jessica Downer of Key West Fine Wines\, who will also provide refreshing beverages and delicious bites.  \nAdditionally\, donations will be accepted to support Take Stock in Children\, an organization dedicated to empowering youth through education\, as part of the Music Room's commitment to "Kids Helping Kids."\nBring your loved ones and immerse yourselves in the joy of classical music in a relaxed and welcoming environment. \n Let's come together to celebrate the beauty of dance and contribute to a worthy cause!
URL:https://mykeywestportal.com/event/dancing-on-the-keys-the-studios-of-key-west/
LOCATION:The Studios of Key West\, 533 Eaton St.\, Key West\, FL\, 33040\, United States
CATEGORIES:Community,Fundraiser
ATTACH;FMTTYPE=image/jpeg:https://mykeywestportal.com/wp-content/uploads/2024/03/dancing-on-the-keys-MyKeyWestPortal.jpg
END:VEVENT
END:VCALENDAR