BEGIN:VCALENDAR
VERSION:2.0
PRODID:-//My Key West Portal is the Social Calendar for the Florida Keys and Key West - ECPv6.15.11//NONSGML v1.0//EN
CALSCALE:GREGORIAN
METHOD:PUBLISH
X-WR-CALNAME:My Key West Portal is the Social Calendar for the Florida Keys and Key West
X-ORIGINAL-URL:https://mykeywestportal.com
X-WR-CALDESC:Events for My Key West Portal is the Social Calendar for the Florida Keys and Key West
REFRESH-INTERVAL;VALUE=DURATION:PT1H
X-Robots-Tag:noindex
X-PUBLISHED-TTL:PT1H
BEGIN:VTIMEZONE
TZID:America/New_York
BEGIN:DAYLIGHT
TZOFFSETFROM:-0500
TZOFFSETTO:-0400
TZNAME:EDT
DTSTART:20230312T070000
END:DAYLIGHT
BEGIN:STANDARD
TZOFFSETFROM:-0400
TZOFFSETTO:-0500
TZNAME:EST
DTSTART:20231105T060000
END:STANDARD
BEGIN:DAYLIGHT
TZOFFSETFROM:-0500
TZOFFSETTO:-0400
TZNAME:EDT
DTSTART:20240310T070000
END:DAYLIGHT
BEGIN:STANDARD
TZOFFSETFROM:-0400
TZOFFSETTO:-0500
TZNAME:EST
DTSTART:20241103T060000
END:STANDARD
BEGIN:DAYLIGHT
TZOFFSETFROM:-0500
TZOFFSETTO:-0400
TZNAME:EDT
DTSTART:20250309T070000
END:DAYLIGHT
BEGIN:STANDARD
TZOFFSETFROM:-0400
TZOFFSETTO:-0500
TZNAME:EST
DTSTART:20251102T060000
END:STANDARD
END:VTIMEZONE
BEGIN:VEVENT
DTSTART;TZID=America/New_York:20240321T140000
DTEND;TZID=America/New_York:20240321T190000
DTSTAMP:20260424T051609
CREATED:20240318T175610Z
LAST-MODIFIED:20240318T175610Z
UID:7587-1711029600-1711047600@mykeywestportal.com
SUMMARY:Truman Waterfront Farmers Market
DESCRIPTION:The Key West Farmers Market offers a diverse range of vendors every week\, including fresh produce\, artisanal goods\, food trucks\, and more.\nVisitors can also explore nearby attractions like the: \nUSCG Ingham Museum \nTruman Waterfront Park \nFort Zachary Taylor Historic State Park \nPets are welcome\, and there are restrooms and picnic areas available.\nVisitors are encouraged to bring their own blankets and chairs for comfort and sustainability is emphasized with a zero-waste policy and a ban on single-use plastics. \nVolunteers are welcome to help ensure everyone has a great experience.
URL:https://mykeywestportal.com/event/truman-waterfront-farmers-market/
LOCATION:Truman Waterfront Park Amphitheater\, 21 Quay Rd\, Key West\, FL\, 33040\, United States
CATEGORIES:Market
ATTACH;FMTTYPE=image/jpeg:https://mykeywestportal.com/wp-content/uploads/2024/03/Truman-Waterfron-Farmers-Market-mykeywestportal.jpg
END:VEVENT
BEGIN:VEVENT
DTSTART;TZID=America/New_York:20240328T170000
DTEND;TZID=America/New_York:20240328T190000
DTSTAMP:20260424T051609
CREATED:20240325T194019Z
LAST-MODIFIED:20240325T194019Z
UID:7682-1711645200-1711652400@mykeywestportal.com
SUMMARY:The Connections Project: Making Music in the Keys
DESCRIPTION:The Florida Keys Council of the Arts presents "The Connections Project: Making Music in the Keys"  at the Lower Keys Chamber of Commerce Event Grounds in Big Pine Key.\nThe event will feature complimentary hors d’oeuvres and beverages sponsored by local businesses. This year\, in addition to showcasing canvases from local artists\, the focus will be on Musicians of the Keys. \nThe reception will include performances by local musicians Brian Roberts and the Mike Bailey Trio in a Nashville-style writers’ round. \nAttendees can also view 58 unique canvases on display and have the opportunity to take one home by donating $100. \nProceeds from the event benefit Keys artists and arts organizations through Arts Council grants. For more information\, visit keysarts.com or call 305-295-4369.
URL:https://mykeywestportal.com/event/the-connections-project-making-music-in-the-keys/
LOCATION:Lower Keys Chamber of Commerce\, 31020 Overseas Hwy\, Big Pine Key\, FL\, 33043\, United States
CATEGORIES:Community,Fundraiser,Meet the Artist
ATTACH;FMTTYPE=image/jpeg:https://mykeywestportal.com/wp-content/uploads/2024/03/The-Connections-Project-Making-Music-in-the-Keys-MyKeyWestPortal.jpg
END:VEVENT
BEGIN:VEVENT
DTSTART;TZID=America/New_York:20240328T173000
DTEND;TZID=America/New_York:20240328T210000
DTSTAMP:20260424T051609
CREATED:20240318T190807Z
LAST-MODIFIED:20240318T190807Z
UID:7612-1711647000-1711659600@mykeywestportal.com
SUMMARY:Women of Integrity and Men of Valor Honoree Dinner
DESCRIPTION:This year\, we are honoring 9 remarkable individuals and one couple for their outstanding contributions to the community.\nAll proceeds from the event will benefit Samuel’s House\, offering shelter and support services to women\, women with children\, men\, and intact families in times of need\, assisting them to successfully transition to permanent housing. \n \n 
URL:https://mykeywestportal.com/event/women-of-integrity-and-men-of-valor-honoree-dinner/
LOCATION:Key West Marriott Beachside\, Tavern N Town 3841 N Roosevelt Blvd\, Key West\, FL\, 33040\, United States
CATEGORIES:Fundraiser
END:VEVENT
END:VCALENDAR