BEGIN:VCALENDAR
VERSION:2.0
PRODID:-//My Key West Portal is the Social Calendar for the Florida Keys and Key West - ECPv6.15.11//NONSGML v1.0//EN
CALSCALE:GREGORIAN
METHOD:PUBLISH
X-WR-CALNAME:My Key West Portal is the Social Calendar for the Florida Keys and Key West
X-ORIGINAL-URL:https://mykeywestportal.com
X-WR-CALDESC:Events for My Key West Portal is the Social Calendar for the Florida Keys and Key West
REFRESH-INTERVAL;VALUE=DURATION:PT1H
X-Robots-Tag:noindex
X-PUBLISHED-TTL:PT1H
BEGIN:VTIMEZONE
TZID:America/Halifax
BEGIN:DAYLIGHT
TZOFFSETFROM:-0400
TZOFFSETTO:-0300
TZNAME:ADT
DTSTART:20180311T060000
END:DAYLIGHT
BEGIN:STANDARD
TZOFFSETFROM:-0300
TZOFFSETTO:-0400
TZNAME:AST
DTSTART:20181104T050000
END:STANDARD
BEGIN:DAYLIGHT
TZOFFSETFROM:-0400
TZOFFSETTO:-0300
TZNAME:ADT
DTSTART:20190310T060000
END:DAYLIGHT
BEGIN:STANDARD
TZOFFSETFROM:-0300
TZOFFSETTO:-0400
TZNAME:AST
DTSTART:20191103T050000
END:STANDARD
BEGIN:DAYLIGHT
TZOFFSETFROM:-0400
TZOFFSETTO:-0300
TZNAME:ADT
DTSTART:20200308T060000
END:DAYLIGHT
BEGIN:STANDARD
TZOFFSETFROM:-0300
TZOFFSETTO:-0400
TZNAME:AST
DTSTART:20201101T050000
END:STANDARD
END:VTIMEZONE
BEGIN:VEVENT
DTSTART;TZID=America/Halifax:20190415T200000
DTEND;TZID=America/Halifax:20190415T200000
DTSTAMP:20260424T182905
CREATED:20180730T135041Z
LAST-MODIFIED:20180730T135041Z
UID:4890-1555358400-1555358400@mykeywestportal.com
SUMMARY:RENT
DESCRIPTION:Don't miss out on this wonderful performance of RENT!\n"In 1996\, an original rock musical by a little-known composer opened on Broadway… and forever changed the landscape of American theatre. Two decades later\, Jonathan Larson’s RENT - Musical continues to speak loudly and defiantly to audiences across generations and all over the world. And now\, this Pulitzer Prize and Tony Award®-winning masterpiece returns to the stage in a vibrant 20th anniversary touring production. \nA re-imagining of Puccini’s La Bohème\, RENT follows an unforgettable year in the lives of seven artists struggling to follow their dreams without selling out. With its inspiring message of joy and hope in the face of fear\, this timeless celebration of friendship and creativity reminds us to measure our lives with the only thing that truly matters—love." \nPurchase ticket at the link below!
URL:https://mykeywestportal.com/event/rent/
LOCATION:Tennessee Williams Theatre\, 5901 College Road\, Key West\, FL\, 33040\, United States
END:VEVENT
END:VCALENDAR