BEGIN:VCALENDAR
VERSION:2.0
PRODID:-//My Key West Portal is the Social Calendar for the Florida Keys and Key West - ECPv6.15.11//NONSGML v1.0//EN
CALSCALE:GREGORIAN
METHOD:PUBLISH
X-ORIGINAL-URL:https://mykeywestportal.com
X-WR-CALDESC:Events for My Key West Portal is the Social Calendar for the Florida Keys and Key West
REFRESH-INTERVAL;VALUE=DURATION:PT1H
X-Robots-Tag:noindex
X-PUBLISHED-TTL:PT1H
BEGIN:VTIMEZONE
TZID:America/Halifax
BEGIN:DAYLIGHT
TZOFFSETFROM:-0400
TZOFFSETTO:-0300
TZNAME:ADT
DTSTART:20180311T060000
END:DAYLIGHT
BEGIN:STANDARD
TZOFFSETFROM:-0300
TZOFFSETTO:-0400
TZNAME:AST
DTSTART:20181104T050000
END:STANDARD
BEGIN:DAYLIGHT
TZOFFSETFROM:-0400
TZOFFSETTO:-0300
TZNAME:ADT
DTSTART:20190310T060000
END:DAYLIGHT
BEGIN:STANDARD
TZOFFSETFROM:-0300
TZOFFSETTO:-0400
TZNAME:AST
DTSTART:20191103T050000
END:STANDARD
BEGIN:DAYLIGHT
TZOFFSETFROM:-0400
TZOFFSETTO:-0300
TZNAME:ADT
DTSTART:20200308T060000
END:DAYLIGHT
BEGIN:STANDARD
TZOFFSETFROM:-0300
TZOFFSETTO:-0400
TZNAME:AST
DTSTART:20201101T050000
END:STANDARD
END:VTIMEZONE
BEGIN:VEVENT
DTSTART;TZID=America/Halifax:20190407T100000
DTEND;TZID=America/Halifax:20190407T140000
DTSTAMP:20260424T183045
CREATED:20181228T180759Z
LAST-MODIFIED:20181228T183232Z
UID:5860-1554631200-1554645600@mykeywestportal.com
SUMMARY:Artisan Market
DESCRIPTION:Artisan Market: Ocean Awareness Edition \n\nVisit and buy from local artisans.\nCulinary delights\,\nTextile\,\nJewelry\,\nWood\,\nArtists and Crafters\,\nCuriosities\n\nLive variety show\, celebrity guest BEERtenders\, wine sampling and lots of great\, fresh food. \nThe focus will be on awareness of our delicate ocean and interpretation by local artists. This is the last KWAM of the 2018/2019 season. \nGuests are encouraged to go green and ride bikes\, take the bus or hop on the trolley which conveniently stops at the Casa Marina. But if you need to drive (to haul away all your goodies)\, there's ample parking and marked handicapped spots. Please BYOB (bring your own bags).
URL:https://mykeywestportal.com/event/artisan-market/
LOCATION:Higgs Beach\, Key West\, FL\, 33040\, United States
CATEGORIES:Meet the Artist,Outdoor Shopping
ATTACH;FMTTYPE=image/jpeg:https://mykeywestportal.com/wp-content/uploads/2018/12/Artisan_Market_Ocean_Awarenes_MyKeyWestEvents_Key_West_Events.jpg
END:VEVENT
END:VCALENDAR