BEGIN:VCALENDAR
VERSION:2.0
PRODID:-//My Key West Portal is the Social Calendar for the Florida Keys and Key West - ECPv6.15.11//NONSGML v1.0//EN
CALSCALE:GREGORIAN
METHOD:PUBLISH
X-WR-CALNAME:My Key West Portal is the Social Calendar for the Florida Keys and Key West
X-ORIGINAL-URL:https://mykeywestportal.com
X-WR-CALDESC:Events for My Key West Portal is the Social Calendar for the Florida Keys and Key West
REFRESH-INTERVAL;VALUE=DURATION:PT1H
X-Robots-Tag:noindex
X-PUBLISHED-TTL:PT1H
BEGIN:VTIMEZONE
TZID:America/Halifax
BEGIN:DAYLIGHT
TZOFFSETFROM:-0400
TZOFFSETTO:-0300
TZNAME:ADT
DTSTART:20170312T060000
END:DAYLIGHT
BEGIN:STANDARD
TZOFFSETFROM:-0300
TZOFFSETTO:-0400
TZNAME:AST
DTSTART:20171105T050000
END:STANDARD
BEGIN:DAYLIGHT
TZOFFSETFROM:-0400
TZOFFSETTO:-0300
TZNAME:ADT
DTSTART:20180311T060000
END:DAYLIGHT
BEGIN:STANDARD
TZOFFSETFROM:-0300
TZOFFSETTO:-0400
TZNAME:AST
DTSTART:20181104T050000
END:STANDARD
BEGIN:DAYLIGHT
TZOFFSETFROM:-0400
TZOFFSETTO:-0300
TZNAME:ADT
DTSTART:20190310T060000
END:DAYLIGHT
BEGIN:STANDARD
TZOFFSETFROM:-0300
TZOFFSETTO:-0400
TZNAME:AST
DTSTART:20191103T050000
END:STANDARD
END:VTIMEZONE
BEGIN:VEVENT
DTSTART;TZID=America/Halifax:20181207T100000
DTEND;TZID=America/Halifax:20181207T230000
DTSTAMP:20260424T132220
CREATED:20180716T143929Z
LAST-MODIFIED:20180716T143929Z
UID:4511-1544176800-1544223600@mykeywestportal.com
SUMMARY:Meet Alexei Butirskiy at Key West Gallery
DESCRIPTION:Come see Alexei Butirskiy's art during this 3 day event!\nKey West Gallery is hosting the world's largest collection of Alexei's original paintings and limited edition pieces. \nAlong with the art showing\, Alexei will paint live so that clients will be able to witness how his masterpieces are made. \nRSVP today by calling 305-292-9339 or by registering online at the website below
URL:https://mykeywestportal.com/event/meet-alexei-butirskiy-at-key-west-gallery/
LOCATION:Key West Gallery\, 601 Duval Street\, Key West\, FL\, 33040\, United States
ATTACH;FMTTYPE=image/jpeg:https://mykeywestportal.com/wp-content/uploads/2018/07/AlexeiButirskiy_KeyWest_ArtGallery.jpg
END:VEVENT
END:VCALENDAR