BEGIN:VCALENDAR
VERSION:2.0
PRODID:-//My Key West Portal is the Social Calendar for the Florida Keys and Key West - ECPv6.15.11//NONSGML v1.0//EN
CALSCALE:GREGORIAN
METHOD:PUBLISH
X-WR-CALNAME:My Key West Portal is the Social Calendar for the Florida Keys and Key West
X-ORIGINAL-URL:https://mykeywestportal.com
X-WR-CALDESC:Events for My Key West Portal is the Social Calendar for the Florida Keys and Key West
REFRESH-INTERVAL;VALUE=DURATION:PT1H
X-Robots-Tag:noindex
X-PUBLISHED-TTL:PT1H
BEGIN:VTIMEZONE
TZID:America/Halifax
BEGIN:DAYLIGHT
TZOFFSETFROM:-0400
TZOFFSETTO:-0300
TZNAME:ADT
DTSTART:20170312T060000
END:DAYLIGHT
BEGIN:STANDARD
TZOFFSETFROM:-0300
TZOFFSETTO:-0400
TZNAME:AST
DTSTART:20171105T050000
END:STANDARD
BEGIN:DAYLIGHT
TZOFFSETFROM:-0400
TZOFFSETTO:-0300
TZNAME:ADT
DTSTART:20180311T060000
END:DAYLIGHT
BEGIN:STANDARD
TZOFFSETFROM:-0300
TZOFFSETTO:-0400
TZNAME:AST
DTSTART:20181104T050000
END:STANDARD
BEGIN:DAYLIGHT
TZOFFSETFROM:-0400
TZOFFSETTO:-0300
TZNAME:ADT
DTSTART:20190310T060000
END:DAYLIGHT
BEGIN:STANDARD
TZOFFSETFROM:-0300
TZOFFSETTO:-0400
TZNAME:AST
DTSTART:20191103T050000
END:STANDARD
END:VTIMEZONE
BEGIN:VEVENT
DTSTART;VALUE=DATE:20181019
DTEND;VALUE=DATE:20181020
DTSTAMP:20260424T083641
CREATED:20180920T155709Z
LAST-MODIFIED:20180920T155709Z
UID:5443-1539921600-1539993599@mykeywestportal.com
SUMMARY:Dress Like Elvis Discount
DESCRIPTION:Fantasy Fest 2018\nOh\, The Games We Play\nDress Like Elvis\n15% off for everyone who dresses like elvis
URL:https://mykeywestportal.com/event/dress-like-elvis-discount/
LOCATION:Two Friends Patio Restaurant\, 512 Front St
ATTACH;FMTTYPE=image/jpeg:https://mykeywestportal.com/wp-content/uploads/2018/09/DressLikeElvis_TwoFriends_FantasyFest.jpg
END:VEVENT
BEGIN:VEVENT
DTSTART;TZID=America/Halifax:20180822T080000
DTEND;TZID=America/Halifax:20180822T080000
DTSTAMP:20260424T083641
CREATED:20180820T181939Z
LAST-MODIFIED:20180820T181939Z
UID:5050-1534924800-1534924800@mykeywestportal.com
SUMMARY:Plogging the Keys
DESCRIPTION:Plogging is the process of picking up litter while exercising! \nHow to prepare: \n\nBe prepared to get dirty\nWear good shoes\nJoin or start a group\nWalk\, jog\, swim\, bike...and PLOG!\n\nWeekly\, everyone will meet up at the White St. Pier and take a walk to anew path. \nThis is a great opportunity to make a difference\, exercise\, and socialize with like-minded individuals!
URL:https://mykeywestportal.com/event/plogging-the-keys/
LOCATION:White Street Pier\, 1800 White St.\, Key West\, FL\, 33040\, United States
ATTACH;FMTTYPE=image/jpeg:https://mykeywestportal.com/wp-content/uploads/2018/08/PloggingTheKeys_KeyWest.jpg
ORGANIZER;CN="Dee Dee Green":MAILTO:dgreen@cityofkeywest-fl.gov
END:VEVENT
BEGIN:VEVENT
DTSTART;TZID=America/Halifax:20180912T090000
DTEND;TZID=America/Halifax:20180912T103000
DTSTAMP:20260424T083641
CREATED:20180907T184651Z
LAST-MODIFIED:20180907T184651Z
UID:5282-1536742800-1536748200@mykeywestportal.com
SUMMARY:Preschool Playdate
DESCRIPTION:Wednesday Preschool Playdate!\nOpen gym\, bars\, ropes\, trampolines\, and more... \nA great play date for both parents and kids! \nAges: 2-6 yrs \n 
URL:https://mykeywestportal.com/event/preschool-playdate/
LOCATION:Key West Sports Academy\, 700 Truman Ave\, Key West\, FL\, 33040\, United States
ATTACH;FMTTYPE=image/jpeg:https://mykeywestportal.com/wp-content/uploads/2018/09/PreschoolPlaydate_Wednesday_KWSA.jpg
ORGANIZER;CN="Key West Sports Academy":MAILTO:parties@keywestsportsacademy.com
END:VEVENT
BEGIN:VEVENT
DTSTART;TZID=America/Halifax:20180627T090000
DTEND;TZID=America/Halifax:20180627T140000
DTSTAMP:20260424T083641
CREATED:20180625T191532Z
LAST-MODIFIED:20180626T154740Z
UID:4026-1530090000-1530108000@mykeywestportal.com
SUMMARY:Farmer's Market
DESCRIPTION:Weekly Farmer's Market!\n\nThe cheese lady\, Produce\nRibs\nKombucha\nPopcorn\nOrchids\nCrafts\nBread\nSo much more..
URL:https://mykeywestportal.com/event/farmers-market/
LOCATION:Sugarloaf Lodge\, 17001 Overseas Hwy\, Key West\, FL\, 33040\, United States
ATTACH;FMTTYPE=image/jpeg:https://mykeywestportal.com/wp-content/uploads/2018/06/FarmersMarket_Sugarloaf.jpg
END:VEVENT
BEGIN:VEVENT
DTSTART;TZID=America/Halifax:20181031T090000
DTEND;TZID=America/Halifax:20181031T230000
DTSTAMP:20260424T083641
CREATED:20180820T133829Z
LAST-MODIFIED:20180820T133829Z
UID:5019-1540976400-1541026800@mykeywestportal.com
SUMMARY:MOTM Parrot Heads in Paradise
DESCRIPTION:Meeting of the Minds Convention!\n*Must be a member of the Parrot Head Club to register for this convention\n**Registration link listed below \n\n9am - 11:30am\n\nCalypso Nuts Gift Bag Stuffing \n\nEntertainment featuring Lynley Tolls and Robbie Meade\nCasa Marina Ballroom\n\n\n\n\n10am - 12pm\n\nCharlie Imes & Friends\n\nCasa Marina Beach Stage\n\n\n\n\n12pm - 2pm\n\nJames T Slater Trio\n\nTwo time Grammy nominated singer/songwriter\nCasa Marina Beach Stage\n\n\n\n\n2pm - 4pm\n\nJerry Diaz and Friends\n\nCasa Marina Beach Stage\n\n\n\n\n4pm - 6pm\n\nThe Sunny Jim Band\n\n20th year at MOTM!\nCasa Marina Beach Stage\n\n\n\n\n6:30pm  - 8pm\n\nSteve Hopper and the Wolf Island Band\n\nCasa Marina Main Stage\n\n\n\n\n8pm - 8:30pm\n\nHalloween Contest\n\nPrizes will be awarded\nCasa Marina Main Stage\n\n\n\n\n8:30pm - 11pm\n\nBig Bamboo Band with special guests\n\nWelcome to Key West Party\nCasa Marina Main Stage\n\n\n\n\n\n 
URL:https://mykeywestportal.com/event/motm-parrot-heads-in-paradise/
LOCATION:Casa Marina\, 1500 Reynolds St\, Key West\, FL\, 33040\, United States
ATTACH;FMTTYPE=image/png:https://mykeywestportal.com/wp-content/uploads/2018/08/ParrotHeadsInParadise_CasaMarina_KeyWest.png
END:VEVENT
BEGIN:VEVENT
DTSTART;TZID=America/Halifax:20181029T110000
DTEND;TZID=America/Halifax:20181029T210000
DTSTAMP:20260424T083641
CREATED:20180729T200817Z
LAST-MODIFIED:20180729T200817Z
UID:4863-1540810800-1540846800@mykeywestportal.com
SUMMARY:MOTM Pit Stop Party Tour
DESCRIPTION:Phollow The Phlock 2018\n**MOTM: Meeting of the Minds \n"The ‘Phollow The Phlock’ Pit Stop Party Tour provides our premium sponsors with the ability to focus the considerable 'Parrot Head' purchasing potential on their products\, services\, and locations. The 'Tour' kicks off above Tampa and rolls down the 'Tamiami Trail' through Cape Coral\, Naples\, Fort Myers down US 1/Florida Highway A1A to Key Largo and Islamorada and all the way to Key West.\nThe Parrot Heads\, 'Trop Rock' Music Fans and Musicians following the 'Phlock' with us will be introduced to and continually exposed to our sponsoring brands to encourage the consumption and purchase of the products\, services\, and activities mentioned\, displayed and broadcast at each event site. For nine full days of 'Phlocking'\, Radio A1A will be incorporating Tropical Music\, Radio Streamcasts\, Event Updates\, Product Display/Demonstrations and the Charitable efforts of the 'Phlock' into our programming… as the Parrot Heads visit every 'Pit Stop' and ‘Party With A Purpose”’ along the way and during their annual convention\, ‘Meeting Of The Minds’ ( M.O.T.M.) in Key West."
URL:https://mykeywestportal.com/event/motm-pit-stop-party-tour/
LOCATION:Caribbean Club\, 104080 Overseas Hwy\, Key Largo\, FL\, 33037\, United States
END:VEVENT
BEGIN:VEVENT
DTSTART;TZID=America/Halifax:20180704T130000
DTEND;TZID=America/Halifax:20180704T150000
DTSTAMP:20260424T083641
CREATED:20180619T163236Z
LAST-MODIFIED:20180619T163236Z
UID:3739-1530709200-1530716400@mykeywestportal.com
SUMMARY:Tiki Cocktail Class
DESCRIPTION:Learn how to make authentic tiki cocktails\nThe workshop is an intimate 2-hour experience where you will be guided through the fundamentals of tiki mixology while also learning a bit about tiki culture. \n\nYou will learn\n\nHow to do a proper rum tasting\nHow to light drinks on fire\nMake one of the first recorded rum cocktails from the 1800s\nMake one of the most famous tiki libations - the Mai Tai\n\n\n\nAdmission price includes 1 rum tasting and 4 cocktails \n\nmust be registered by 11am \, 2 hours before the class\n\n**Max of 6 people per class \n**Accommodations can be made if you want to learn another day\, just send a message over facebook
URL:https://mykeywestportal.com/event/tiki-cocktail-class/
LOCATION:Tiki House Key West\, 430 Greene St\, Key West\, FL\, 33040\, United States
ATTACH;FMTTYPE=image/jpeg:https://mykeywestportal.com/wp-content/uploads/2018/06/Tiki_bar_cocktail_classes_wednesday_key_west.jpg
END:VEVENT
BEGIN:VEVENT
DTSTART;TZID=America/Halifax:20180718T161500
DTEND;TZID=America/Halifax:20180718T171500
DTSTAMP:20260424T083641
CREATED:20180630T154021Z
LAST-MODIFIED:20180630T154021Z
UID:4215-1531930500-1531934100@mykeywestportal.com
SUMMARY:Younger Kids Capoeira Gymnastics
DESCRIPTION:Weekly Tumbling Classes \nWhat’s included: \n\nPhysical activity\, creative and dramatic play\, and music are key to lifelong and personal success.\nA rich combination of dance\, acrobatics\, self-defense techniques and music\, capoeira is a uniquely effective tool for activating the minds and bodies of children of all ages.\n\nPromotes physical fitness and health by increasing strength\, flexibility\, and endurance.\n\n\n\n  \nWednesday: 18 mos. - 3 yrs \n"Capoeira Tumbling – An Afro- Brazilian Martial Art that cultivates self- transformation through physical\, mental\, and spiritual Reiki.Combining dance\, and self-defense\, it builds gymnastic skills and flexibility\, strength and a heightened awareness of one’s body. Practiced to the rhythm of ancient African instruments\, Capoeira encourages self-expression and resourcefulness--- it is an intense fitness program that can be adapted to any body or physical ability." \nhttps://www.facebook.com/events/240225256560108/?event_time_id=240229263226374
URL:https://mykeywestportal.com/event/younger-kids-capoeira-gymnastics/
LOCATION:Spirit Play Gymnasium\, 5800 Overseas Hwy\, Ste 40\, Marathon\, FL\, 33050\, United States
ATTACH;FMTTYPE=image/jpeg:https://mykeywestportal.com/wp-content/uploads/2018/06/SpiritPlayGymnasium_MarathonFlorida.jpg
END:VEVENT
BEGIN:VEVENT
DTSTART;TZID=America/Halifax:20181031T170000
DTEND;TZID=America/Halifax:20181031T190000
DTSTAMP:20260424T083641
CREATED:20180716T134757Z
LAST-MODIFIED:20180716T134757Z
UID:4480-1541005200-1541012400@mykeywestportal.com
SUMMARY:Jerry Diaz's Sunset Booze Cruise
DESCRIPTION:Sail with Sebago on a 2 hour sunset cruise with Jerry Diaz and Mike Nash! \nUnlimited drinks and food are included with ticket \nTo book or to find out more information\, call 305-676-7234
URL:https://mykeywestportal.com/event/jerry-diazs-sunset-booze-cruise/
LOCATION:Sebago\, 205 Elizabeth St.\, Unit i\, Key West\, FL\, 33040\, United States
ATTACH;FMTTYPE=image/jpeg:https://mykeywestportal.com/wp-content/uploads/2018/07/Sebago_Sunset_Booze_Cruize_JerryDiaz_KeyWest.jpg
END:VEVENT
BEGIN:VEVENT
DTSTART;TZID=America/Halifax:20180725T180000
DTEND;TZID=America/Halifax:20180725T200000
DTSTAMP:20260424T083641
CREATED:20180720T181803Z
LAST-MODIFIED:20180720T181825Z
UID:4647-1532541600-1532548800@mykeywestportal.com
SUMMARY:Family Fried Chicken Night
DESCRIPTION:Night Fried Chicken Night!\nMatt's Stock Island Kitchen\, The Perry Hotel\nWhat's included: \n\nFried chicken\nCornbread mash\nCitrus coleslaw\nRoasted corn on the cob\n\nAvailable for additional purchase: \n\nCraft beers on tap\nCraft cocktail's\nCraft beer growlers\nHappy hour drink specials from 6pm-8pm
URL:https://mykeywestportal.com/event/family-fried-chicken-night/
LOCATION:The Perry Hotel\, 7001 Shrimp Rd\, Key West\, FL\, 33040\, United States
ATTACH;FMTTYPE=image/jpeg:https://mykeywestportal.com/wp-content/uploads/2018/07/FamiltFriedChickenNight_ThePerryHotel_KeyWest.jpg
END:VEVENT
END:VCALENDAR