BEGIN:VCALENDAR
VERSION:2.0
PRODID:-//My Key West Portal is the Social Calendar for the Florida Keys and Key West - ECPv6.15.11//NONSGML v1.0//EN
CALSCALE:GREGORIAN
METHOD:PUBLISH
X-WR-CALNAME:My Key West Portal is the Social Calendar for the Florida Keys and Key West
X-ORIGINAL-URL:https://mykeywestportal.com
X-WR-CALDESC:Events for My Key West Portal is the Social Calendar for the Florida Keys and Key West
REFRESH-INTERVAL;VALUE=DURATION:PT1H
X-Robots-Tag:noindex
X-PUBLISHED-TTL:PT1H
BEGIN:VTIMEZONE
TZID:America/Halifax
BEGIN:DAYLIGHT
TZOFFSETFROM:-0400
TZOFFSETTO:-0300
TZNAME:ADT
DTSTART:20170312T060000
END:DAYLIGHT
BEGIN:STANDARD
TZOFFSETFROM:-0300
TZOFFSETTO:-0400
TZNAME:AST
DTSTART:20171105T050000
END:STANDARD
BEGIN:DAYLIGHT
TZOFFSETFROM:-0400
TZOFFSETTO:-0300
TZNAME:ADT
DTSTART:20180311T060000
END:DAYLIGHT
BEGIN:STANDARD
TZOFFSETFROM:-0300
TZOFFSETTO:-0400
TZNAME:AST
DTSTART:20181104T050000
END:STANDARD
BEGIN:DAYLIGHT
TZOFFSETFROM:-0400
TZOFFSETTO:-0300
TZNAME:ADT
DTSTART:20190310T060000
END:DAYLIGHT
BEGIN:STANDARD
TZOFFSETFROM:-0300
TZOFFSETTO:-0400
TZNAME:AST
DTSTART:20191103T050000
END:STANDARD
END:VTIMEZONE
BEGIN:VEVENT
DTSTART;TZID=America/Halifax:20181012T110000
DTEND;TZID=America/Halifax:20181012T140000
DTSTAMP:20260424T083657
CREATED:20180917T162948Z
LAST-MODIFIED:20180917T162948Z
UID:5419-1539342000-1539352800@mykeywestportal.com
SUMMARY:Costume Swap!
DESCRIPTION:1st Ever Costume Swap!\n\nBring your old and gently used kids costumes and accessories\n\nDrop them off at the children's area of the library\n\n\nYou do not have to leave on to take one\nYou do not have to take one to leave one
URL:https://mykeywestportal.com/event/costume-swap-2/
LOCATION:Key West Library Youth\, 700 Fleming Street\, Key West
ATTACH;FMTTYPE=image/jpeg:https://mykeywestportal.com/wp-content/uploads/2018/09/CostumeSwap_KeyWest_Library.jpg
END:VEVENT
BEGIN:VEVENT
DTSTART;TZID=America/Halifax:20181012T160000
DTEND;TZID=America/Halifax:20181012T190000
DTSTAMP:20260424T083657
CREATED:20180625T182237Z
LAST-MODIFIED:20180625T182340Z
UID:3991-1539360000-1539370800@mykeywestportal.com
SUMMARY:SUP Invitational
DESCRIPTION:Inclusive paddle event for Special Olympics athletes and Stand Up Paddlers nationwide! \nRace hosted by Lazy Dog \nEmail info@specialolympicsmonroe.org for sponsorship opportunities \nEvent Schedule\nAll activities will take place at Smathers Beach and business locations in Key West. \n**Check website for more\, up-to-date schedule \nFriday October 12\, 2017\, 4:00 - 7:00 p.m.\nAthletes Reception- Lucy's Retired Surfer Restaurant and Bar- Grinnell Street\, Key West- Pick up your race packet and meet the guests of honor- our Special Olympics athletes. \nSaturday October 13 \, 2017  \nSpecial Olympics Coaches Meeting/Training\nOpening Ceremonies Parade on Duval Street\nCelebration of Champions Dance! \nSunday October 14\, 2017\nRace Day\, Smather’s Beach\, Key West\nKeep updated on our Facebook Page for all race events or check out the registration page. Lots of exciting INCLUSIVE events for all abilities!
URL:https://mykeywestportal.com/event/sup-invitational/
LOCATION:Smathers Beach\, 26001 S Roosevelt Blvd\, Key West\, FL\, 33040\, United States
ATTACH;FMTTYPE=image/jpeg:https://mykeywestportal.com/wp-content/uploads/2018/06/SUP_StandUpPaddleboard_Invitational_SmathersBeach_KeyWest.jpg
END:VEVENT
BEGIN:VEVENT
DTSTART;TZID=America/Halifax:20180703T183000
DTEND;TZID=America/Halifax:20180703T203000
DTSTAMP:20260424T083657
CREATED:20180619T162238Z
LAST-MODIFIED:20180619T162324Z
UID:3710-1530642600-1530649800@mykeywestportal.com
SUMMARY:Full Metal Trivia
DESCRIPTION:Random Questions. All Categories. Cool Prizes.\nEVERY TUESDAY! \n  \nCategories could be current news\, local\, knowledge\, birds\, rock and roll\, etc... endless possibilities \nPrizes could include gift cards up to a $50 value \nTrivia entry is FREE
URL:https://mykeywestportal.com/event/full-metal-trivia/
LOCATION:Mary Ellen's\, Applerouth Lane\, Key West\, FL\, 33040\, United States
ATTACH;FMTTYPE=image/jpeg:https://mykeywestportal.com/wp-content/uploads/2018/06/full_metal_trivia_night_mary_ellens_key_West.jpg
END:VEVENT
END:VCALENDAR