BEGIN:VCALENDAR
VERSION:2.0
PRODID:-//My Key West Portal is the Social Calendar for the Florida Keys and Key West - ECPv6.15.11//NONSGML v1.0//EN
CALSCALE:GREGORIAN
METHOD:PUBLISH
X-WR-CALNAME:My Key West Portal is the Social Calendar for the Florida Keys and Key West
X-ORIGINAL-URL:https://mykeywestportal.com
X-WR-CALDESC:Events for My Key West Portal is the Social Calendar for the Florida Keys and Key West
REFRESH-INTERVAL;VALUE=DURATION:PT1H
X-Robots-Tag:noindex
X-PUBLISHED-TTL:PT1H
BEGIN:VTIMEZONE
TZID:America/Halifax
BEGIN:DAYLIGHT
TZOFFSETFROM:-0400
TZOFFSETTO:-0300
TZNAME:ADT
DTSTART:20170312T060000
END:DAYLIGHT
BEGIN:STANDARD
TZOFFSETFROM:-0300
TZOFFSETTO:-0400
TZNAME:AST
DTSTART:20171105T050000
END:STANDARD
BEGIN:DAYLIGHT
TZOFFSETFROM:-0400
TZOFFSETTO:-0300
TZNAME:ADT
DTSTART:20180311T060000
END:DAYLIGHT
BEGIN:STANDARD
TZOFFSETFROM:-0300
TZOFFSETTO:-0400
TZNAME:AST
DTSTART:20181104T050000
END:STANDARD
BEGIN:DAYLIGHT
TZOFFSETFROM:-0400
TZOFFSETTO:-0300
TZNAME:ADT
DTSTART:20190310T060000
END:DAYLIGHT
BEGIN:STANDARD
TZOFFSETFROM:-0300
TZOFFSETTO:-0400
TZNAME:AST
DTSTART:20191103T050000
END:STANDARD
END:VTIMEZONE
BEGIN:VEVENT
DTSTART;VALUE=DATE:20180908
DTEND;VALUE=DATE:20180909
DTSTAMP:20260424T065749
CREATED:20180824T184627Z
LAST-MODIFIED:20180824T184627Z
UID:5133-1536379200-1536451199@mykeywestportal.com
SUMMARY:WomenFest 2018
DESCRIPTION:WomenFest 2018\nSaturday\, September 8 \n\n10am - 12pm Women's Flag Football Friendship Game\n\nBayview Park\n\n\n12pm Womenfest Pool Party\n\nBourbon St. Pub . 724 Duval St.\n\n\n2pm - 5pm Spikey's Fury Reef & Rita Trip\n\nFury Watersports . Call 888-976-0899 to book\n\n\n 11pm Late Womenfest White Party with Citizen Jane\n\nAqua . 711 Duval St.\n\n\n\n#WomenFestKeyWest
URL:https://mykeywestportal.com/event/womenfest-2018-4/
LOCATION:Key West\, 218 Whitehead Street\, Key West\, FL\, 33040\, United States
ATTACH;FMTTYPE=image/jpeg:https://mykeywestportal.com/wp-content/uploads/2018/08/KeyWest_WomensFest_2018.jpg
END:VEVENT
BEGIN:VEVENT
DTSTART;TZID=America/Halifax:20180908T150000
DTEND;TZID=America/Halifax:20180908T170000
DTSTAMP:20260424T065749
CREATED:20180907T173615Z
LAST-MODIFIED:20180907T173615Z
UID:5267-1536418800-1536426000@mykeywestportal.com
SUMMARY:Cheer and Dance Day
DESCRIPTION:Cheer and Dance Day\n**Free event \n\nLearn an all-start dance\nDesign a bow contest\nAl star rocks craft\nOpen gym\nMore\n\n#NASCDD
URL:https://mykeywestportal.com/event/cheer-and-dance-day/
LOCATION:Key West Sports Academy\, 700 Truman Ave\, Key West\, FL\, 33040\, United States
ATTACH;FMTTYPE=image/jpeg:https://mykeywestportal.com/wp-content/uploads/2018/09/KWSA_NationalAllStar_CheerDance.jpg
ORGANIZER;CN="Key West Sports Academy":MAILTO:parties@keywestsportsacademy.com
END:VEVENT
BEGIN:VEVENT
DTSTART;TZID=America/Halifax:20180903T170000
DTEND;TZID=America/Halifax:20180903T190000
DTSTAMP:20260424T065749
CREATED:20180827T185247Z
LAST-MODIFIED:20180827T185247Z
UID:5158-1535994000-1536001200@mykeywestportal.com
SUMMARY:Sept. Saving for Locals
DESCRIPTION:Locals will enjoy entrees for $19.25 and 50% off of house bottles of wine during the hours of 5-7pm \n  \n**Local ID must be shown to the server
URL:https://mykeywestportal.com/event/sept-saving-for-locals/
LOCATION:Southernmost Beach Cafe\, 1405 Duval St\, Key West\, FL\, 33040\, United States
ATTACH;FMTTYPE=image/jpeg:https://mykeywestportal.com/wp-content/uploads/2018/08/SeptemberSavings_KeyWest_Southernmost.jpg
END:VEVENT
BEGIN:VEVENT
DTSTART;TZID=America/Halifax:20180908T183000
DTEND;TZID=America/Halifax:20180908T213000
DTSTAMP:20260424T065749
CREATED:20180907T174242Z
LAST-MODIFIED:20180907T174242Z
UID:5270-1536431400-1536442200@mykeywestportal.com
SUMMARY:Rowdy Rodeo
DESCRIPTION:Wanted: Cowboys and Cowgirls\nAges: 4-11 years \n\nGames\nFree play\nCraft\nPizza dinner\nMovie\n\nWalk-in rates: $35 members/$45 non-members \n*Bring 2-3 bottles of water
URL:https://mykeywestportal.com/event/rowdy-rodeo/
LOCATION:Key West Sports Academy\, 700 Truman Ave\, Key West\, FL\, 33040\, United States
ATTACH;FMTTYPE=image/jpeg:https://mykeywestportal.com/wp-content/uploads/2018/09/RowdyRodeo_KWSA.jpg
ORGANIZER;CN="Key West Sports Academy":MAILTO:parties@keywestsportsacademy.com
END:VEVENT
END:VCALENDAR