BEGIN:VCALENDAR
VERSION:2.0
PRODID:-//My Key West Portal is the Social Calendar for the Florida Keys and Key West - ECPv6.15.11//NONSGML v1.0//EN
CALSCALE:GREGORIAN
METHOD:PUBLISH
X-ORIGINAL-URL:https://mykeywestportal.com
X-WR-CALDESC:Events for My Key West Portal is the Social Calendar for the Florida Keys and Key West
REFRESH-INTERVAL;VALUE=DURATION:PT1H
X-Robots-Tag:noindex
X-PUBLISHED-TTL:PT1H
BEGIN:VTIMEZONE
TZID:America/Halifax
BEGIN:DAYLIGHT
TZOFFSETFROM:-0400
TZOFFSETTO:-0300
TZNAME:ADT
DTSTART:20170312T060000
END:DAYLIGHT
BEGIN:STANDARD
TZOFFSETFROM:-0300
TZOFFSETTO:-0400
TZNAME:AST
DTSTART:20171105T050000
END:STANDARD
BEGIN:DAYLIGHT
TZOFFSETFROM:-0400
TZOFFSETTO:-0300
TZNAME:ADT
DTSTART:20180311T060000
END:DAYLIGHT
BEGIN:STANDARD
TZOFFSETFROM:-0300
TZOFFSETTO:-0400
TZNAME:AST
DTSTART:20181104T050000
END:STANDARD
BEGIN:DAYLIGHT
TZOFFSETFROM:-0400
TZOFFSETTO:-0300
TZNAME:ADT
DTSTART:20190310T060000
END:DAYLIGHT
BEGIN:STANDARD
TZOFFSETFROM:-0300
TZOFFSETTO:-0400
TZNAME:AST
DTSTART:20191103T050000
END:STANDARD
END:VTIMEZONE
BEGIN:VEVENT
DTSTART;VALUE=DATE:20180827
DTEND;VALUE=DATE:20180828
DTSTAMP:20260424T051751
CREATED:20180813T165525Z
LAST-MODIFIED:20180813T165525Z
UID:4969-1535342400-1535414399@mykeywestportal.com
SUMMARY:Tiki House Birthday Party
DESCRIPTION:Happy 1st Birthday Tiki House!!\nCelebrate with 1/2 off EVERYTHING \nLive Music and a late night DJ will also be there! \n\n3pm - 6:30pm Jay Bangles\n7:30pm - 10:30pm Lance Taylor\n11pm - 3am DJ Gyver
URL:https://mykeywestportal.com/event/tiki-house-birthday-party/
LOCATION:Tiki House Key West\, 430 Greene St\, Key West\, FL\, 33040\, United States
ATTACH;FMTTYPE=image/jpeg:https://mykeywestportal.com/wp-content/uploads/2018/08/TikiHouseBirthdayParty_KeyWest.jpg
END:VEVENT
BEGIN:VEVENT
DTSTART;TZID=America/Halifax:20180823T190000
DTEND;TZID=America/Halifax:20180823T220000
DTSTAMP:20260424T051751
CREATED:20180813T163756Z
LAST-MODIFIED:20180813T163756Z
UID:4961-1535050800-1535061600@mykeywestportal.com
SUMMARY:Summer Smackdown: An Island Wide Artistic Challenge
DESCRIPTION:53 Artists. 14 Days. 1 Challenge\n"On August 6th\, local artists converged upon the Key West Theater to enter their talents into an island-wide artistic challenge that called for them to create original material around a specific theme in whatever artistic medium they chose; visual or performing arts. That theme: My Island. The results of their artistic labors will be on display and performed at the Key West Theater on August 23rd and 24th during the annual Summer Smackdown. Audience members will then vote each evening for best in show in Visual Arts as well as the Performing Arts." \nSome of the art includes mixed media pieces\, photography\, paintings\, songs\, films\, short plays\, etc...
URL:https://mykeywestportal.com/event/summer-smackdown-an-island-wide-artistic-challenge/
LOCATION:Key West Theater\, 512 Eaton St\, Key West\, FL\, 33040\, United States
ATTACH;FMTTYPE=image/jpeg:https://mykeywestportal.com/wp-content/uploads/2018/08/SummerSmackdown_ArtistCompetition_KeyWestTheater.jpg
END:VEVENT
BEGIN:VEVENT
DTSTART;TZID=America/Halifax:20180702T220000
DTEND;TZID=America/Halifax:20180702T220000
DTSTAMP:20260424T051751
CREATED:20180619T160750Z
LAST-MODIFIED:20180619T160750Z
UID:3688-1530568800-1530568800@mykeywestportal.com
SUMMARY:Four Elements Party
DESCRIPTION:Come join us and DJ Dino at the Sidebar for the weekly Four Elements party! \nChance to win a gift cards at Thirsty Mermaid\, Terrace Roma\, Duffy's\, or Abbodanza
URL:https://mykeywestportal.com/event/four-elements-party/
LOCATION:Side Bar Key West\, 504 Angela St\, Key West\, FL\, 33040\, United States
ATTACH;FMTTYPE=image/jpeg:https://mykeywestportal.com/wp-content/uploads/2018/06/sidebar_four_elements_party_key_west.jpg
END:VEVENT
END:VCALENDAR