BEGIN:VCALENDAR
VERSION:2.0
PRODID:-//My Key West Portal is the Social Calendar for the Florida Keys and Key West - ECPv6.15.11//NONSGML v1.0//EN
CALSCALE:GREGORIAN
METHOD:PUBLISH
X-ORIGINAL-URL:https://mykeywestportal.com
X-WR-CALDESC:Events for My Key West Portal is the Social Calendar for the Florida Keys and Key West
REFRESH-INTERVAL;VALUE=DURATION:PT1H
X-Robots-Tag:noindex
X-PUBLISHED-TTL:PT1H
BEGIN:VTIMEZONE
TZID:America/Halifax
BEGIN:DAYLIGHT
TZOFFSETFROM:-0400
TZOFFSETTO:-0300
TZNAME:ADT
DTSTART:20170312T060000
END:DAYLIGHT
BEGIN:STANDARD
TZOFFSETFROM:-0300
TZOFFSETTO:-0400
TZNAME:AST
DTSTART:20171105T050000
END:STANDARD
BEGIN:DAYLIGHT
TZOFFSETFROM:-0400
TZOFFSETTO:-0300
TZNAME:ADT
DTSTART:20180311T060000
END:DAYLIGHT
BEGIN:STANDARD
TZOFFSETFROM:-0300
TZOFFSETTO:-0400
TZNAME:AST
DTSTART:20181104T050000
END:STANDARD
BEGIN:DAYLIGHT
TZOFFSETFROM:-0400
TZOFFSETTO:-0300
TZNAME:ADT
DTSTART:20190310T060000
END:DAYLIGHT
BEGIN:STANDARD
TZOFFSETFROM:-0300
TZOFFSETTO:-0400
TZNAME:AST
DTSTART:20191103T050000
END:STANDARD
END:VTIMEZONE
BEGIN:VEVENT
DTSTART;TZID=America/Halifax:20180625T080000
DTEND;TZID=America/Halifax:20180625T160000
DTSTAMP:20260424T065820
CREATED:20180619T152849Z
LAST-MODIFIED:20180619T153238Z
UID:3569-1529913600-1529942400@mykeywestportal.com
SUMMARY:KWSA Kids Camp
DESCRIPTION:Key West Sports Academy Kids Camp!\nEach week is filled with an obstacle course\, games\, arts and crafts\, snacks\, and more! \n**Please bring 2 bottles of water and a bag lunch each day \nREGISTER NOW for future weeks \n\n$100 deposit due at booking\n\nFull balance due 14 days before camp \nJune 25th-29th \n\nSecret Agents: Mystery Madness \n\nJuly 9th-13th \n\nAloha Moana: Island Paradise\n\nJuly 16th-20th \n\nUnder The Big Top: Circus Camp\n\nJuly 23rd-27th \n\nCandy Land \n\nJuly 30th-August 3rd \n\nSuper Hero Summit \n\nAugust 6th-10th \n\nA Week in the Wizarding World \n\nAugust 13th-17th \n\nSummer Safari \n\n  \nFull Day (8am-4pm): $230/week \n\nAges 5-12yrs\nKWSA members get a $15 discount each week\n\nHalf Day (8am-12pm OR 12pm-4pm): $140/week \n\nAges kindergarten - 12yrs
URL:https://mykeywestportal.com/event/kwsa-kids-camp/
LOCATION:Key West Sports Academy\, 700 Truman Ave\, Key West\, FL\, 33040\, United States
ATTACH;FMTTYPE=image/jpeg:https://mykeywestportal.com/wp-content/uploads/2018/06/kwsa_summer_camps_2018_key_west_sports_academy.jpg
ORGANIZER;CN="Key West Sports Academy":MAILTO:parties@keywestsportsacademy.com
END:VEVENT
BEGIN:VEVENT
DTSTART;TZID=America/Halifax:20180611T090000
DTEND;TZID=America/Halifax:20180611T160000
DTSTAMP:20260424T065820
CREATED:20180528T160905Z
LAST-MODIFIED:20180611T141045Z
UID:2967-1528707600-1528732800@mykeywestportal.com
SUMMARY:Sailing Camp 2018
DESCRIPTION:Sailing camp has 10 separate/week-long sessions!\nEach week will offer either a beginner\, intermediate\, or adventurous class. \n**All classes in RED are full. \n***Check website for update list if availability!!! \n\n6/11-6/15 : Beginner (9-17 yrs)\n6/18-6/22 : Beginner (9-17 yrs)\n6/25-6/29 : Intermediate (9-17)\n7/2-7-6 : Beginner (9-17)\n7/9-7/13 : Young beginner (6-10 yrs)\n7/16-7/20 : Adventure (7-17 yrs)\n7/23-7/27 : Intermediate (9-17 yrs)\n7/30-8/3 : Beginner (9-17 yrs)\n8/6-8/10 : Young beginner (6-10 yrs)\n8/13-8-17 : Adventure (7-17 yrs)\n\nThe instructors at the Center are certified through US Sailing. They have all instructed sailing on a variety of boats from 8' - 36' \nFor more information\, Contact: \n\nkwsceducation@gmail.com\nHeidi Ruse 804-832-4731\nBen Hermelin 314-349-9929
URL:https://mykeywestportal.com/event/sailing-camp-2018/
LOCATION:Key West Community Sailing Center\, 705 Palm Ave\, Key West\, FL\, 33040\, United States
ATTACH;FMTTYPE=image/jpeg:https://mykeywestportal.com/wp-content/uploads/2018/05/Youth_Sailing_Class_Key_West.jpg
END:VEVENT
BEGIN:VEVENT
DTSTART;TZID=America/Halifax:20180817T090000
DTEND;TZID=America/Halifax:20180817T200000
DTSTAMP:20260424T065820
CREATED:20180625T183018Z
LAST-MODIFIED:20180625T183018Z
UID:3997-1534496400-1534536000@mykeywestportal.com
SUMMARY:Fill and Chill
DESCRIPTION:Come CHILL while we FILL your tank! \nEnjoy snacks\, share diving stories\, and chat with team members about anything on your mind \n*Tanks will be filled for FREE \n\nlimit of 4 per guest\n\nProof of SCUBA Certification required
URL:https://mykeywestportal.com/event/fill-and-chill/
LOCATION:Diver's Direct\, 535 Greene St\, Key West\, FL\, 33040\, United States
ATTACH;FMTTYPE=image/jpeg:https://mykeywestportal.com/wp-content/uploads/2018/06/DiversDirect_ChillAndFill_ScubaTanks_KeyWest.jpg
END:VEVENT
BEGIN:VEVENT
DTSTART;TZID=America/Halifax:20180629T110000
DTEND;TZID=America/Halifax:20180629T120000
DTSTAMP:20260424T065820
CREATED:20180625T134015Z
LAST-MODIFIED:20180713T153012Z
UID:3805-1530270000-1530273600@mykeywestportal.com
SUMMARY:Preschool Storytime
DESCRIPTION:Weekly Storytime!\n"Preschool Story-time is a fun early literacy program for children ages 3-5! \nJoin us for an hour of interactive stories\, songs\, rhymes\, and crafts. \nThe early literacy practices featured each week help build the foundation for a lifelong love of learning. \nStory-time offers an opportunity to experience early literacy practices in action\, to discover great books\, music\, and to socialize with other parents after Story-time."
URL:https://mykeywestportal.com/event/preschool-storytime-2/
LOCATION:Key West Library Youth\, 700 Fleming Street\, Key West
ATTACH;FMTTYPE=image/jpeg:https://mykeywestportal.com/wp-content/uploads/2018/06/preschool_Storytime_key_west_youth_library.jpg
END:VEVENT
BEGIN:VEVENT
DTSTART;TZID=America/Halifax:20180816T110000
DTEND;TZID=America/Halifax:20180816T220000
DTSTAMP:20260424T065820
CREATED:20180716T144925Z
LAST-MODIFIED:20180716T144925Z
UID:4517-1534417200-1534456800@mykeywestportal.com
SUMMARY:Meet Adam Scott Rote at Key West Gallery
DESCRIPTION:Meet Adam Scott Rote\nRote is an award winning painter whose work has been influenced by architecture\, fashion\, and classic cinema. He is a self-taught artist who learned by studying Vargas\, McGinnis\, Charles Bell\, and others. The pieces are made using acrylic paint\, gouache\, airbrush\, and watercolor pencils to create brilliant emphasis on high contrast. Rote has also teames with iconic Hollywood legends for exclusive co-signed limited edition prints featuring his famous Drive-In Daze paintings. \nRegister to see his painting on the website below!
URL:https://mykeywestportal.com/event/meet-adam-scott-rote-at-key-west-gallery/
LOCATION:Key West Gallery\, 601 Duval Street\, Key West\, FL\, 33040\, United States
ATTACH;FMTTYPE=image/jpeg:https://mykeywestportal.com/wp-content/uploads/2018/07/ScottRote_KeyWest_ArtGallery.jpg
END:VEVENT
BEGIN:VEVENT
DTSTART;TZID=America/Halifax:20180713T153000
DTEND;TZID=America/Halifax:20180713T163000
DTSTAMP:20260424T065820
CREATED:20180713T152220Z
LAST-MODIFIED:20180713T153051Z
UID:4354-1531495800-1531499400@mykeywestportal.com
SUMMARY:Lego Club
DESCRIPTION:LEGO CLUB\n**NO registration required \nIf you love Legos and being creative\, then join us every Friday to build some adventures! \n\nLegos are provided by the library\n\nLego donations are appreciated\n\n\n\n 
URL:https://mykeywestportal.com/event/lego-club/
LOCATION:FL
ATTACH;FMTTYPE=image/jpeg:https://mykeywestportal.com/wp-content/uploads/2018/07/ReShot_LegoClub_KeyWest_Library.jpg
END:VEVENT
BEGIN:VEVENT
DTSTART;TZID=America/Halifax:20180720T181500
DTEND;TZID=America/Halifax:20180720T191500
DTSTAMP:20260424T065820
CREATED:20180630T154230Z
LAST-MODIFIED:20180630T154230Z
UID:4241-1532110500-1532114100@mykeywestportal.com
SUMMARY:Younger Kids Capoeira Gymnastics
DESCRIPTION:Weekly Tumbling Classes \nWhat’s included: \n\nPhysical activity\, creative and dramatic play\, and music are key to lifelong and personal success.\nA rich combination of dance\, acrobatics\, self-defense techniques and music\, capoeira is a uniquely effective tool for activating the minds and bodies of children of all ages.\n\nPromotes physical fitness and health by increasing strength\, flexibility\, and endurance.\n\n\n\n  \nFriday: 4 yrs - 8 yrs \n"Capoeira Tumbling – An Afro- Brazilian Martial Art that cultivates self- transformation through physical\, mental\, and spiritual Reiki.Combining dance\, and self-defense\, it builds gymnastic skills and flexibility\, strength and a heightened awareness of one’s body. Practiced to the rhythm of ancient African instruments\, Capoeira encourages self-expression and resourcefulness--- it is an intense fitness program that can be adapted to any body or physical ability." \nhttps://www.facebook.com/events/240225256560108/?event_time_id=240229263226374
URL:https://mykeywestportal.com/event/younger-kids-capoeira-gymnastics-2/
LOCATION:Spirit Play Gymnasium\, 5800 Overseas Hwy\, Ste 40\, Marathon\, FL\, 33050\, United States
ATTACH;FMTTYPE=image/jpeg:https://mykeywestportal.com/wp-content/uploads/2018/06/SpiritPlayGymnasium_MarathonFlorida.jpg
END:VEVENT
BEGIN:VEVENT
DTSTART;TZID=America/Halifax:20180629T230000
DTEND;TZID=America/Halifax:20180629T230000
DTSTAMP:20260424T065820
CREATED:20180625T150613Z
LAST-MODIFIED:20180625T150613Z
UID:3893-1530313200-1530313200@mykeywestportal.com
SUMMARY:Flashback Fridays
DESCRIPTION:Flashback Fridays with DJ Gyver!\nBe ready to dance to the best of the 80s & 90s hip hop and dance mash ups....Pretty much all of the old school hits before 1995! \n\n$2 "Snoop" approved gin and juice jell-O shots available\n\nThis party ends at 4 am\, so don't miss out!
URL:https://mykeywestportal.com/event/flashback-fridays/
LOCATION:Tiki House Key West\, 430 Greene St\, Key West\, FL\, 33040\, United States
ATTACH;FMTTYPE=image/jpeg:https://mykeywestportal.com/wp-content/uploads/2018/06/FlashbackFridays_DJGyver_KeyWest_TikiHouse.jpg
END:VEVENT
END:VCALENDAR