BEGIN:VCALENDAR
VERSION:2.0
PRODID:-//My Key West Portal is the Social Calendar for the Florida Keys and Key West - ECPv6.15.11//NONSGML v1.0//EN
CALSCALE:GREGORIAN
METHOD:PUBLISH
X-WR-CALNAME:My Key West Portal is the Social Calendar for the Florida Keys and Key West
X-ORIGINAL-URL:https://mykeywestportal.com
X-WR-CALDESC:Events for My Key West Portal is the Social Calendar for the Florida Keys and Key West
REFRESH-INTERVAL;VALUE=DURATION:PT1H
X-Robots-Tag:noindex
X-PUBLISHED-TTL:PT1H
BEGIN:VTIMEZONE
TZID:UTC
BEGIN:STANDARD
TZOFFSETFROM:+0000
TZOFFSETTO:+0000
TZNAME:UTC
DTSTART:20170101T000000
END:STANDARD
END:VTIMEZONE
BEGIN:VTIMEZONE
TZID:America/Halifax
BEGIN:DAYLIGHT
TZOFFSETFROM:-0400
TZOFFSETTO:-0300
TZNAME:ADT
DTSTART:20170312T060000
END:DAYLIGHT
BEGIN:STANDARD
TZOFFSETFROM:-0300
TZOFFSETTO:-0400
TZNAME:AST
DTSTART:20171105T050000
END:STANDARD
BEGIN:DAYLIGHT
TZOFFSETFROM:-0400
TZOFFSETTO:-0300
TZNAME:ADT
DTSTART:20180311T060000
END:DAYLIGHT
BEGIN:STANDARD
TZOFFSETFROM:-0300
TZOFFSETTO:-0400
TZNAME:AST
DTSTART:20181104T050000
END:STANDARD
BEGIN:DAYLIGHT
TZOFFSETFROM:-0400
TZOFFSETTO:-0300
TZNAME:ADT
DTSTART:20190310T060000
END:DAYLIGHT
BEGIN:STANDARD
TZOFFSETFROM:-0300
TZOFFSETTO:-0400
TZNAME:AST
DTSTART:20191103T050000
END:STANDARD
END:VTIMEZONE
BEGIN:VEVENT
DTSTART;TZID=UTC:20180730T080000
DTEND;TZID=UTC:20180803T160000
DTSTAMP:20260424T033033
CREATED:20180514T212119Z
LAST-MODIFIED:20180514T212119Z
UID:2526-1532937600-1533312000@mykeywestportal.com
SUMMARY:Ninja Summer Camp
DESCRIPTION:Join your fellow ninjas at camp!!\nActivities include: \n\nWorking on ninja skills/tumbling\nObstacle course\nNinja crafts\nGames\nMore\n\nNinja uniform REQUIRED - $32 \nNinjas must bring: \n\n2-3 bottles of water\nLUNCH\nSnacks\n\n**Payment due in full at time of registration
URL:https://mykeywestportal.com/event/ninja-summer-camp/
LOCATION:Key West Sports Academy\, 700 Truman Ave\, Key West\, FL\, 33040\, United States
ATTACH;FMTTYPE=image/jpeg:https://mykeywestportal.com/wp-content/uploads/2018/05/Ninja_Style_Summer_Camp_Key_West_Sports_Academy.jpg
ORGANIZER;CN="Key West Sports Academy":MAILTO:parties@keywestsportsacademy.com
END:VEVENT
BEGIN:VEVENT
DTSTART;TZID=America/Halifax:20180705T080000
DTEND;TZID=America/Halifax:20180705T090000
DTSTAMP:20260424T033033
CREATED:20180630T183801Z
LAST-MODIFIED:20180630T183801Z
UID:4294-1530777600-1530781200@mykeywestportal.com
SUMMARY:Yoga and Dolphins
DESCRIPTION:This is a FREE\, open level flow style yoga class \nDonations encouraged!
URL:https://mykeywestportal.com/event/yoga-and-dolphins/
LOCATION:Island Dolphin Care\, 150 Lorelane Pl\, Key Largo\, FL\, 33037\, United States
ATTACH;FMTTYPE=image/jpeg:https://mykeywestportal.com/wp-content/uploads/2018/06/IslandDolphinCare_YogaClass_KeyLargo.jpg
END:VEVENT
BEGIN:VEVENT
DTSTART;TZID=America/Halifax:20180625T080000
DTEND;TZID=America/Halifax:20180625T160000
DTSTAMP:20260424T033033
CREATED:20180619T152849Z
LAST-MODIFIED:20180619T153238Z
UID:3569-1529913600-1529942400@mykeywestportal.com
SUMMARY:KWSA Kids Camp
DESCRIPTION:Key West Sports Academy Kids Camp!\nEach week is filled with an obstacle course\, games\, arts and crafts\, snacks\, and more! \n**Please bring 2 bottles of water and a bag lunch each day \nREGISTER NOW for future weeks \n\n$100 deposit due at booking\n\nFull balance due 14 days before camp \nJune 25th-29th \n\nSecret Agents: Mystery Madness \n\nJuly 9th-13th \n\nAloha Moana: Island Paradise\n\nJuly 16th-20th \n\nUnder The Big Top: Circus Camp\n\nJuly 23rd-27th \n\nCandy Land \n\nJuly 30th-August 3rd \n\nSuper Hero Summit \n\nAugust 6th-10th \n\nA Week in the Wizarding World \n\nAugust 13th-17th \n\nSummer Safari \n\n  \nFull Day (8am-4pm): $230/week \n\nAges 5-12yrs\nKWSA members get a $15 discount each week\n\nHalf Day (8am-12pm OR 12pm-4pm): $140/week \n\nAges kindergarten - 12yrs
URL:https://mykeywestportal.com/event/kwsa-kids-camp/
LOCATION:Key West Sports Academy\, 700 Truman Ave\, Key West\, FL\, 33040\, United States
ATTACH;FMTTYPE=image/jpeg:https://mykeywestportal.com/wp-content/uploads/2018/06/kwsa_summer_camps_2018_key_west_sports_academy.jpg
ORGANIZER;CN="Key West Sports Academy":MAILTO:parties@keywestsportsacademy.com
END:VEVENT
BEGIN:VEVENT
DTSTART;TZID=America/Halifax:20180628T080000
DTEND;TZID=America/Halifax:20180628T170000
DTSTAMP:20260424T033033
CREATED:20180625T160305Z
LAST-MODIFIED:20181224T114811Z
UID:3941-1530172800-1530205200@mykeywestportal.com
SUMMARY:Cupcake Sushi Live roll
DESCRIPTION:Weekly Live Roll\nEnjoy an elegant\, bit size piece of art with a complimentary champagne pairing EVERY THURSDAY
URL:https://mykeywestportal.com/event/cupcake-sushi-live-roll/
LOCATION:Stock Island Marina Village\, 7005 Shrimp Road\, Key West\, FL\, 33040\, United States
ATTACH;FMTTYPE=image/jpeg:https://mykeywestportal.com/wp-content/uploads/2018/06/CupcakeSushi_LiveRollEvent_Stockisland_MarinaVillage.jpg
END:VEVENT
BEGIN:VEVENT
DTSTART;TZID=America/Halifax:20180730T083000
DTEND;TZID=America/Halifax:20180730T113000
DTSTAMP:20260424T033033
CREATED:20180611T152234Z
LAST-MODIFIED:20180611T152234Z
UID:3320-1532939400-1532950200@mykeywestportal.com
SUMMARY:Hero Central VBS
DESCRIPTION:Discover your strength in God!\nThis VBS is filled with fun activities\, super hero biblical stories\, music\, and engaging discovery using their hidden "super powers." \n**Registration end date: July 2nd \n  \nThere will be a special VBS program for 4-5 year old following the same program. \nFor more information: \n\n305-294-1031\nAlvarez@basilicaschool.com
URL:https://mykeywestportal.com/event/hero-central-vbs/
LOCATION:The Basilica of St. Mary Star of the Sea\, 700 Truman Ave\, Key West\, FL\, 33040\, United States
ATTACH;FMTTYPE=image/png:https://mykeywestportal.com/wp-content/uploads/2018/06/her_central_vbs_st_mary_basilica_star_of_the_sea.png
END:VEVENT
BEGIN:VEVENT
DTSTART;TZID=America/Halifax:20180611T090000
DTEND;TZID=America/Halifax:20180611T160000
DTSTAMP:20260424T033033
CREATED:20180528T160905Z
LAST-MODIFIED:20180611T141045Z
UID:2967-1528707600-1528732800@mykeywestportal.com
SUMMARY:Sailing Camp 2018
DESCRIPTION:Sailing camp has 10 separate/week-long sessions!\nEach week will offer either a beginner\, intermediate\, or adventurous class. \n**All classes in RED are full. \n***Check website for update list if availability!!! \n\n6/11-6/15 : Beginner (9-17 yrs)\n6/18-6/22 : Beginner (9-17 yrs)\n6/25-6/29 : Intermediate (9-17)\n7/2-7-6 : Beginner (9-17)\n7/9-7/13 : Young beginner (6-10 yrs)\n7/16-7/20 : Adventure (7-17 yrs)\n7/23-7/27 : Intermediate (9-17 yrs)\n7/30-8/3 : Beginner (9-17 yrs)\n8/6-8/10 : Young beginner (6-10 yrs)\n8/13-8-17 : Adventure (7-17 yrs)\n\nThe instructors at the Center are certified through US Sailing. They have all instructed sailing on a variety of boats from 8' - 36' \nFor more information\, Contact: \n\nkwsceducation@gmail.com\nHeidi Ruse 804-832-4731\nBen Hermelin 314-349-9929
URL:https://mykeywestportal.com/event/sailing-camp-2018/
LOCATION:Key West Community Sailing Center\, 705 Palm Ave\, Key West\, FL\, 33040\, United States
ATTACH;FMTTYPE=image/jpeg:https://mykeywestportal.com/wp-content/uploads/2018/05/Youth_Sailing_Class_Key_West.jpg
END:VEVENT
BEGIN:VEVENT
DTSTART;TZID=America/Halifax:20180531T100000
DTEND;TZID=America/Halifax:20180531T140000
DTSTAMP:20260424T033033
CREATED:20180528T164501Z
LAST-MODIFIED:20180528T164501Z
UID:3025-1527760800-1527775200@mykeywestportal.com
SUMMARY:Eat Fats for Energy Keto Mixer
DESCRIPTION:Weekly Keto mixer!!\n**Includes therapeutic samples and give-aways**
URL:https://mykeywestportal.com/event/eat-fats-for-energy-keto-mixer/
LOCATION:Bayview Park\, Truman Ave\, and Eisenhower Dr\, Key West\, FL\, 33040\, United States
ATTACH;FMTTYPE=image/jpeg:https://mykeywestportal.com/wp-content/uploads/2018/05/Keto_Royalty_Mixer_Key_West.jpg
END:VEVENT
BEGIN:VEVENT
DTSTART;TZID=America/Halifax:20180719T103000
DTEND;TZID=America/Halifax:20180719T113000
DTSTAMP:20260424T033033
CREATED:20180716T152206Z
LAST-MODIFIED:20180716T152206Z
UID:4532-1531996200-1531999800@mykeywestportal.com
SUMMARY:Toddler Movement Program
DESCRIPTION:Wiggles and Giggles\nThis new program is designed to get kids moving. Children ages 1-4 should come ready to jump\, tumble\, run\, dance\, do downward dog\, and over have FUN! \nParents and caregivers are encouraged to wear attire appropriate for tumbling and yoga.
URL:https://mykeywestportal.com/event/toddler-movement-program/
LOCATION:First Baptist Church of islamorada\, 81201 Overseas Hwy\, Islamorada\, FL\, United States
ATTACH;FMTTYPE=image/jpeg:https://mykeywestportal.com/wp-content/uploads/2018/07/Wiggles_Giggles_KeyWest_KeysHealthyStart.jpg
END:VEVENT
BEGIN:VEVENT
DTSTART;TZID=America/Halifax:20180726T164500
DTEND;TZID=America/Halifax:20180726T181500
DTSTAMP:20260424T033033
CREATED:20180721T114620Z
LAST-MODIFIED:20180721T114620Z
UID:4729-1532623500-1532628900@mykeywestportal.com
SUMMARY:Summer Dance Session
DESCRIPTION:6 Week Dance Session\nJoin us for some summer fun! \nThis summer session is a great way to keep dancers moving during the summer. \nTry out the studio or even learn a new dance style. \n1 class per week: $80 \n2 classes per week: $150 \n  \nMusical Theater: 4:45-5:30 pm \nHip Hop & Pop: 5:30-6:15 pm
URL:https://mykeywestportal.com/event/summer-dance-session/
LOCATION:Island Groove Dance and Fitness\, 31109 Ave. A Unit #5\, Big Pine Key\, FL\, 33043\, United States
ATTACH;FMTTYPE=image/jpeg:https://mykeywestportal.com/wp-content/uploads/2018/07/Fitness_SummerDanceSession_KeyWest_Island-Groove.jpg
END:VEVENT
BEGIN:VEVENT
DTSTART;TZID=America/Halifax:20180802T173000
DTEND;TZID=America/Halifax:20180802T193000
DTSTAMP:20260424T033033
CREATED:20180720T180100Z
LAST-MODIFIED:20180720T180100Z
UID:4639-1533231000-1533238200@mykeywestportal.com
SUMMARY:Paint N' Sip
DESCRIPTION:Step by step instructions for painting on a piece of wood. \nAll materials are included in the ticket price! \n  \nMeet in The Club at the Key West Harbour.
URL:https://mykeywestportal.com/event/paint-n-sip/
LOCATION:Key West Harbour\, 600 Peninsular Avenue\, Key West\, FL\, 33040\, United States
ATTACH;FMTTYPE=image/jpeg:https://mykeywestportal.com/wp-content/uploads/2018/07/PaintAndSip_KeyWest_KeyWestHarbour.jpg
END:VEVENT
BEGIN:VEVENT
DTSTART;TZID=UTC:20180524T180000
DTEND;TZID=UTC:20180524T230000
DTSTAMP:20260424T033033
CREATED:20180518T225214Z
LAST-MODIFIED:20180618T180725Z
UID:2605-1527184800-1527202800@mykeywestportal.com
SUMMARY:Bike Night
DESCRIPTION:Ride your bike to Mellow Cafe Key West and receive 50% food and a chance to win a FREE BIKE \n  \nEntertainment by Ike Kanakanui from 6-9pm \nRaffle:First Thursday of the month \n  \nPROMOTING SAFE BIKING IN KEY WEST!
URL:https://mykeywestportal.com/event/bike-night/
LOCATION:Mellow Cafe\, 1605 N Roosevelt Blvd\, Suite 1\, Key West\, FL\, 33040\, United States
ATTACH;FMTTYPE=image/jpeg:https://mykeywestportal.com/wp-content/uploads/2018/05/Mellow_Venture_Cafe_Gastropub_Bike_Night_Key_West.jpg
END:VEVENT
END:VCALENDAR