BEGIN:VCALENDAR
VERSION:2.0
PRODID:-//My Key West Portal is the Social Calendar for the Florida Keys and Key West - ECPv6.15.11//NONSGML v1.0//EN
CALSCALE:GREGORIAN
METHOD:PUBLISH
X-ORIGINAL-URL:https://mykeywestportal.com
X-WR-CALDESC:Events for My Key West Portal is the Social Calendar for the Florida Keys and Key West
REFRESH-INTERVAL;VALUE=DURATION:PT1H
X-Robots-Tag:noindex
X-PUBLISHED-TTL:PT1H
BEGIN:VTIMEZONE
TZID:America/Halifax
BEGIN:DAYLIGHT
TZOFFSETFROM:-0400
TZOFFSETTO:-0300
TZNAME:ADT
DTSTART:20170312T060000
END:DAYLIGHT
BEGIN:STANDARD
TZOFFSETFROM:-0300
TZOFFSETTO:-0400
TZNAME:AST
DTSTART:20171105T050000
END:STANDARD
BEGIN:DAYLIGHT
TZOFFSETFROM:-0400
TZOFFSETTO:-0300
TZNAME:ADT
DTSTART:20180311T060000
END:DAYLIGHT
BEGIN:STANDARD
TZOFFSETFROM:-0300
TZOFFSETTO:-0400
TZNAME:AST
DTSTART:20181104T050000
END:STANDARD
BEGIN:DAYLIGHT
TZOFFSETFROM:-0400
TZOFFSETTO:-0300
TZNAME:ADT
DTSTART:20190310T060000
END:DAYLIGHT
BEGIN:STANDARD
TZOFFSETFROM:-0300
TZOFFSETTO:-0400
TZNAME:AST
DTSTART:20191103T050000
END:STANDARD
END:VTIMEZONE
BEGIN:VTIMEZONE
TZID:UTC
BEGIN:STANDARD
TZOFFSETFROM:+0000
TZOFFSETTO:+0000
TZNAME:UTC
DTSTART:20170101T000000
END:STANDARD
END:VTIMEZONE
BEGIN:VEVENT
DTSTART;VALUE=DATE:20180723
DTEND;VALUE=DATE:20180728
DTSTAMP:20260424T033303
CREATED:20180630T161500Z
LAST-MODIFIED:20180630T161500Z
UID:4288-1532318400-1532735999@mykeywestportal.com
SUMMARY:Coastal Marine Ecology of the Keys Teacher Workshop
DESCRIPTION:Explore the marine communities inn the upper keys!\nThis week long journey is spent snorkeling seagrass\, mangroves\, and coral reefs! \nAll of the workshops are content oriented and designed for middle and high school science teachers. \nThe program focuses on the basics of marine ecology in the upper Florida Keys. There will be trips to the seagrass\, mangrove\, and coral reef communities\, along with a few others. \n**Participants should be comfortable in the water\, but do not need to be experienced snorkelers \nCost includes all workshop fees\, but DOES NOT include transportation to MarineLab \n\nMeals\, accommodations\, field trips\, evening activities\, and snorkel gear IS PROVIDED\nA $100 deposit is needed at time of registeration\n\n 
URL:https://mykeywestportal.com/event/coastal-marine-ecology-of-the-keys-teacher-workshop/
LOCATION:MarineLab\, 51 Shoreland Dr\, Key Largo\, FL\, 33037\, United States
ATTACH;FMTTYPE=image/jpeg:https://mykeywestportal.com/wp-content/uploads/2018/06/CoastalMarineEcology_Teacher_workshop.jpg
END:VEVENT
BEGIN:VEVENT
DTSTART;TZID=America/Halifax:20180716T080000
DTEND;TZID=America/Halifax:20180716T120000
DTSTAMP:20260424T033303
CREATED:20180528T153441Z
LAST-MODIFIED:20180528T153441Z
UID:2952-1531728000-1531742400@mykeywestportal.com
SUMMARY:Ukulele Camp
DESCRIPTION:MUSIC SUMMER CAMP!\nThe Ukulele will be the main focus of this years camp\, but there will be some exploration of guitar (electric and acoustic)\, bass\, keyboards\, drums\, and steel pans. Children will get to try several instruments with guided hands-on experience. \n* Ages: 5-11
URL:https://mykeywestportal.com/event/ukulele-camp/
LOCATION:FL
ATTACH;FMTTYPE=image/jpeg:https://mykeywestportal.com/wp-content/uploads/2018/05/Ukulele_Camp_Key_West_Summer.jpg
ORGANIZER;CN="Island Guitar":MAILTO:wayne@islandguitar.com
END:VEVENT
BEGIN:VEVENT
DTSTART;TZID=America/Halifax:20180625T080000
DTEND;TZID=America/Halifax:20180625T160000
DTSTAMP:20260424T033303
CREATED:20180619T152849Z
LAST-MODIFIED:20180619T153238Z
UID:3569-1529913600-1529942400@mykeywestportal.com
SUMMARY:KWSA Kids Camp
DESCRIPTION:Key West Sports Academy Kids Camp!\nEach week is filled with an obstacle course\, games\, arts and crafts\, snacks\, and more! \n**Please bring 2 bottles of water and a bag lunch each day \nREGISTER NOW for future weeks \n\n$100 deposit due at booking\n\nFull balance due 14 days before camp \nJune 25th-29th \n\nSecret Agents: Mystery Madness \n\nJuly 9th-13th \n\nAloha Moana: Island Paradise\n\nJuly 16th-20th \n\nUnder The Big Top: Circus Camp\n\nJuly 23rd-27th \n\nCandy Land \n\nJuly 30th-August 3rd \n\nSuper Hero Summit \n\nAugust 6th-10th \n\nA Week in the Wizarding World \n\nAugust 13th-17th \n\nSummer Safari \n\n  \nFull Day (8am-4pm): $230/week \n\nAges 5-12yrs\nKWSA members get a $15 discount each week\n\nHalf Day (8am-12pm OR 12pm-4pm): $140/week \n\nAges kindergarten - 12yrs
URL:https://mykeywestportal.com/event/kwsa-kids-camp/
LOCATION:Key West Sports Academy\, 700 Truman Ave\, Key West\, FL\, 33040\, United States
ATTACH;FMTTYPE=image/jpeg:https://mykeywestportal.com/wp-content/uploads/2018/06/kwsa_summer_camps_2018_key_west_sports_academy.jpg
ORGANIZER;CN="Key West Sports Academy":MAILTO:parties@keywestsportsacademy.com
END:VEVENT
BEGIN:VEVENT
DTSTART;TZID=America/Halifax:20180619T090000
DTEND;TZID=America/Halifax:20180619T094500
DTSTAMP:20260424T033303
CREATED:20180618T141130Z
LAST-MODIFIED:20180618T141130Z
UID:3407-1529398800-1529401500@mykeywestportal.com
SUMMARY:Music Together in the Keys
DESCRIPTION:"Hello everybody!\nWe are Music Together in the Keys\, offering family music classes for ages 0-4. Our classes are 45 minutes of music and movement and offer an incredible opportunity for family bonding while children acquire essential skills and promote brain development. Our summer semester begins on 6/19 and registration is open! There are still spaces available in our Tuesday and Saturday family classes. Join us for 6 weeks of music\, dance and fun! Click on the link below to visit our website and register for classes. - Irie Monte" \nPricing: \n\nFirst child: $115\nSibling 1: $60\nSibling 2: $30\nNewborn-8 mo old sibling: FREE\n\nREGISTER TODAY! \nTuesday semester starts June 19 and Saturday semester starts June 23 \n  \n 
URL:https://mykeywestportal.com/event/music-together-in-the-keys/
LOCATION:The Church of Christ\, 1700 Von Phister St\, Key West\, FL\, 33040\, United States
ATTACH;FMTTYPE=image/jpeg:https://mykeywestportal.com/wp-content/uploads/2018/06/drums_music_together_key_west_musical_instrument.jpg
END:VEVENT
BEGIN:VEVENT
DTSTART;TZID=America/Halifax:20180723T090000
DTEND;TZID=America/Halifax:20180723T150000
DTSTAMP:20260424T033303
CREATED:20180523T141220Z
LAST-MODIFIED:20180523T141220Z
UID:2826-1532336400-1532358000@mykeywestportal.com
SUMMARY:Summer Art Camp - Week 5 - Old Master\, New Masters
DESCRIPTION:Go on a creative adventure this summer with fellow art enthusiasts!\nSummer art school is split up into 5 weeks\, this last one being OLD MASTERS\, NEW MASTERS! \n**Daily lunch (healthy)  is included
URL:https://mykeywestportal.com/event/summer-art-camp-week-5-old-master-new-masters/
LOCATION:The Studios of Key West\, 533 Eaton St.\, Key West\, FL\, 33040\, United States
ATTACH;FMTTYPE=image/jpeg:https://mykeywestportal.com/wp-content/uploads/2018/05/the_studios_key_west_kids_art_summer_camp.jpg
END:VEVENT
BEGIN:VEVENT
DTSTART;TZID=America/Halifax:20180709T090000
DTEND;TZID=America/Halifax:20180709T150000
DTSTAMP:20260424T033303
CREATED:20180630T152213Z
LAST-MODIFIED:20180630T152213Z
UID:4197-1531126800-1531148400@mykeywestportal.com
SUMMARY:Just for Fun Camp
DESCRIPTION:Just for Fun Camp offers: \n\nFun games\nArts & Crafts\nField trips\nFree Lunch and snacks\nMusic & Drama\n\nThe last week of camp is Music and Drama Camp\, featuring Ultimate Superstar (The play put on by the kids) \n\nThe play will be performed Friday\, July 27th at 5pm\n\n** Aftercare available from 3-5 pm for $5 a day
URL:https://mykeywestportal.com/event/just-for-fun-camp/
LOCATION:St. Columba Episcopal Church\, 451 West 52nd St\, Marathon\, FL\, 33050\, United States
ATTACH;FMTTYPE=image/png:https://mykeywestportal.com/wp-content/uploads/2018/06/Just-For-Fun-Camp.png
END:VEVENT
BEGIN:VEVENT
DTSTART;TZID=America/Halifax:20180611T090000
DTEND;TZID=America/Halifax:20180611T160000
DTSTAMP:20260424T033303
CREATED:20180528T160905Z
LAST-MODIFIED:20180611T141045Z
UID:2967-1528707600-1528732800@mykeywestportal.com
SUMMARY:Sailing Camp 2018
DESCRIPTION:Sailing camp has 10 separate/week-long sessions!\nEach week will offer either a beginner\, intermediate\, or adventurous class. \n**All classes in RED are full. \n***Check website for update list if availability!!! \n\n6/11-6/15 : Beginner (9-17 yrs)\n6/18-6/22 : Beginner (9-17 yrs)\n6/25-6/29 : Intermediate (9-17)\n7/2-7-6 : Beginner (9-17)\n7/9-7/13 : Young beginner (6-10 yrs)\n7/16-7/20 : Adventure (7-17 yrs)\n7/23-7/27 : Intermediate (9-17 yrs)\n7/30-8/3 : Beginner (9-17 yrs)\n8/6-8/10 : Young beginner (6-10 yrs)\n8/13-8-17 : Adventure (7-17 yrs)\n\nThe instructors at the Center are certified through US Sailing. They have all instructed sailing on a variety of boats from 8' - 36' \nFor more information\, Contact: \n\nkwsceducation@gmail.com\nHeidi Ruse 804-832-4731\nBen Hermelin 314-349-9929
URL:https://mykeywestportal.com/event/sailing-camp-2018/
LOCATION:Key West Community Sailing Center\, 705 Palm Ave\, Key West\, FL\, 33040\, United States
ATTACH;FMTTYPE=image/jpeg:https://mykeywestportal.com/wp-content/uploads/2018/05/Youth_Sailing_Class_Key_West.jpg
END:VEVENT
BEGIN:VEVENT
DTSTART;TZID=America/Halifax:20180724T100000
DTEND;TZID=America/Halifax:20180724T103000
DTSTAMP:20260424T033303
CREATED:20180720T154804Z
LAST-MODIFIED:20180720T154804Z
UID:4617-1532426400-1532428200@mykeywestportal.com
SUMMARY:Blessing of the Commercial Fishing Fleet
DESCRIPTION:Any pleasure boats/captains are welcomed to join and get blessed! \nContact Leticia Powell for more information at 305-797-0399
URL:https://mykeywestportal.com/event/blessing-of-the-commercial-fishing-fleet/
LOCATION:Stock Island Marina Village\, 7005 Shrimp Road\, Key West\, FL\, 33040\, United States
ATTACH;FMTTYPE=image/jpeg:https://mykeywestportal.com/wp-content/uploads/2018/07/BlessingOfCommercialBoats_StMaryBasilica_KeyWest.jpg
END:VEVENT
BEGIN:VEVENT
DTSTART;TZID=UTC:20180724T173000
DTEND;TZID=UTC:20180724T203000
DTSTAMP:20260424T033303
CREATED:20180521T191937Z
LAST-MODIFIED:20180716T133629Z
UID:2673-1532453400-1532464200@mykeywestportal.com
SUMMARY:Murder Mystery Dinner
DESCRIPTION:Can you solve this mystery??\nYou will get transported back to the Jazz-Age\, so don't forget to dress for that time period! \n  \nEvening includes: \n\nRetro photo wall\nComplimentary drink & bites\n4-course dinner\nInteractive mystery theatre\nLive music from the Jazz-age retrospectacular\nCostume contest\nSwing dance fundraiser after event\n\nLive band\nSwing dance lesson\nRaffle\n\n\n\n**admission prices include different variations of the things listed above \nSchedule of events: \n\n5:30 - check in and photo op\n6 - Cocktail hour\n7 - Dinner and mystery game\n8:30 - Live music and swing dancing\n\nCALL or TEXT 305-570-3000 for more information
URL:https://mykeywestportal.com/event/murder-mystery-mondays/
LOCATION:Blue Heaven\, 301 Whitehead St\, Key West\, FL\, 33040\, United States
ATTACH;FMTTYPE=image/jpeg:https://mykeywestportal.com/wp-content/uploads/2018/05/Murder_Mystery_Mondays_First_Flight.jpg
END:VEVENT
BEGIN:VEVENT
DTSTART;TZID=America/Halifax:20180703T183000
DTEND;TZID=America/Halifax:20180703T203000
DTSTAMP:20260424T033303
CREATED:20180619T162238Z
LAST-MODIFIED:20180619T162324Z
UID:3710-1530642600-1530649800@mykeywestportal.com
SUMMARY:Full Metal Trivia
DESCRIPTION:Random Questions. All Categories. Cool Prizes.\nEVERY TUESDAY! \n  \nCategories could be current news\, local\, knowledge\, birds\, rock and roll\, etc... endless possibilities \nPrizes could include gift cards up to a $50 value \nTrivia entry is FREE
URL:https://mykeywestportal.com/event/full-metal-trivia/
LOCATION:Mary Ellen's\, Applerouth Lane\, Key West\, FL\, 33040\, United States
ATTACH;FMTTYPE=image/jpeg:https://mykeywestportal.com/wp-content/uploads/2018/06/full_metal_trivia_night_mary_ellens_key_West.jpg
END:VEVENT
END:VCALENDAR