BEGIN:VCALENDAR
VERSION:2.0
PRODID:-//My Key West Portal is the Social Calendar for the Florida Keys and Key West - ECPv6.15.11//NONSGML v1.0//EN
CALSCALE:GREGORIAN
METHOD:PUBLISH
X-ORIGINAL-URL:https://mykeywestportal.com
X-WR-CALDESC:Events for My Key West Portal is the Social Calendar for the Florida Keys and Key West
REFRESH-INTERVAL;VALUE=DURATION:PT1H
X-Robots-Tag:noindex
X-PUBLISHED-TTL:PT1H
BEGIN:VTIMEZONE
TZID:UTC
BEGIN:STANDARD
TZOFFSETFROM:+0000
TZOFFSETTO:+0000
TZNAME:UTC
DTSTART:20170101T000000
END:STANDARD
END:VTIMEZONE
BEGIN:VTIMEZONE
TZID:America/Halifax
BEGIN:DAYLIGHT
TZOFFSETFROM:-0400
TZOFFSETTO:-0300
TZNAME:ADT
DTSTART:20170312T060000
END:DAYLIGHT
BEGIN:STANDARD
TZOFFSETFROM:-0300
TZOFFSETTO:-0400
TZNAME:AST
DTSTART:20171105T050000
END:STANDARD
BEGIN:DAYLIGHT
TZOFFSETFROM:-0400
TZOFFSETTO:-0300
TZNAME:ADT
DTSTART:20180311T060000
END:DAYLIGHT
BEGIN:STANDARD
TZOFFSETFROM:-0300
TZOFFSETTO:-0400
TZNAME:AST
DTSTART:20181104T050000
END:STANDARD
BEGIN:DAYLIGHT
TZOFFSETFROM:-0400
TZOFFSETTO:-0300
TZNAME:ADT
DTSTART:20190310T060000
END:DAYLIGHT
BEGIN:STANDARD
TZOFFSETFROM:-0300
TZOFFSETTO:-0400
TZNAME:AST
DTSTART:20191103T050000
END:STANDARD
END:VTIMEZONE
BEGIN:VEVENT
DTSTART;TZID=UTC:20180106T080000
DTEND;TZID=UTC:20180106T120000
DTSTAMP:20260424T033303
CREATED:20180104T213958Z
LAST-MODIFIED:20220621T013558Z
UID:870-1515225600-1515240000@mykeywestportal.com
SUMMARY:1st Saturday of the Month Hazardous Waste Drop Off
DESCRIPTION:This Household Hazardous Waste and Electronics Drop-off Day provides a safe and environmentally sound way to get rid of hard-to-dispose-of items. \nImportant Musts: \n  \n1. City of Key West Residents Only \n2. No Businesses \n  \n  \n  \n\nAccepting: Household Chemicals and Electronics\nGasoline (up to 5 gallons in a leakproof container)\nPaints\nStains\nPreservatives\nPesticides\nFertilizers\nRoofing Compounds\nWaste oil and Cooking oil\nResins and Solvents\nAdhesives and Caulks\nCorrosives and Acids\nCleaning Products\nAutomotive Fluids\nElectronics are also be accepted: microwaves\, TVs\, computers\, game systems\, speakers\, telephones\, circuit boards\, etc.\n\nFor more information contact the City of Key West: at 305-809-3776\, or Waste Management: at 305-296-8297. \n \n  \n  \n 
URL:https://mykeywestportal.com/event/1st-saturday-of-the-month-hazardous-waste-drop-off/
LOCATION:Indigenous Park\, 1801 White Street\, Key West\, FL\, 33040\, United States
CATEGORIES:Community
ATTACH;FMTTYPE=image/jpeg:https://mykeywestportal.com/wp-content/uploads/2018/01/MyKeyWestPortal-Hazardous-Waste-Drop-Off-Waste-Management-Key-West.jpg
END:VEVENT
BEGIN:VEVENT
DTSTART;TZID=America/Halifax:20180707T180000
DTEND;TZID=America/Halifax:20180707T210000
DTSTAMP:20260424T033303
CREATED:20180630T160055Z
LAST-MODIFIED:20180713T144135Z
UID:4266-1530986400-1530997200@mykeywestportal.com
SUMMARY:Kali in the Keys
DESCRIPTION:Join in this event to learn about a martial arts form known as Kali. \nThis group has been travelling all around the US teaching concepts of different martial arts to improve awareness\, intelligence\, and quality of life. \nKali is a Filipino  martial art and it is known for it's use with weapons\, tools\, contact flow drills\,  perpetual exercise movements\, and amazing mental and emotional benefits. It will also help with increased cognitive function and memory skills. Kali is known to increase mental speed\, hand eye coordination\, perceptual speed\, and focus. If that's not a good enough reason to learn\, Kali has been known to have immense stress relieving benefits. \n 
URL:https://mykeywestportal.com/event/4266/
LOCATION:Mallory Square\, 400 Wall St\, Key West\, FL\, 33040\, United States
ATTACH;FMTTYPE=image/jpeg:https://mykeywestportal.com/wp-content/uploads/2018/06/KaliInTheKeys_FilipinoYoga_KeyWest.jpg
END:VEVENT
BEGIN:VEVENT
DTSTART;TZID=UTC:20180303T090000
DTEND;TZID=UTC:20180303T120000
DTSTAMP:20260424T033303
CREATED:20180303T070108Z
LAST-MODIFIED:20180528T180119Z
UID:1905-1520067600-1520078400@mykeywestportal.com
SUMMARY:Home Depot Day
DESCRIPTION:Every 1st Saturday is "Home Depot Day" for kids in Key West.  I'm not sure if they do this in every Home Depot store all over the country\, but it's a big hit Key West. \nAt this monthly event - you'll find dozens of busy children:         -\n\n\nhammering\,\n\n\nbuilding\, and\n\n\npainting\n\n\nHome Depot provides tools\, and kits (a different project kit each month).  While supplies last kid work aprons are provided that children reuse\, and at future visits.  Souvenir project pins can be collected. \nCollecting pins on aprons reminds me of Hard Rock suspenders full of collector pins from various Hard Rocks around the world. \nThank you Home Depot for the many years of Saturday fun!\n \n  \n  \n  \n  \n  \n  \nResources: \nHome Depot Workshops in Key West (Big and Little Kids) \nWant to share your Home Depot Day photo on MyKeyWestPortal.com?   \nE-mail your photo and photo details to:  Awesome@SocialMediaG.com  with Subject line: My  Home Depot Workshop Photo  \n 
URL:https://mykeywestportal.com/event/home-depo-day/
LOCATION:Home Depo\, 2811 N Roosevelt Boulevard\, Key West\, FL\, 33040\, United States
ATTACH;FMTTYPE=image/jpeg:https://mykeywestportal.com/wp-content/uploads/2018/03/Home_Depo_Key_West_First_Saturday_MyKeyWestPortal_2.jpg
END:VEVENT
BEGIN:VEVENT
DTSTART;TZID=America/Halifax:20180623T100000
DTEND;TZID=America/Halifax:20180623T104500
DTSTAMP:20260424T033303
CREATED:20180618T141542Z
LAST-MODIFIED:20180618T141542Z
UID:3417-1529748000-1529750700@mykeywestportal.com
SUMMARY:Music Together in the Keys
DESCRIPTION:"Hello everybody! \nWe are Music Together in the Keys\, offering family music classes for ages 0-4. Our classes are 45 minutes of music and movement and offer an incredible opportunity for family bonding while children acquire essential skills and promote brain development. Our summer semester begins on 6/19 and registration is open! There are still spaces available in our Tuesday and Saturday family classes. Join us for 6 weeks of music\, dance and fun! Click on the link below to visit our website and register for classes. - Irie Monte" \nPricing: \n\nFirst child: $115\nSibling 1: $60\nSibling 2: $30\nNewborn-8 mo old sibling: FREE\n\nREGISTER TODAY! \nTuesday semester starts June 19 and Saturday semester starts June 23
URL:https://mykeywestportal.com/event/music-together-in-the-keys-2/
LOCATION:The Church of Christ\, 1700 Von
ATTACH;FMTTYPE=image/jpeg:https://mykeywestportal.com/wp-content/uploads/2018/06/drums_music_together_key_west_musical_instrument-1.jpg
END:VEVENT
BEGIN:VEVENT
DTSTART;TZID=America/Halifax:20180707T103000
DTEND;TZID=America/Halifax:20180707T103000
DTSTAMP:20260424T033303
CREATED:20180608T141848Z
LAST-MODIFIED:20180608T141848Z
UID:3213-1530959400-1530959400@mykeywestportal.com
SUMMARY:Charlotte's Web
DESCRIPTION:Kids Saturday Movie Club!\n"E.B. White's classic children's story comes to the screen in this live-action adaptation with an all-star voice cast (Julia Roberts\, Robert Redford\, John Cleese\, Oprah Winfrey\, Steve Buscemi\, Kathy Bates\, Cedric the Entertainer and more)." \n  \nAdmission: \n\nAges 12 and under: $1\nAges 13+ : $2
URL:https://mykeywestportal.com/event/charlottes-web/
LOCATION:Tropic Cinema\, 416 Eaton Street\, Key West\, FL\, 33040\, United States
ATTACH;FMTTYPE=image/jpeg:https://mykeywestportal.com/wp-content/uploads/2018/06/Charlottes_web_key_west_tropic_cinema.jpg
END:VEVENT
BEGIN:VEVENT
DTSTART;TZID=America/Halifax:20180707T110000
DTEND;TZID=America/Halifax:20180707T110000
DTSTAMP:20260424T033303
CREATED:20180608T144401Z
LAST-MODIFIED:20180608T144401Z
UID:3245-1530961200-1530961200@mykeywestportal.com
SUMMARY:Attack of the B's - Evil Brain from Outer Space
DESCRIPTION:Attack of the B's!\n"As a result of the more-is-better\, three-movies-in-one approach\, "Evil Brain From Outer Space" is a nonstop parade of new characters\, over-the-top fights\, elaborate chases and cliffhangers."
URL:https://mykeywestportal.com/event/attack-of-the-bs-evil-brain-from-outer-space/
LOCATION:Tropic Cinema\, 416 Eaton Street\, Key West\, FL\, 33040\, United States
ATTACH;FMTTYPE=image/jpeg:https://mykeywestportal.com/wp-content/uploads/2018/06/Evil_brain_from_outer_space_Attack_of_the_bs_tropic_cinema.jpg
END:VEVENT
BEGIN:VEVENT
DTSTART;TZID=America/Halifax:20180707T150000
DTEND;TZID=America/Halifax:20180707T173000
DTSTAMP:20260424T033303
CREATED:20180619T163811Z
LAST-MODIFIED:20180619T163811Z
UID:3768-1530975600-1530984600@mykeywestportal.com
SUMMARY:Mario Kart 64 Tournament
DESCRIPTION:Got MarioKart Skills??\nCome join in on the Mario Kart 64 Tournament and have the opportunity to win up to $100 worth of prizes \n**No registration required... just show up 🙂\nTEENS ONLY
URL:https://mykeywestportal.com/event/mario-kart-64-tournament/
LOCATION:Key West Library Youth\, 700 Fleming Street\, Key West
ATTACH;FMTTYPE=image/jpeg:https://mykeywestportal.com/wp-content/uploads/2018/06/mario_kart_64_tournament_youth_library_key_west.jpg
END:VEVENT
BEGIN:VEVENT
DTSTART;TZID=America/Halifax:20180707T180000
DTEND;TZID=America/Halifax:20180707T210000
DTSTAMP:20260424T033303
CREATED:20180630T160055Z
LAST-MODIFIED:20180713T144135Z
UID:4266-1530986400-1530997200@mykeywestportal.com
SUMMARY:Kali in the Keys
DESCRIPTION:Join in this event to learn about a martial arts form known as Kali. \nThis group has been travelling all around the US teaching concepts of different martial arts to improve awareness\, intelligence\, and quality of life. \nKali is a Filipino  martial art and it is known for it's use with weapons\, tools\, contact flow drills\,  perpetual exercise movements\, and amazing mental and emotional benefits. It will also help with increased cognitive function and memory skills. Kali is known to increase mental speed\, hand eye coordination\, perceptual speed\, and focus. If that's not a good enough reason to learn\, Kali has been known to have immense stress relieving benefits. \n 
URL:https://mykeywestportal.com/event/4266/
LOCATION:Mallory Square\, 400 Wall St\, Key West\, FL\, 33040\, United States
ATTACH;FMTTYPE=image/jpeg:https://mykeywestportal.com/wp-content/uploads/2018/06/KaliInTheKeys_FilipinoYoga_KeyWest.jpg
END:VEVENT
END:VCALENDAR