BEGIN:VCALENDAR
VERSION:2.0
PRODID:-//My Key West Portal is the Social Calendar for the Florida Keys and Key West - ECPv6.15.11//NONSGML v1.0//EN
CALSCALE:GREGORIAN
METHOD:PUBLISH
X-WR-CALNAME:My Key West Portal is the Social Calendar for the Florida Keys and Key West
X-ORIGINAL-URL:https://mykeywestportal.com
X-WR-CALDESC:Events for My Key West Portal is the Social Calendar for the Florida Keys and Key West
REFRESH-INTERVAL;VALUE=DURATION:PT1H
X-Robots-Tag:noindex
X-PUBLISHED-TTL:PT1H
BEGIN:VTIMEZONE
TZID:America/Halifax
BEGIN:DAYLIGHT
TZOFFSETFROM:-0400
TZOFFSETTO:-0300
TZNAME:ADT
DTSTART:20170312T060000
END:DAYLIGHT
BEGIN:STANDARD
TZOFFSETFROM:-0300
TZOFFSETTO:-0400
TZNAME:AST
DTSTART:20171105T050000
END:STANDARD
BEGIN:DAYLIGHT
TZOFFSETFROM:-0400
TZOFFSETTO:-0300
TZNAME:ADT
DTSTART:20180311T060000
END:DAYLIGHT
BEGIN:STANDARD
TZOFFSETFROM:-0300
TZOFFSETTO:-0400
TZNAME:AST
DTSTART:20181104T050000
END:STANDARD
BEGIN:DAYLIGHT
TZOFFSETFROM:-0400
TZOFFSETTO:-0300
TZNAME:ADT
DTSTART:20190310T060000
END:DAYLIGHT
BEGIN:STANDARD
TZOFFSETFROM:-0300
TZOFFSETTO:-0400
TZNAME:AST
DTSTART:20191103T050000
END:STANDARD
END:VTIMEZONE
BEGIN:VTIMEZONE
TZID:UTC
BEGIN:STANDARD
TZOFFSETFROM:+0000
TZOFFSETTO:+0000
TZNAME:UTC
DTSTART:20170101T000000
END:STANDARD
END:VTIMEZONE
BEGIN:VEVENT
DTSTART;TZID=America/Halifax:20180630T080000
DTEND;TZID=America/Halifax:20180630T080000
DTSTAMP:20260424T015239
CREATED:20180625T170503Z
LAST-MODIFIED:20180625T170531Z
UID:3952-1530345600-1530345600@mykeywestportal.com
SUMMARY:2018 Swim Around Key West
DESCRIPTION:The ONLY sanctioned\, insured\, and US Coast Guard permitted race around Key West!\nCheck in: 7:30 am-8:15 am \nRace begins: 8:30 am SHARP \nThe race is a 12.5 mile journey around the pristine island of Key West. \nThe swim takes place in TWO oceans with a lot of possible aquatic life spottings. \n  \n*All safety crew boats will be flying pirate flags and lifeguards are positioned throughout the course. \nSolo and team categories are available. \n**EVERY swimmer/team must have their own escort in the form of a kayak or motor boat \n  \nOPEN WATER \n\n800 yd\, 1 & 2 mile SWIM or compete in all 3 and 10K (6/2 mile)\nCheck in: 8-8:20 am\nStart times\n\n8:30 am for 10k and 800 yd\n1 mile starts 10 mins after completion of 800 yd\n\n2 mile starts 10 minutes after completion of 1 mile\n\n\n\n\nAge groups: 8&U\, 9-10\, 11-12\, 13-14\, 15-19\, 20-24\, 25-29\, 30-34\, 35-39\, 40-44\, 45-49\, 50-54\, 45-49\, 50-54\, 55-59\, 60-64\, 65-69\, 70+\n\nAwards for top 4 swimmers in each age group\n\n\n\n 
URL:https://mykeywestportal.com/event/2018-swim-around-key-west/
LOCATION:Smathers Beach\, 26001 S Roosevelt Blvd\, Key West\, FL\, 33040\, United States
ATTACH;FMTTYPE=image/jpeg:https://mykeywestportal.com/wp-content/uploads/2018/06/FKCC_SwimAroundKeyWest_KeyWest.jpg
END:VEVENT
BEGIN:VEVENT
DTSTART;TZID=America/Halifax:20180630T080000
DTEND;TZID=America/Halifax:20180630T170000
DTSTAMP:20260424T015239
CREATED:20180630T142623Z
LAST-MODIFIED:20180630T142623Z
UID:4184-1530345600-1530378000@mykeywestportal.com
SUMMARY:Boca Grande Key: ASA 101
DESCRIPTION:This is an intense 2 day educational live-aboard. Beginners are welcomed to come learn the basics of sailing a keelboat up to 45' in length.
URL:https://mykeywestportal.com/event/boca-grande-key-asa-101/
LOCATION:Bluesail\, 7025 Shrimp Road\, Ste 3\, Key West\, United States
ATTACH;FMTTYPE=image/jpeg:https://mykeywestportal.com/wp-content/uploads/2018/06/KeyWest_SailboatVacations_Bocagrande.jpg
ORGANIZER;CN="Bluesail Group":MAILTO:info@bluesailcharter.com
END:VEVENT
BEGIN:VEVENT
DTSTART;TZID=America/Halifax:20180625T083000
DTEND;TZID=America/Halifax:20180625T123000
DTSTAMP:20260424T015239
CREATED:20180528T154309Z
LAST-MODIFIED:20180528T154309Z
UID:2960-1529915400-1529929800@mykeywestportal.com
SUMMARY:Mariner Summer Camp
DESCRIPTION:Volleyball Camp!\n8:30 am - 10:30 am \n\nIncoming 4th-6th graders\n\n10:30 am - 12:30 am \n\n7th grade and up
URL:https://mykeywestportal.com/event/mariner-summer-camp/
LOCATION:The Basilica of St. Mary Star of the Sea\, 700 Truman Ave\, Key West\, FL\, 33040\, United States
ATTACH;FMTTYPE=image/jpeg:https://mykeywestportal.com/wp-content/uploads/2018/05/Mariner_Summer_Camp_2018_Volleyball_Camp.jpg
END:VEVENT
BEGIN:VEVENT
DTSTART;TZID=America/Halifax:20180625T090000
DTEND;TZID=America/Halifax:20180625T150000
DTSTAMP:20260424T015239
CREATED:20180523T140646Z
LAST-MODIFIED:20180523T180843Z
UID:2747-1529917200-1529938800@mykeywestportal.com
SUMMARY:Summer Art School - Week 3 - Mixed Media
DESCRIPTION:Go on a creative adventure this summer with fellow art enthusiasts!\nSummer art school is split up into 5 weeks\, this one being MIXED MEDIA! \n**Daily lunch (healthy)  is included \nThe next weeks include: \n\nPirate Adventures (7/9-7/13)\nOld Masters\, New Masters (7/23-7/27)
URL:https://mykeywestportal.com/event/2747/
LOCATION:The Studios of Key West\, 533 Eaton St.\, Key West\, FL\, 33040\, United States
ATTACH;FMTTYPE=image/jpeg:https://mykeywestportal.com/wp-content/uploads/2018/05/the_studios_key_west_kids_art_summer_camp.jpg
END:VEVENT
BEGIN:VEVENT
DTSTART;TZID=America/Halifax:20180625T090000
DTEND;TZID=America/Halifax:20180625T150000
DTSTAMP:20260424T015239
CREATED:20180528T145949Z
LAST-MODIFIED:20180528T145949Z
UID:2923-1529917200-1529938800@mykeywestportal.com
SUMMARY:Along the COAST Camp
DESCRIPTION:This "Along the COAST" is the 3rd of 5 weeks of COAST Camps offered this summer!\nThis week includes journeying around Old Town. Each day has a different starting point\, so make sure to check the daily schedule! \nDay 1: "Starting at the Southernmost Beach Pier we’ll weave through the southernmost neighborhood pointing out historic landmarks and end up at the Bahama Village pool for a snack and a dip. We’ll stay for an hour and play on the playground and move further into the “village” with a stop at The COAST Outpost for lunch and t-shirt printing. From there\, we’ll walk down to the old military lookouts behind the village and end at the Truman Waterfront for tree climbing\, games and the new splash park!" (http://www.coastprojects.com/key-west-summer-camp-2018) \n\nDrop off: Southernmost Beach\nPick up: EcoDiscovery Center\n\nDay 2: "We’ll start the day with a trek into Fort Zachary Taylor State Park where we’ll set up camp and\, together with the kids\, plan our expeditions for the day. From there\, we’ll discover the “Secret Beach”\, take a dip in the water\, beachcomb\, and head to the fort for games. We’ll end the day with a journey back to the EcoDiscovery Center for interactive exhibits and some more time at the splash park!" (http://www.coastprojects.com/key-west-summer-camp-2018) \n\nDrop off: EcoDiscovery Center\nPick up: EcoDiscovery Center\n\nDay 3: "We’ll start with a bit of navigation and course plotting so the kids know where we are headed and how to read a map. From there\, it’s a leisurely stroll through the Truman Annex and an exit onto Eaton Street. We’ll have a snack at Glazed Donuts and continue down towards the harbor for a dip in the water at Simonton Street Beach and a schooner tour. Then onwards to Bill Butler Park for tree and fruit identification. And tree climbing\, of course!"  (http://www.coastprojects.com/key-west-summer-camp-2018) \n\nDrop off: Truman Waterfront\nPick up: Bill Butler Park\n\nDay 4: "The day starts with a cemetery walk and iguana spotting! From there\, we’ll walk through the back streets of the Meadows for plant identification and fruit tasting. Then it’s games at Bayview Park\, a walk to the Wildlife Rescue Center for a tour and lunch in the shade. We’ll end at Higgs Beach — the old African cemetery — after a swim by the pier." (http://www.coastprojects.com/key-west-summer-camp-2018) \n\nDrop off: Bill Butler Park\nPick up: Higgs Beach\n\nDay 5: "We’ll walk the shores of Rest Beach for shell collecting and wildlife spotting — we’ve seen everything from queen conchs to ospreys catching fish. From there\, we’ll take a dip at the White Street Pier followed by lunch and lesson at West Martello. Then it’s a walk through the back streets of the Casa Marina neighborhood for stories and tree identifications and we’ll wind up at Southernmost Beach for a cool down in the water where the trek comes full circle!" (http://www.coastprojects.com/key-west-summer-camp-2018) \n\nDrop off: Higgs Beach\nPick up: Southernmost Beach\n\n  \n  \n**Price includes:  all materials\, camp t-shirt\, and fruit snacks daily \n**Camp for children ages 6-12
URL:https://mykeywestportal.com/event/along-the-coast-camp-2/
LOCATION:FL
ATTACH;FMTTYPE=image/jpeg:https://mykeywestportal.com/wp-content/uploads/2018/05/Kids-Camp-2016-KeyWest_Summer_Along_The_Coast.jpg
ORGANIZER;CN="COAST":MAILTO:ahoy@coastprojects.com
END:VEVENT
BEGIN:VEVENT
DTSTART;TZID=America/Halifax:20180630T090000
DTEND;TZID=America/Halifax:20180630T160000
DTSTAMP:20260424T015239
CREATED:20180629T140921Z
LAST-MODIFIED:20180629T140921Z
UID:4097-1530349200-1530374400@mykeywestportal.com
SUMMARY:Conch Republic Marine Army
DESCRIPTION:Debris cleanup and restoration of marine habitats\nWhat do you need to bring? \n\nKayak\, small skiff\, paddle board\, floaty chair\, or anything that gets you on the water\n\nKayaks will be available to rent at a discounted price from Big Pine Kayak Adventure (305-872-7474)\n\nplease book in advance and mention CRMA and cleanup at kikis\n\n\n\n\nSnorkels\, masks\, gloves\, old shoes\n\nAdditional fun includes: \n\nFamily friendly games \, tie dye shirt making\, prizes\, beach BBQ\, life music\, coffee pastries\, an ice cream truck\, and an after party!\n\n  \n 
URL:https://mykeywestportal.com/event/conch-republic-marine-army/
LOCATION:kikis sandbar\, 183 Barry\, Summerland Key\, FL\, 33040\, United States
ATTACH;FMTTYPE=image/jpeg:https://mykeywestportal.com/wp-content/uploads/2018/06/conchRepulic_MarineArmy_SummerlandKey.jpg
END:VEVENT
BEGIN:VEVENT
DTSTART;TZID=America/Halifax:20180623T100000
DTEND;TZID=America/Halifax:20180623T104500
DTSTAMP:20260424T015239
CREATED:20180618T141542Z
LAST-MODIFIED:20180618T141542Z
UID:3417-1529748000-1529750700@mykeywestportal.com
SUMMARY:Music Together in the Keys
DESCRIPTION:"Hello everybody! \nWe are Music Together in the Keys\, offering family music classes for ages 0-4. Our classes are 45 minutes of music and movement and offer an incredible opportunity for family bonding while children acquire essential skills and promote brain development. Our summer semester begins on 6/19 and registration is open! There are still spaces available in our Tuesday and Saturday family classes. Join us for 6 weeks of music\, dance and fun! Click on the link below to visit our website and register for classes. - Irie Monte" \nPricing: \n\nFirst child: $115\nSibling 1: $60\nSibling 2: $30\nNewborn-8 mo old sibling: FREE\n\nREGISTER TODAY! \nTuesday semester starts June 19 and Saturday semester starts June 23
URL:https://mykeywestportal.com/event/music-together-in-the-keys-2/
LOCATION:The Church of Christ\, 1700 Von
ATTACH;FMTTYPE=image/jpeg:https://mykeywestportal.com/wp-content/uploads/2018/06/drums_music_together_key_west_musical_instrument-1.jpg
END:VEVENT
BEGIN:VEVENT
DTSTART;TZID=America/Halifax:20180630T103000
DTEND;TZID=America/Halifax:20180630T103000
DTSTAMP:20260424T015239
CREATED:20180608T141658Z
LAST-MODIFIED:20180608T141658Z
UID:3210-1530354600-1530354600@mykeywestportal.com
SUMMARY:Legend of the Gaurdians
DESCRIPTION:Kids Saturday Movie Club!\n"Acclaimed filmmaker Zack Snyder makes his animation debut with the fantasy family adventure "Legend of the Guardians: The Owls of Ga'Hoole\," based on the beloved Guardians of Ga'Hoole books by Kathryn Lasky." \n  \nAdmission: \n\nAges 12 and under: $1\nAges 13+ : $2\n\n 
URL:https://mykeywestportal.com/event/legend-of-the-gaurdians/
LOCATION:Tropic Cinema\, 416 Eaton Street\, Key West\, FL\, 33040\, United States
ATTACH;FMTTYPE=image/jpeg:https://mykeywestportal.com/wp-content/uploads/2018/06/legend-guardians-poster_summer_movie_series_tropic_key_west.jpg
END:VEVENT
BEGIN:VEVENT
DTSTART;TZID=America/Halifax:20180630T110000
DTEND;TZID=America/Halifax:20180630T110000
DTSTAMP:20260424T015239
CREATED:20180608T144047Z
LAST-MODIFIED:20180608T144047Z
UID:3242-1530356400-1530356400@mykeywestportal.com
SUMMARY:Attack of the B's - Wild Woman of the Wongo
DESCRIPTION:Attack of the B's!\n"Can a village of gorgeous ladies and an island of good-looking men save each other from ugly wimps and evil ape-men? Will wild dancing\, crazy passion and stock footage of tropical islands follow? That's all up to ... the Wild Women of Wongo!"
URL:https://mykeywestportal.com/event/attack-of-the-bs-wild-woman-of-the-wongo/
LOCATION:Tropic Cinema\, 416 Eaton Street\, Key West\, FL\, 33040\, United States
ATTACH;FMTTYPE=image/jpeg:https://mykeywestportal.com/wp-content/uploads/2018/06/wild_woman_of_the_wongo_tropic_cinema_Attack_of_the_bs.jpg
END:VEVENT
BEGIN:VEVENT
DTSTART;TZID=America/Halifax:20180630T110000
DTEND;TZID=America/Halifax:20180630T170000
DTSTAMP:20260424T015239
CREATED:20180601T151851Z
LAST-MODIFIED:20180601T151851Z
UID:3111-1530356400-1530378000@mykeywestportal.com
SUMMARY:Key Lime Festival - Kick Off & Pie Drop
DESCRIPTION:The sweetest festival kick off you will ever go to!\nThe goal? Drop a Key Lime pie from the top of the lighthouse WITHOUT damaging it. \n\nGet creative and be prepared for complete failure\nExtra points given if pie hits the target on the ground\nEveryone is invited to drop their own pie or watch safely from the ground!\n\nIf you participate\, make sure to register so that there is a pie for you. It is FREE\n\n\nNo more than $20 can be used to make a flying device\n\nNothing motorized can be used\nDevice or container but be no longer than 1 ft in any direction\nThe pie must be visible\n\n\n\nWinner get $100 and a trophy!! \n\nOther trophies will be awarded for "Most Creative Design"\, " Best Decorated"\, "Best Key Lime Theme."\n\nCOSTUMES ENCOURAGED ( Like at every other Key West Event)
URL:https://mykeywestportal.com/event/key-lime-festival-kick-off-pie-drop/
LOCATION:Key West Lighthouse Museum\, 938 Whitehead Street\, Key West\, FL\, 33040\, United States
ATTACH;FMTTYPE=image/png:https://mykeywestportal.com/wp-content/uploads/2018/06/Key_Lime_Pie_Drop_Key_West_Lighthouse.png
END:VEVENT
BEGIN:VEVENT
DTSTART;TZID=UTC:20180526T130000
DTEND;TZID=UTC:20180526T130000
DTSTAMP:20260424T015239
CREATED:20180518T182423Z
LAST-MODIFIED:20180518T182423Z
UID:2542-1527339600-1527339600@mykeywestportal.com
SUMMARY:Pajama Saturday Weekend Movie
DESCRIPTION:Movie and Popcorn!!\nJoin us in the theater for a new and popular movie and popcorn
URL:https://mykeywestportal.com/event/pajama-saturday-weekend-movie/
LOCATION:Key West Library Youth\, 700 Fleming St\, Key West\, FL\, 33040\, United States
ATTACH;FMTTYPE=image/jpeg:https://mykeywestportal.com/wp-content/uploads/2018/05/Key_West_Youth_Library_Movie_Night_Pajama_Saturday.jpg
END:VEVENT
BEGIN:VEVENT
DTSTART;TZID=America/Halifax:20180630T140000
DTEND;TZID=America/Halifax:20180630T160000
DTSTAMP:20260424T015239
CREATED:20180601T160400Z
LAST-MODIFIED:20180601T160400Z
UID:3115-1530367200-1530374400@mykeywestportal.com
SUMMARY:Key Lime Fest - Cocktail Sip & Stroll
DESCRIPTION:Do you like cocktails\, key lime\, and bar strolls?! \nTrick question...obviously the answer is YESS! \nEvery Participant will get a wristband\, scorecard\, and souvenir sampling cup. \nHere's how it works: \n\n2-4 bartenders will be set up at each bar\nAfter check in\, visit the bars in ANY order before 4pm\nVisit each and rate the drink\n12 drinks total to sample\n11 contestants\n\nParticipating Bars: \n\nCharlie Mac's - 404 Southard St. - CHECK IN HERE\n\nCharlie Mac's Margarita\n\n\nMary Ellen's - 420 Applerouth Ln.\n\nMary Ellen's Margarita\n\n\nSmokin' Tuna Saloon - 4 Charles St.\n\nSmokin' Tuna Margarita\nSouthernmost Beach Cafe Margarita\n\n\nRick's - 202 Duval St.\n\nRick's Margarita\nRick's Martini\n\n\nTiki House - 430 Greene St.\n\nTiki House Margarita\n\n\nBagatelle - 115 Duval St.\n\nBagatelle Martini\n\n\nLegal Rum Distillery - 101 Simonton St.\n\nLegal Rum Margarita\n\n\nFirst Flight - 301 Whitehead St. - TURN VOTING CARDS IN HERE\n\nFirst Flight Margarita\nSunset Pier Margarita\nHot Tin Roof Martini
URL:https://mykeywestportal.com/event/key-lime-fest-cocktail-sip-stroll/
LOCATION:Charlie Mac's\, 404 Southard St\, Key West\, FL\, 33040\, United States
ATTACH;FMTTYPE=image/png:https://mykeywestportal.com/wp-content/uploads/2018/06/Key_Lime_Cocktail-Sip_And_Stroll.png
END:VEVENT
BEGIN:VEVENT
DTSTART;TZID=America/Halifax:20180630T183000
DTEND;TZID=America/Halifax:20180630T213000
DTSTAMP:20260424T015239
CREATED:20180619T132505Z
LAST-MODIFIED:20180619T132505Z
UID:3453-1530383400-1530394200@mykeywestportal.com
SUMMARY:Parents Night Out
DESCRIPTION:Parents Night Out - 4th of July themed \nAges:4-11 \nKids will get to enjoy: \n\nCrafts\nOpen gym\nGames\nPizza\nMovie\n\nPRE-REGISTER BY JUNE 29 \n**Please brign 2-3 water bottles each
URL:https://mykeywestportal.com/event/parents-night-out/
LOCATION:Key West Sports Academy\, 700 Truman Ave\, Key West\, FL\, 33040\, United States
ATTACH;FMTTYPE=image/jpeg:https://mykeywestportal.com/wp-content/uploads/2018/06/fourth_of_july_Themed_parents_night_out.jpg
ORGANIZER;CN="Key West Sports Academy":MAILTO:parties@keywestsportsacademy.com
END:VEVENT
END:VCALENDAR