BEGIN:VCALENDAR
VERSION:2.0
PRODID:-//My Key West Portal is the Social Calendar for the Florida Keys and Key West - ECPv6.15.11//NONSGML v1.0//EN
CALSCALE:GREGORIAN
METHOD:PUBLISH
X-WR-CALNAME:My Key West Portal is the Social Calendar for the Florida Keys and Key West
X-ORIGINAL-URL:https://mykeywestportal.com
X-WR-CALDESC:Events for My Key West Portal is the Social Calendar for the Florida Keys and Key West
REFRESH-INTERVAL;VALUE=DURATION:PT1H
X-Robots-Tag:noindex
X-PUBLISHED-TTL:PT1H
BEGIN:VTIMEZONE
TZID:UTC
BEGIN:STANDARD
TZOFFSETFROM:+0000
TZOFFSETTO:+0000
TZNAME:UTC
DTSTART:20170101T000000
END:STANDARD
END:VTIMEZONE
BEGIN:VTIMEZONE
TZID:America/Halifax
BEGIN:DAYLIGHT
TZOFFSETFROM:-0400
TZOFFSETTO:-0300
TZNAME:ADT
DTSTART:20170312T060000
END:DAYLIGHT
BEGIN:STANDARD
TZOFFSETFROM:-0300
TZOFFSETTO:-0400
TZNAME:AST
DTSTART:20171105T050000
END:STANDARD
BEGIN:DAYLIGHT
TZOFFSETFROM:-0400
TZOFFSETTO:-0300
TZNAME:ADT
DTSTART:20180311T060000
END:DAYLIGHT
BEGIN:STANDARD
TZOFFSETFROM:-0300
TZOFFSETTO:-0400
TZNAME:AST
DTSTART:20181104T050000
END:STANDARD
BEGIN:DAYLIGHT
TZOFFSETFROM:-0400
TZOFFSETTO:-0300
TZNAME:ADT
DTSTART:20190310T060000
END:DAYLIGHT
BEGIN:STANDARD
TZOFFSETFROM:-0300
TZOFFSETTO:-0400
TZNAME:AST
DTSTART:20191103T050000
END:STANDARD
END:VTIMEZONE
BEGIN:VEVENT
DTSTART;TZID=UTC:20180618T080000
DTEND;TZID=UTC:20180618T160000
DTSTAMP:20260424T015235
CREATED:20180514T211938Z
LAST-MODIFIED:20180523T140312Z
UID:2523-1529308800-1529337600@mykeywestportal.com
SUMMARY:Ninja Style Summer Camp
DESCRIPTION:Join your fellow ninjas at camp!!\nActivities include: \n\nWorking on ninja skills/tumbling\nObstacle course\nNinja crafts\nGames\nMore\n\nNinja uniform REQUIRED - $32 \nNinjas must bring: \n\n2-3 bottles of water\nLUNCH\nSnacks\n\n**Payment due in full at time of registration
URL:https://mykeywestportal.com/event/ninja-style-summer-camp/
LOCATION:Key West Sports Academy\, 700 Truman Ave\, Key West\, FL\, 33040\, United States
ATTACH;FMTTYPE=image/jpeg:https://mykeywestportal.com/wp-content/uploads/2018/05/Ninja_Style_Summer_Camp_Key_West_Sports_Academy.jpg
ORGANIZER;CN="Key West Sports Academy":MAILTO:parties@keywestsportsacademy.com
END:VEVENT
BEGIN:VEVENT
DTSTART;TZID=UTC:20180618T083000
DTEND;TZID=UTC:20180618T120000
DTSTAMP:20260424T015235
CREATED:20180514T191506Z
LAST-MODIFIED:20180523T140240Z
UID:2511-1529310600-1529323200@mykeywestportal.com
SUMMARY:Rolling River Rampage VBS
DESCRIPTION:Vacation Bible School Time!!\nRolling River Rampage will include new music\, science\, creative crafts\, recreation\, and memorable bible stories! \nRegistration can be found on their website and is open to all children in grades pre-k through 5.
URL:https://mykeywestportal.com/event/rolling-river-rampage-vbs/
LOCATION:Key West United Methodist Church\, 600 Eaton Street\, Key West\, FL\, 33040\, United States
ATTACH;FMTTYPE=image/png:https://mykeywestportal.com/wp-content/uploads/2018/05/vbs_rolling_river_rampage_logo_nobg-1.png
ORGANIZER;CN="Lori Mullins":MAILTO:clorimullins@gmail.com
END:VEVENT
BEGIN:VEVENT
DTSTART;TZID=America/Halifax:20180618T090000
DTEND;TZID=America/Halifax:20180618T150000
DTSTAMP:20260424T015235
CREATED:20180528T152053Z
LAST-MODIFIED:20180528T152053Z
UID:2939-1529312400-1529334000@mykeywestportal.com
SUMMARY:COAST To COAST
DESCRIPTION:This "COAST to COAST" is the 2nd of 5 weeks of COAST Camps offered this summer!\nKids will be introduced to life lessons and new skills that will prove priceless while living by the coast. Each day has a different starting point\, so make sure to check the daily schedule! \nDay 1: " Morning meeting and introduction followed by hands on t-shirt printing lesson\, so kid’s will have a camp shirt for the week! Then we’ll trek into Fort Zach and head to the “secret beach” where kids will have the opportunity to explore the water’s edge\, beachcomb\, and cool off with swimming and snorkeling\, while we offer some integrated lessons on the local wildlife. From there\, we’ll have lunch in the shade\, learn the basics of climbing trees and make our way through the hardwood hammock\, ending the day at the new splash park." (http://www.coastprojects.com/coast-to-coast-camp-key-west) \n\nDrop off & pick up: EcoDiscovery Center\n\nDay 2: "We’ll start the day with an introduction to the very basics of skateboarding — we’ll provide boards or feel free to bring your own! From there\, we’ll go on a nature walk with the goal of teaching the kids to identify some of our native and exotic trees and plants. Then we’ll snack on local fruit during lunch in the shade. From there\, we’ll head inside the Eco Discovery Center for interactive lessons on the local marine life and ecosystems and a short film about growing up on the water in the Keys. We’ll end the day at the splash park for games and cooling off!" (http://www.coastprojects.com/coast-to-coast-camp-key-west) \n\nDrop off & pick up: EcoDiscovery Center\n\nDay 3: "We’ll start the day with a tour of the civil war fort followed by a serious game of capture the flag in the fort. From there\, we’ll head to the main beach where we’ll set up camp and teach the kids some basic survival skills\, like building shelter\, tying knots and some boating safety drills (done on land). From there\, we’ll have a sandcastle building competition\, lunch under the pines and plenty of time in the water as the day heats up! We’ll end the day with a trek out of the park and finish the day with a lesson in kite flying!" (http://www.coastprojects.com/coast-to-coast-camp-key-west) \n\nDrop off & pick up: EcoDiscovery Center\n\nDay 4: "Those interested in more skateboarding will have the chance to start the day coasting around the Truman Waterfront. We’ll have games for the rest and then it’s onto a mid-morning tour of the USCG Cutter Ingham. We’ll have lunch on the pier and team building games on the lawn. Then we’ll hike through the Truman Annex and head for an afternoon snack at Glazed Donuts! After a slow walk back where kids can test their knowledge of local plants and trees\, we’ll end the day cooling off at the splash park." (http://www.coastprojects.com/coast-to-coast-camp-key-west) \n\nDrop off & pick up: Eco Discovery Center\n\nDay 5: "We’ll start the day with a hike into Fort Zach where we’ll set up camp in the shade and look forward to a relaxing final day at the beach with plenty of time in the water\, games and some fun “tests” where kids will have the chance to recall what they’ve learned throughout the week. We’ll have a cookout where kids can learn the finer points of grilling out and spitting watermelon seeds. We’ll end the day with a scavenger hunt and final trek out of the park ending the week where it all started!" (http://www.coastprojects.com/coast-to-coast-camp-key-west) \n\nDrop off & pick up: EcoDiscovery Center\n\n  \n  \n**Price includes:  all materials\, camp t-shirt\, and fruit snacks daily \n**Camp for children ages 6-12
URL:https://mykeywestportal.com/event/coast-to-coast/
LOCATION:FL
ATTACH;FMTTYPE=image/jpeg:https://mykeywestportal.com/wp-content/uploads/2018/05/COAST_to_COAST_Key_West_Camp.jpg
ORGANIZER;CN="COAST":MAILTO:ahoy@coastprojects.com
END:VEVENT
BEGIN:VEVENT
DTSTART;TZID=America/Halifax:20180611T090000
DTEND;TZID=America/Halifax:20180611T160000
DTSTAMP:20260424T015235
CREATED:20180528T160905Z
LAST-MODIFIED:20180611T141045Z
UID:2967-1528707600-1528732800@mykeywestportal.com
SUMMARY:Sailing Camp 2018
DESCRIPTION:Sailing camp has 10 separate/week-long sessions!\nEach week will offer either a beginner\, intermediate\, or adventurous class. \n**All classes in RED are full. \n***Check website for update list if availability!!! \n\n6/11-6/15 : Beginner (9-17 yrs)\n6/18-6/22 : Beginner (9-17 yrs)\n6/25-6/29 : Intermediate (9-17)\n7/2-7-6 : Beginner (9-17)\n7/9-7/13 : Young beginner (6-10 yrs)\n7/16-7/20 : Adventure (7-17 yrs)\n7/23-7/27 : Intermediate (9-17 yrs)\n7/30-8/3 : Beginner (9-17 yrs)\n8/6-8/10 : Young beginner (6-10 yrs)\n8/13-8-17 : Adventure (7-17 yrs)\n\nThe instructors at the Center are certified through US Sailing. They have all instructed sailing on a variety of boats from 8' - 36' \nFor more information\, Contact: \n\nkwsceducation@gmail.com\nHeidi Ruse 804-832-4731\nBen Hermelin 314-349-9929
URL:https://mykeywestportal.com/event/sailing-camp-2018/
LOCATION:Key West Community Sailing Center\, 705 Palm Ave\, Key West\, FL\, 33040\, United States
ATTACH;FMTTYPE=image/jpeg:https://mykeywestportal.com/wp-content/uploads/2018/05/Youth_Sailing_Class_Key_West.jpg
END:VEVENT
BEGIN:VEVENT
DTSTART;TZID=UTC:20180622T170000
DTEND;TZID=UTC:20180622T200000
DTSTAMP:20260424T015235
CREATED:20180521T195107Z
LAST-MODIFIED:20180521T195107Z
UID:2693-1529686800-1529697600@mykeywestportal.com
SUMMARY:Fireworks Fundraiser and Silent Auction
DESCRIPTION:Help raise money for the Rotary Clubs 4th of July Fireworks and scholarship program! \nThere will be great auction items available. \n 
URL:https://mykeywestportal.com/event/fireworks-fundraiser-and-silent-auction/
LOCATION:Side Bar Key West\, 504 Angela St\, Key West\, FL\, 33040\, United States
ATTACH;FMTTYPE=image/jpeg:https://mykeywestportal.com/wp-content/uploads/2018/05/Scholarship_Fund_Drive_Rotary_Club_Key_West.jpg
END:VEVENT
BEGIN:VEVENT
DTSTART;TZID=America/Halifax:20180622T183000
DTEND;TZID=America/Halifax:20180622T183000
DTSTAMP:20260424T015235
CREATED:20180615T163034Z
LAST-MODIFIED:20180615T165511Z
UID:3375-1529692200-1529692200@mykeywestportal.com
SUMMARY:Beach Movie Night
DESCRIPTION:Summer Series Movie Night on the Beach!\nPirates of the Caribbean\nParty starts at 6:30pm \nMovie starts at 8pm \n  \n\nDrink specials\nPopcorn\nBeachside mural reveal\nChance to meet Lance Barry (the mural artist)\nBeach games\nMovie themed surprises\nOther fun surprises
URL:https://mykeywestportal.com/event/movie-on-the-beach/
LOCATION:Lagerheads Beach Bar & Grill\, 0 Simonton St\, Key West\, FL\, 33040\, United States
ATTACH;FMTTYPE=image/jpeg:https://mykeywestportal.com/wp-content/uploads/2018/06/pirates_of_the_caribbean_lagerheads_-beach_movie_night_family_friendly.jpg
END:VEVENT
BEGIN:VEVENT
DTSTART;TZID=America/Halifax:20180622T183000
DTEND;TZID=America/Halifax:20180622T213000
DTSTAMP:20260424T015235
CREATED:20180611T164145Z
LAST-MODIFIED:20180611T164145Z
UID:3362-1529692200-1529703000@mykeywestportal.com
SUMMARY:Movie Night - The Greatest Showman
DESCRIPTION:Community Movie Night!!
URL:https://mykeywestportal.com/event/movie-night-the-greatest-showman/
LOCATION:Keys Vineyard Community Church\, 100 County rd\, Big Pine Key\, FL\, 33043\, United States
ATTACH;FMTTYPE=image/jpeg:https://mykeywestportal.com/wp-content/uploads/2018/06/the_greatest_showman_keys_vineyard_community_movie_night.jpg
END:VEVENT
END:VCALENDAR