BEGIN:VCALENDAR
VERSION:2.0
PRODID:-//My Key West Portal is the Social Calendar for the Florida Keys and Key West - ECPv6.15.11//NONSGML v1.0//EN
CALSCALE:GREGORIAN
METHOD:PUBLISH
X-ORIGINAL-URL:https://mykeywestportal.com
X-WR-CALDESC:Events for My Key West Portal is the Social Calendar for the Florida Keys and Key West
REFRESH-INTERVAL;VALUE=DURATION:PT1H
X-Robots-Tag:noindex
X-PUBLISHED-TTL:PT1H
BEGIN:VTIMEZONE
TZID:UTC
BEGIN:STANDARD
TZOFFSETFROM:+0000
TZOFFSETTO:+0000
TZNAME:UTC
DTSTART:20170101T000000
END:STANDARD
END:VTIMEZONE
BEGIN:VTIMEZONE
TZID:America/Halifax
BEGIN:DAYLIGHT
TZOFFSETFROM:-0400
TZOFFSETTO:-0300
TZNAME:ADT
DTSTART:20170312T060000
END:DAYLIGHT
BEGIN:STANDARD
TZOFFSETFROM:-0300
TZOFFSETTO:-0400
TZNAME:AST
DTSTART:20171105T050000
END:STANDARD
BEGIN:DAYLIGHT
TZOFFSETFROM:-0400
TZOFFSETTO:-0300
TZNAME:ADT
DTSTART:20180311T060000
END:DAYLIGHT
BEGIN:STANDARD
TZOFFSETFROM:-0300
TZOFFSETTO:-0400
TZNAME:AST
DTSTART:20181104T050000
END:STANDARD
BEGIN:DAYLIGHT
TZOFFSETFROM:-0400
TZOFFSETTO:-0300
TZNAME:ADT
DTSTART:20190310T060000
END:DAYLIGHT
BEGIN:STANDARD
TZOFFSETFROM:-0300
TZOFFSETTO:-0400
TZNAME:AST
DTSTART:20191103T050000
END:STANDARD
END:VTIMEZONE
BEGIN:VEVENT
DTSTART;TZID=UTC:20180104T090000
DTEND;TZID=UTC:20180104T140000
DTSTAMP:20260423T235626
CREATED:20180104T031906Z
LAST-MODIFIED:20180104T032755Z
UID:724-1515056400-1515074400@mykeywestportal.com
SUMMARY:Green Market
DESCRIPTION:Every Thursday  find an eclectic array of vendors at Key West Weekly Green Market at Bayview Park.\nLife can be very simple shopping for pre-made meals\, fresh produce\, delicious cheeses\, beautiful orchids\, some health and beauty needs at this small market. \nPlanning a party this season\, or while you’re in town with friends and family?  Why not have a Paella Party?  They’re serving Paella at the Green Market – they cater as well. \n        \n 
URL:https://mykeywestportal.com/event/green-market/
LOCATION:Bayview Park\, Truman Ave\, and Eisenhower Dr\, Key West\, FL\, 33040\, United States
ATTACH;FMTTYPE=image/jpeg:https://mykeywestportal.com/wp-content/uploads/2018/01/Mediterranean_Key_West_GreenMarket__MyKeyWestPortal.com_.jpg
END:VEVENT
BEGIN:VEVENT
DTSTART;TZID=America/Halifax:20180531T100000
DTEND;TZID=America/Halifax:20180531T140000
DTSTAMP:20260423T235626
CREATED:20180528T164501Z
LAST-MODIFIED:20180528T164501Z
UID:3025-1527760800-1527775200@mykeywestportal.com
SUMMARY:Eat Fats for Energy Keto Mixer
DESCRIPTION:Weekly Keto mixer!!\n**Includes therapeutic samples and give-aways**
URL:https://mykeywestportal.com/event/eat-fats-for-energy-keto-mixer/
LOCATION:Bayview Park\, Truman Ave\, and Eisenhower Dr\, Key West\, FL\, 33040\, United States
ATTACH;FMTTYPE=image/jpeg:https://mykeywestportal.com/wp-content/uploads/2018/05/Keto_Royalty_Mixer_Key_West.jpg
END:VEVENT
BEGIN:VEVENT
DTSTART;TZID=UTC:20180531T160000
DTEND;TZID=UTC:20180531T190000
DTSTAMP:20260423T235626
CREATED:20180518T213617Z
LAST-MODIFIED:20180518T213617Z
UID:2587-1527782400-1527793200@mykeywestportal.com
SUMMARY:Wine Tasting
DESCRIPTION:Taste the flavors of old world wines from France and Italy! \n* Wines will be available for purchase
URL:https://mykeywestportal.com/event/wine-tasting-2/
LOCATION:The Roost\, 508 Fleming Street\, Key West\, FL\, 33040\, United States
ATTACH;FMTTYPE=image/jpeg:https://mykeywestportal.com/wp-content/uploads/2018/05/Wine_Tasting_The_Roost_Key_West.jpg
END:VEVENT
BEGIN:VEVENT
DTSTART;TZID=UTC:20180524T180000
DTEND;TZID=UTC:20180524T230000
DTSTAMP:20260423T235626
CREATED:20180518T225214Z
LAST-MODIFIED:20180618T180725Z
UID:2605-1527184800-1527202800@mykeywestportal.com
SUMMARY:Bike Night
DESCRIPTION:Ride your bike to Mellow Cafe Key West and receive 50% food and a chance to win a FREE BIKE \n  \nEntertainment by Ike Kanakanui from 6-9pm \nRaffle:First Thursday of the month \n  \nPROMOTING SAFE BIKING IN KEY WEST!
URL:https://mykeywestportal.com/event/bike-night/
LOCATION:Mellow Cafe\, 1605 N Roosevelt Blvd\, Suite 1\, Key West\, FL\, 33040\, United States
ATTACH;FMTTYPE=image/jpeg:https://mykeywestportal.com/wp-content/uploads/2018/05/Mellow_Venture_Cafe_Gastropub_Bike_Night_Key_West.jpg
END:VEVENT
BEGIN:VEVENT
DTSTART;TZID=UTC:20180524T210000
DTEND;TZID=UTC:20180524T210000
DTSTAMP:20260423T235626
CREATED:20180518T185224Z
LAST-MODIFIED:20180518T185224Z
UID:2553-1527195600-1527195600@mykeywestportal.com
SUMMARY:Trivia Night
DESCRIPTION:EATING. DRINKING. THINKING.\nTrivia night is on EVERY Thursday night and includes JD and DJ WMAF 1230AM \nThere will be prizes available along with food and drinks for purchase!
URL:https://mykeywestportal.com/event/trivia-night/
LOCATION:Lucy's Retired Surfers Bar\, 221 Duval St\, Key West\, FL\, 33040\, United States
ATTACH;FMTTYPE=image/jpeg:https://mykeywestportal.com/wp-content/uploads/2018/05/Trivia_Night_Lucy_Retired_Surfers_Bar_And_Restaurant.jpg
END:VEVENT
END:VCALENDAR