BEGIN:VCALENDAR
VERSION:2.0
PRODID:-//My Key West Portal is the Social Calendar for the Florida Keys and Key West - ECPv6.15.11//NONSGML v1.0//EN
CALSCALE:GREGORIAN
METHOD:PUBLISH
X-WR-CALNAME:My Key West Portal is the Social Calendar for the Florida Keys and Key West
X-ORIGINAL-URL:https://mykeywestportal.com
X-WR-CALDESC:Events for My Key West Portal is the Social Calendar for the Florida Keys and Key West
REFRESH-INTERVAL;VALUE=DURATION:PT1H
X-Robots-Tag:noindex
X-PUBLISHED-TTL:PT1H
BEGIN:VTIMEZONE
TZID:UTC
BEGIN:STANDARD
TZOFFSETFROM:+0000
TZOFFSETTO:+0000
TZNAME:UTC
DTSTART:20170101T000000
END:STANDARD
END:VTIMEZONE
BEGIN:VEVENT
DTSTART;TZID=UTC:20180527T110000
DTEND;TZID=UTC:20180527T180000
DTSTAMP:20260423T235532
CREATED:20180514T182213Z
LAST-MODIFIED:20180514T182213Z
UID:2502-1527418800-1527444000@mykeywestportal.com
SUMMARY:27th Annual Schooner Wharf Minimal Regatta
DESCRIPTION:Can you build a boat that will stay afloat?! Let's find out!\nObjective: each team of 6 must build a boat with the intention of staying afloat through the entire race course in the Key West Bight. \nThe Catch?! : The boats can only be made of plywood\, fasteners\, duct tape\, and 2' x 4's \nWhether you are here to watch or join in\, it will be memorable for sure! \nThe event wouldn't be complete without live music and of course\, drinks for purchase! \n  \nRegistration Form: \nhttps://schoonerwharf.com/18events/minimal-reg-lg.jpg
URL:https://mykeywestportal.com/event/27th-annual-schooner-wharf-minimal-regatta/
LOCATION:Schooner Wharf\, 202 William St\, Key West\, FL\, 33040\, United States
ATTACH;FMTTYPE=image/jpeg:https://mykeywestportal.com/wp-content/uploads/2018/05/Schooner_Wharf_Minimal_Regatta_May_Key_West.jpg
END:VEVENT
BEGIN:VEVENT
DTSTART;TZID=UTC:20180527T130000
DTEND;TZID=UTC:20180527T150000
DTSTAMP:20260423T235532
CREATED:20180518T200132Z
LAST-MODIFIED:20180518T200132Z
UID:2583-1527426000-1527433200@mykeywestportal.com
SUMMARY:Animal Farm Open House
DESCRIPTION:Come hang out with the animals!!\nThe animal farm is open to the public ever 2nd and 4th Sunday of each month!
URL:https://mykeywestportal.com/event/animal-farm-open-house/
LOCATION:Monroe County Sheriff's Office Animal Club\, 5501\, College Road\, FL\, 33040\, United States
ATTACH;FMTTYPE=image/jpeg:https://mykeywestportal.com/wp-content/uploads/2018/05/Monroe_Country_Sheriffs_Office_Open_House.jpg
END:VEVENT
BEGIN:VEVENT
DTSTART;TZID=UTC:20180128T130000
DTEND;TZID=UTC:20180128T150000
DTSTAMP:20260423T235532
CREATED:20240904T135536Z
LAST-MODIFIED:20240904T135536Z
UID:8087-1517144400-1517151600@mykeywestportal.com
SUMMARY:Sheriff's Animal Farm
DESCRIPTION:A great place to visit\, observe animals\, and in some cases - touch them. \nHere is a list of some of the animals: \n\nLarge aviary\nReptile exhibit\nRabbit warren\nFarm animals\nMo the Sloth\nMiniature horses\nAngus the steer\nChickens\nPigs\nGoats\nRabbits\nKinkajous\nKelsey the Lemur\nAlpacas\nAlbino python\nPeacocks and many tropical birds\n85 pound African Spurred Tortoise\n\nResources: \nMonroe County Sheriff's Animal Farm \nContact:  Jeanne Selander \nEmail:  jselander@keysso.net \n  \n 
URL:https://mykeywestportal.com/event/sheriffs-animal-farm/
LOCATION:FL
ATTACH;FMTTYPE=image/jpeg:https://mykeywestportal.com/wp-content/uploads/2018/01/monroecounty_animalfarm_sloth.jpg
END:VEVENT
BEGIN:VEVENT
DTSTART;TZID=UTC:20180527T130000
DTEND;TZID=UTC:20180527T160000
DTSTAMP:20260423T235532
CREATED:20180521T181558Z
LAST-MODIFIED:20180521T181558Z
UID:2662-1527426000-1527436800@mykeywestportal.com
SUMMARY:Pig Roast
DESCRIPTION:Memorial Day Pig Roast Feast!!\nFor only $122/person\, enjoy: \n\nMojo marinated roasted pig\nSmoked gouda mac n' cheese\nCorn mash\nMore!
URL:https://mykeywestportal.com/event/pig-roast/
LOCATION:Oceans Edge Key West Resort\, Hotel\, and Marina\, 5950 Peninsular Avenue\, Key West\, FL\, 33040\, United States
ATTACH;FMTTYPE=image/jpeg:https://mykeywestportal.com/wp-content/uploads/2018/05/MemorialDay_Pig_Roast_Oceans_Edge_Key_West.jpg
END:VEVENT
BEGIN:VEVENT
DTSTART;TZID=UTC:20180527T190000
DTEND;TZID=UTC:20180527T235900
DTSTAMP:20260423T235532
CREATED:20180518T181651Z
LAST-MODIFIED:20180518T181651Z
UID:2540-1527447600-1527465540@mykeywestportal.com
SUMMARY:Full Moon Experience
DESCRIPTION:Come together and celebrate us!\nGuests are invited to have a big party on the beach\, simply celebrating everyone out there to join in! \nIt is encouraged that you bring an item that enhances the party - beach ball\, telescope\, bubble wand\, unique performance\, anything out of the box! \n\n7pm - Free yoga class\n8pm - Moonrise celebration with a live DJ\n8:45pm - Key West Junkanoos - DJ to follow\n9:45pm - Rythm & Fire dance performance\n10pm - 12am - Live DJ\n\nWear your best flower attire and feel free to bring flowers to share as well! \n$10 entry fee includes reusable cup along with a signature drink \n\n$1 of every cup purchased goes to Reef Relief\n\n**Cash bar open all night \n**Food vendors will be on site \n 
URL:https://mykeywestportal.com/event/full-moon-experience/
LOCATION:Higgs Beach\, Key West\, FL\, 33040\, United States
ATTACH;FMTTYPE=image/png:https://mykeywestportal.com/wp-content/uploads/2018/04/Key_West_Full_Moon_Experience_April_2018.png
END:VEVENT
END:VCALENDAR