BEGIN:VCALENDAR
VERSION:2.0
PRODID:-//My Key West Portal is the Social Calendar for the Florida Keys and Key West - ECPv6.15.11//NONSGML v1.0//EN
CALSCALE:GREGORIAN
METHOD:PUBLISH
X-ORIGINAL-URL:https://mykeywestportal.com
X-WR-CALDESC:Events for My Key West Portal is the Social Calendar for the Florida Keys and Key West
REFRESH-INTERVAL;VALUE=DURATION:PT1H
X-Robots-Tag:noindex
X-PUBLISHED-TTL:PT1H
BEGIN:VTIMEZONE
TZID:UTC
BEGIN:STANDARD
TZOFFSETFROM:+0000
TZOFFSETTO:+0000
TZNAME:UTC
DTSTART:20170101T000000
END:STANDARD
END:VTIMEZONE
BEGIN:VEVENT
DTSTART;TZID=UTC:20180525T200000
DTEND;TZID=UTC:20180525T200000
DTSTAMP:20260423T235626
CREATED:20180430T220857Z
LAST-MODIFIED:20180430T220857Z
UID:2490-1527278400-1527278400@mykeywestportal.com
SUMMARY:Silent Disco
DESCRIPTION:Choose your music. Wear your headset. Dance. \n3 DJs will be performing and you have to choose which one you want to dance to! \nThe music is broadcasted via radio transmission to each individual wireless headset. \nFood and drinks will be available on site.
URL:https://mykeywestportal.com/event/silent-disco/
LOCATION:Sunset Green Event Lawn at The Keys Collection\, 3820 N Roosevelt Blvd\, Key West\, FL\, 33040\, United States
ATTACH;FMTTYPE=image/jpeg:https://mykeywestportal.com/wp-content/uploads/2018/04/sunset_green_silent_disco_rave_key_west.jpg
END:VEVENT
END:VCALENDAR