BEGIN:VCALENDAR
VERSION:2.0
PRODID:-//My Key West Portal is the Social Calendar for the Florida Keys and Key West - ECPv6.15.11//NONSGML v1.0//EN
CALSCALE:GREGORIAN
METHOD:PUBLISH
X-ORIGINAL-URL:https://mykeywestportal.com
X-WR-CALDESC:Events for My Key West Portal is the Social Calendar for the Florida Keys and Key West
REFRESH-INTERVAL;VALUE=DURATION:PT1H
X-Robots-Tag:noindex
X-PUBLISHED-TTL:PT1H
BEGIN:VTIMEZONE
TZID:UTC
BEGIN:STANDARD
TZOFFSETFROM:+0000
TZOFFSETTO:+0000
TZNAME:UTC
DTSTART:20170101T000000
END:STANDARD
END:VTIMEZONE
BEGIN:VEVENT
DTSTART;VALUE=DATE:20180509
DTEND;VALUE=DATE:20180514
DTSTAMP:20260423T235626
CREATED:20180423T212247Z
LAST-MODIFIED:20180430T222004Z
UID:2453-1525838400-1526255999@mykeywestportal.com
SUMMARY:Key West Songwriters' Festival
DESCRIPTION:Find the full schedule: http://mykeywestportal.com/blog/\n6:00pm -  Margaritaville Resort ~ 2018 KWSWF KICK OFF\n\nTX Bash on the Pier- Keith Gattis & The Amigo's Feat: Wade Bowen\, Jack Ingram &\nMore!\n\n8:00pm -  Pier House Resort \n\n 8:00pm - Doug Johnson\, Rob Crosby\n 9:00pm - Ryan Beaver\, Paul Jenkins\n 10:00pm - Dylan Altman\, Even Stevens\n\n8:00pm - San Carlos Institute SOLD OUT \n\n8:00pm - Cameron Montgomery\, James McNair\, Daniel Ross\n9:00pm - RaeLynn\, Sarah Buxton\, Jordan Schmidt\n10:00pm -Tyler Hubbard\, Brian Kelly\, Morgan Wallen\, Craig Wiseman\, Corey\nCrowder\n\n8:00pm - Key West Theater $ \n\n8:00pm - Clint Daniels\, Ronnie Bowman\n9:00pm - Paul Thorn\n10:00pm - Robert Earl Keen\n\n9:00pm - Rick’s / Durty Harry’s \n\n9:00pm - Love & Theft\n10:30pm - Gunner & Grizzly Boys\n\n10:00pm - Conch Republic Seafood Company \n\n10:00pm - Leigh Nash\, Caitlin Rose\n11:00pm - Channing Wilson\, Rob Snyder\, Dave\nKennedy\nMidnight - Trent Tomlinson\, Tyler Reeve\n\n10:00pm - Smokin' Tuna Saloon HD Radio Late Night Jam \n\n10:00pm - The Bass Brothers\nMidnight - Hey Monea
URL:https://mykeywestportal.com/event/key-west-songwriters-festival/
LOCATION:Key West\, 218 Whitehead Street\, Key West\, FL\, 33040\, United States
ATTACH;FMTTYPE=image/jpeg:https://mykeywestportal.com/wp-content/uploads/2018/04/key_west_songwriters_festival_may_2018_23rd_annual.jpg
END:VEVENT
BEGIN:VEVENT
DTSTART;VALUE=DATE:20180511
DTEND;VALUE=DATE:20180512
DTSTAMP:20260423T235626
CREATED:20180423T212800Z
LAST-MODIFIED:20180423T212800Z
UID:2458-1526011200-1526083199@mykeywestportal.com
SUMMARY:Key West Songwriters' Festival
DESCRIPTION:For full schedule visit: http://mykeywestportal.com/blog/ \n10:00am - Smokin’ Tuna Saloon SOLD OUT \n\nRobert Earl Keen Bloody Mary Bash\nRobert Earl Keen and Friends\n\n11:00am - Marriott Beachside \n\n11:00am - Lewis Brice\, Kristen McNamara\nNoon - Nick Norman\, Joal Rush\n1:00pm - Lance Carpenter\, Randall King\n\n12:00pm - La Concha Resort & SPA ~ Pool Party  \n\nNoon - Julie Cole\, Nicky James\n1:00pm - Jesse Rice\, Christina Taylor\n2:00pm - James Barker Band\n\n12:00pm - Southernmost Beach Resort ~ Pineapple Pool \n\nNoon - Alyssa Micaela\, Seth Alley\, Maddie Larkin\n1:00pm - Jimmy Stanley\, Kristin Kelly\n2:00pm - Joey Hyde\, Benjy Davis\n3:00pm - Mitchell Tenpenny\, Jordan Rager\n\n1:00pm - Smokin' Tuna Saloon Stage \n\n1:00pm - Lala Murrell & Scott Reeves\n3:00pm - Claire Douglas\, Dallas Wilson\n5:00pm - Emily Hackett\, Cameron Bedell\n7:00pm - Adam James\, Mikey Reaves\n9:00pm - Sister Justice\, Justin Osborne\n\n2:00pm - Ocean Key ~ Sunset Pier \n\n2:00pm - Dave Finley\, Chris Canterbury\n3:00pm - Dave Kennedy\, Emily Reeves\n\n3:00pm - Southernmost House \n\n3:00pm - Nick Wayne\, Hannah Ellis\n4:00pm - Carolina Story\n5:00pm - Sherrie Austin\, Will Rambeaux\n\n3:00pm - The Perry Hotel \n\n3:00pm - Scott Sean White\, Aby Gutierrez\, Adam Wakefield\n4:00pm - The Bass Brothers\n\n4:00pm - Hyatt Key West ~ Blue Mojito \n\n4:00pm - Phil Barton\, Faren Rachels\n5:00pm - Leigh Nash\, Doug Johnson\n\n4:00pm - The Studios of Key West $ \n\n4:00pm - Even Stevens\, Kristen McNamara\n5:00pm - Steve Dorff\n6:00pm - James Slater\n\n5:00pm - Key West Theater $ \n\n5:00pm - Rob Baird\, Keith Gattis\, Troy Cartwright\n5:45pm - Heather Morgan\, Wade Bowen\, Aaron Barker\n6:45pm - Liz Rose\, Jack Ingram\, Bruce Robison\n\n5:30pm - Sloppy Joe’s \n\n5:30pm - Trea Landon\, Ray Fulcher\n6:30pm - Earl Bud Lee\, Clint Daniels\n7:30pm - Patrice Pike\, Wayne Sutton\n8:30pm - Adam Wakefield\, Ronnie Bowman\n\n5:30pm - Green Parrot ~ Sound Check \n\n5:30pm - Josh Wolfe Band\n\n6:00pm - Viva Saloon \n\n6:00pm - Joe Denim\, Erin O'Dowd\n7:00pm - Jenny Ray\, Aaron Scherz\n8:00pm - Trannie Stevens\, Jimi Bell\n\n8:00pm - San Carlos Institute SOLD OUT \n\n8:00pm - KASL (John Kurtis\, Casey Renee LeVasseur\, Alissa Moreno)\n8:45pm - Bobby Pinson\n10:00pm - Jeffrey Steele\n\n9:00pm - Tropic Cinema $ \n\n9:00pm - Ben Roberts\, Emily Roberts\, Carolina Story\n10:00pm - Bob DiPiero\, Al Anderson\n\n10:00pm - Irish Kevin's \n\n10:00pm - Channing Wilson\, Dave Kennedy\, Rob Snyder\, Erik Dylan\n11:30pm - Jack Ingram & Friends\n\n10:00pm - Green Parrot \n\n10:00pm - Hey Monea\n11:30pm - The Dylan Altman Blues Band\n\n10:00pm - Smokin' Tuna Saloon HD Radio Late Night Jam \n\n10:00pm - Keith Gattis\, Wade Bowen and Friends
URL:https://mykeywestportal.com/event/key-west-songwriters-festival-3/
LOCATION:Key West\, 218 Whitehead Street\, Key West\, FL\, 33040\, United States
ATTACH;FMTTYPE=image/jpeg:https://mykeywestportal.com/wp-content/uploads/2018/04/key_west_songwriters_festival_may_2018_23rd_annual.jpg
END:VEVENT
END:VCALENDAR